BEGIN:VCALENDAR
VERSION:2.0
PRODID:-//The Ratings Center - ECPv6.15.18//NONSGML v1.0//EN
CALSCALE:GREGORIAN
METHOD:PUBLISH
X-WR-CALNAME:The Ratings Center
X-ORIGINAL-URL:https://theratingscenter.com
X-WR-CALDESC:Events for The Ratings Center
REFRESH-INTERVAL;VALUE=DURATION:PT1H
X-Robots-Tag:noindex
X-PUBLISHED-TTL:PT1H
BEGIN:VTIMEZONE
TZID:America/Chicago
BEGIN:DAYLIGHT
TZOFFSETFROM:-0600
TZOFFSETTO:-0500
TZNAME:CDT
DTSTART:20200308T080000
END:DAYLIGHT
BEGIN:STANDARD
TZOFFSETFROM:-0500
TZOFFSETTO:-0600
TZNAME:CST
DTSTART:20201101T070000
END:STANDARD
BEGIN:DAYLIGHT
TZOFFSETFROM:-0600
TZOFFSETTO:-0500
TZNAME:CDT
DTSTART:20210314T080000
END:DAYLIGHT
BEGIN:STANDARD
TZOFFSETFROM:-0500
TZOFFSETTO:-0600
TZNAME:CST
DTSTART:20211107T070000
END:STANDARD
BEGIN:DAYLIGHT
TZOFFSETFROM:-0600
TZOFFSETTO:-0500
TZNAME:CDT
DTSTART:20220313T080000
END:DAYLIGHT
BEGIN:STANDARD
TZOFFSETFROM:-0500
TZOFFSETTO:-0600
TZNAME:CST
DTSTART:20221106T070000
END:STANDARD
BEGIN:DAYLIGHT
TZOFFSETFROM:-0600
TZOFFSETTO:-0500
TZNAME:CDT
DTSTART:20230312T080000
END:DAYLIGHT
BEGIN:STANDARD
TZOFFSETFROM:-0500
TZOFFSETTO:-0600
TZNAME:CST
DTSTART:20231105T070000
END:STANDARD
BEGIN:DAYLIGHT
TZOFFSETFROM:-0600
TZOFFSETTO:-0500
TZNAME:CDT
DTSTART:20240310T080000
END:DAYLIGHT
BEGIN:STANDARD
TZOFFSETFROM:-0500
TZOFFSETTO:-0600
TZNAME:CST
DTSTART:20241103T070000
END:STANDARD
END:VTIMEZONE
BEGIN:VEVENT
DTSTART;TZID=America/Chicago:20230526T080000
DTEND;TZID=America/Chicago:20230526T180000
DTSTAMP:20260419T121537
CREATED:20230515T183333Z
LAST-MODIFIED:20230515T183503Z
UID:7007-1685088000-1685124000@theratingscenter.com
SUMMARY:San Marcos Live Water Training
DESCRIPTION:For more information or to sign up for water training please visit; https://fb.me/e/19mplNgkT
URL:https://theratingscenter.com/calendar/san-marcos-live-water-training-2/
CATEGORIES:Live Water Training
END:VEVENT
BEGIN:VEVENT
DTSTART;TZID=America/Chicago:20230414T080000
DTEND;TZID=America/Chicago:20230414T180000
DTSTAMP:20260419T121537
CREATED:20230511T002940Z
LAST-MODIFIED:20230511T003124Z
UID:7003-1681459200-1681495200@theratingscenter.com
SUMMARY:Houston Live Water Training
DESCRIPTION:For more information or to sign up for water training please visit; https://www.facebook.com/events/627364782562761
URL:https://theratingscenter.com/calendar/houston-live-water-training/
CATEGORIES:Live Water Training
END:VEVENT
BEGIN:VEVENT
DTSTART;TZID=America/Chicago:20230411T173000
DTEND;TZID=America/Chicago:20230411T180000
DTSTAMP:20260419T121537
CREATED:20230324T001934Z
LAST-MODIFIED:20230324T001934Z
UID:6926-1681234200-1681236000@theratingscenter.com
SUMMARY:Dallas Live Water Training
DESCRIPTION:For more information or to sign up for water training please visit; https://waiver.smartwaiver.com/e/zxZM3YfmZQqiFW7uaMYHxQ/
URL:https://theratingscenter.com/calendar/dallas-live-water-training/
CATEGORIES:Live Water Training
END:VEVENT
BEGIN:VEVENT
DTSTART;TZID=America/Chicago:20221212T080000
DTEND;TZID=America/Chicago:20221212T180000
DTSTAMP:20260419T121537
CREATED:20221129T193213Z
LAST-MODIFIED:20221129T193213Z
UID:6812-1670832000-1670868000@theratingscenter.com
SUMMARY:Houston - Water Training
DESCRIPTION:For more information or to sign up for water training please visit; https://fb.me/e/282TEBoxu
URL:https://theratingscenter.com/calendar/houston-water-training-7/
CATEGORIES:Live Water Training
END:VEVENT
BEGIN:VEVENT
DTSTART;TZID=America/Chicago:20221202T080000
DTEND;TZID=America/Chicago:20221202T180000
DTSTAMP:20260419T121537
CREATED:20221117T211708Z
LAST-MODIFIED:20221117T211708Z
UID:6799-1669968000-1670004000@theratingscenter.com
SUMMARY:San Marcos Live Water Training
DESCRIPTION:For more information or to sign up for water training please visit; https://fb.me/e/5nq4vIo0m
URL:https://theratingscenter.com/calendar/san-marcos-live-water-training/
CATEGORIES:Live Water Training
END:VEVENT
BEGIN:VEVENT
DTSTART;TZID=America/Chicago:20221117T080000
DTEND;TZID=America/Chicago:20221117T180000
DTSTAMP:20260419T121537
CREATED:20221107T215547Z
LAST-MODIFIED:20221108T203446Z
UID:6775-1668672000-1668708000@theratingscenter.com
SUMMARY:Dallas - Water Training
DESCRIPTION:For more information or to sign up for water training please visit; https://fb.me/e/395hkexim
URL:https://theratingscenter.com/calendar/dallas-water-training-5/
CATEGORIES:Live Water Training
END:VEVENT
BEGIN:VEVENT
DTSTART;TZID=America/Chicago:20220923T190000
DTEND;TZID=America/Chicago:20220923T200000
DTSTAMP:20260419T121537
CREATED:20220915T230402Z
LAST-MODIFIED:20220915T230402Z
UID:6649-1663959600-1663963200@theratingscenter.com
SUMMARY:Houston - Water Training
DESCRIPTION:For more information or to sign up for water training please visit; https://fb.me/e/1RdxTtPyy
URL:https://theratingscenter.com/calendar/houston-water-training-6/
CATEGORIES:Live Water Training
END:VEVENT
BEGIN:VEVENT
DTSTART;TZID=America/Chicago:20220825T173000
DTEND;TZID=America/Chicago:20220825T183000
DTSTAMP:20260419T121537
CREATED:20220811T151948Z
LAST-MODIFIED:20220811T151948Z
UID:6612-1661448600-1661452200@theratingscenter.com
SUMMARY:Dallas - Water Training
DESCRIPTION:For more information or to sign up for water training please visit; https://fb.me/e/21Qc8Z4Yb
URL:https://theratingscenter.com/calendar/dallas-water-training-4/
CATEGORIES:Live Water Training
END:VEVENT
BEGIN:VEVENT
DTSTART;TZID=America/Chicago:20220812T190000
DTEND;TZID=America/Chicago:20220812T203000
DTSTAMP:20260419T121537
CREATED:20220725T211039Z
LAST-MODIFIED:20220725T211039Z
UID:6600-1660330800-1660336200@theratingscenter.com
SUMMARY:Houston - Water Training
DESCRIPTION:For more information or to sign up for water training please visit; https://fb.me/e/2JIF06T71
URL:https://theratingscenter.com/calendar/houston-water-training-5/
CATEGORIES:Live Water Training
END:VEVENT
BEGIN:VEVENT
DTSTART;TZID=America/Chicago:20220722T173000
DTEND;TZID=America/Chicago:20220722T183000
DTSTAMP:20260419T121537
CREATED:20220701T185717Z
LAST-MODIFIED:20220701T185717Z
UID:6587-1658511000-1658514600@theratingscenter.com
SUMMARY:San Marcos - Water Training
DESCRIPTION:For more information or to sign up for water training please visit; https://fb.me/e/1YnmCm1eK
URL:https://theratingscenter.com/calendar/san-marcos-water-training-2/
CATEGORIES:Live Water Training
END:VEVENT
BEGIN:VEVENT
DTSTART;TZID=America/Chicago:20220527T190000
DTEND;TZID=America/Chicago:20220527T200000
DTSTAMP:20260419T121537
CREATED:20220421T145934Z
LAST-MODIFIED:20220421T145959Z
UID:6522-1653678000-1653681600@theratingscenter.com
SUMMARY:Houston - Water Training
DESCRIPTION:For more information or to sign up for water training please visit; https://fb.me/e/1t2H7s8JB
URL:https://theratingscenter.com/calendar/houston-water-training-4/
CATEGORIES:Live Water Training
END:VEVENT
BEGIN:VEVENT
DTSTART;TZID=America/Chicago:20220517T173000
DTEND;TZID=America/Chicago:20220517T183000
DTSTAMP:20260419T121537
CREATED:20220418T155609Z
LAST-MODIFIED:20220418T155609Z
UID:6520-1652808600-1652812200@theratingscenter.com
SUMMARY:Dallas - Water Training
DESCRIPTION:For more information or to sign up for water training\, please visit; \nhttps://fb.me/e/2tTBFeYqt
URL:https://theratingscenter.com/calendar/dallas-water-training-3/
CATEGORIES:Live Water Training
END:VEVENT
BEGIN:VEVENT
DTSTART;TZID=America/Chicago:20220325T190000
DTEND;TZID=America/Chicago:20220325T200000
DTSTAMP:20260419T121537
CREATED:20220308T021953Z
LAST-MODIFIED:20220308T021953Z
UID:6465-1648234800-1648238400@theratingscenter.com
SUMMARY:Houston - Water Training
DESCRIPTION:For more information or to sign up for water training please visit; https://fb.me/e/1j2nuahPF
URL:https://theratingscenter.com/calendar/houston-water-training-3/
CATEGORIES:Live Water Training
END:VEVENT
BEGIN:VEVENT
DTSTART;TZID=America/Chicago:20220304T173000
DTEND;TZID=America/Chicago:20220304T180000
DTSTAMP:20260419T121537
CREATED:20220131T184544Z
LAST-MODIFIED:20220131T184629Z
UID:6411-1646415000-1646416800@theratingscenter.com
SUMMARY:Dallas - Water Training
DESCRIPTION:For more information or to sign up for water training\, please visit; \nhttps://fb.me/e/2bhGtPfbA \n 
URL:https://theratingscenter.com/calendar/dallas-water-training-2/
CATEGORIES:Live Water Training
END:VEVENT
BEGIN:VEVENT
DTSTART;TZID=America/Chicago:20220218T173000
DTEND;TZID=America/Chicago:20220218T183000
DTSTAMP:20260419T121537
CREATED:20220202T201417Z
LAST-MODIFIED:20220202T201417Z
UID:6416-1645205400-1645209000@theratingscenter.com
SUMMARY:San Marcos - Water Training
DESCRIPTION:For more information or to sign up for water training please visit; \nhttps://fb.me/e/19EFRDdXk
URL:https://theratingscenter.com/calendar/san-marcos-water-training/
CATEGORIES:Live Water Training
END:VEVENT
BEGIN:VEVENT
DTSTART;TZID=America/Chicago:20211210T190000
DTEND;TZID=America/Chicago:20211210T190000
DTSTAMP:20260419T121537
CREATED:20211206T205621Z
LAST-MODIFIED:20211206T205621Z
UID:6377-1639162800-1639162800@theratingscenter.com
SUMMARY:Houston - Water Training
DESCRIPTION:For more information or to sign up for water training\, please visit; https://fb.me/e/1I1GtdTaL
URL:https://theratingscenter.com/calendar/houston-water-training-2/
CATEGORIES:Live Water Training
END:VEVENT
BEGIN:VEVENT
DTSTART;TZID=America/Chicago:20211119T080000
DTEND;TZID=America/Chicago:20211119T180000
DTSTAMP:20260419T121537
CREATED:20211102T192144Z
LAST-MODIFIED:20211102T192215Z
UID:6355-1637308800-1637344800@theratingscenter.com
SUMMARY:Dallas - Water Training
DESCRIPTION:For more information or to sign up for water training\, please visit https://fb.me/e/1XVqpopmL \n  \n 
URL:https://theratingscenter.com/calendar/dallas-water-training/
CATEGORIES:Live Water Training
END:VEVENT
BEGIN:VEVENT
DTSTART;TZID=America/Chicago:20211022T190000
DTEND;TZID=America/Chicago:20211022T200000
DTSTAMP:20260419T121537
CREATED:20211006T131811Z
LAST-MODIFIED:20211006T131908Z
UID:6331-1634929200-1634932800@theratingscenter.com
SUMMARY:Houston - Water Training
DESCRIPTION:For more information or to sign up for water training\, please visit www.facebook.com/events/615778995840597
URL:https://theratingscenter.com/calendar/houston-water-training/
CATEGORIES:Live Water Training
END:VEVENT
END:VCALENDAR