BEGIN:VCALENDAR
VERSION:2.0
PRODID:-//The Ratings Center - ECPv6.15.18//NONSGML v1.0//EN
CALSCALE:GREGORIAN
METHOD:PUBLISH
X-WR-CALNAME:The Ratings Center
X-ORIGINAL-URL:https://theratingscenter.com
X-WR-CALDESC:Events for The Ratings Center
REFRESH-INTERVAL;VALUE=DURATION:PT1H
X-Robots-Tag:noindex
X-PUBLISHED-TTL:PT1H
BEGIN:VTIMEZONE
TZID:America/Chicago
BEGIN:DAYLIGHT
TZOFFSETFROM:-0600
TZOFFSETTO:-0500
TZNAME:CDT
DTSTART:20230312T080000
END:DAYLIGHT
BEGIN:STANDARD
TZOFFSETFROM:-0500
TZOFFSETTO:-0600
TZNAME:CST
DTSTART:20231105T070000
END:STANDARD
BEGIN:DAYLIGHT
TZOFFSETFROM:-0600
TZOFFSETTO:-0500
TZNAME:CDT
DTSTART:20240310T080000
END:DAYLIGHT
BEGIN:STANDARD
TZOFFSETFROM:-0500
TZOFFSETTO:-0600
TZNAME:CST
DTSTART:20241103T070000
END:STANDARD
BEGIN:DAYLIGHT
TZOFFSETFROM:-0600
TZOFFSETTO:-0500
TZNAME:CDT
DTSTART:20250309T080000
END:DAYLIGHT
BEGIN:STANDARD
TZOFFSETFROM:-0500
TZOFFSETTO:-0600
TZNAME:CST
DTSTART:20251102T070000
END:STANDARD
END:VTIMEZONE
BEGIN:VEVENT
DTSTART;TZID=America/Chicago:20240613T080000
DTEND;TZID=America/Chicago:20240613T180000
DTSTAMP:20260420T103958
CREATED:20240614T215710Z
LAST-MODIFIED:20240614T215710Z
UID:7531-1718265600-1718301600@theratingscenter.com
SUMMARY:Gravity Lab Tracking/Angle Coaching
DESCRIPTION:For more information\, including rates\, visit the freefall coaching section of our website. To register for this course\, or to schedule your own day of coaching\, please go to our contact page
URL:https://theratingscenter.com/calendar/gravity-lab-tracking-angle-coaching-77/
LOCATION:Skydive Spaceland Houston\, 16111 FM 521\, Rosharon\, TX\, 77583\, United States
CATEGORIES:Gravity Lab Tracking/Angle Coaching
END:VEVENT
BEGIN:VEVENT
DTSTART;TZID=America/Chicago:20240611T080000
DTEND;TZID=America/Chicago:20240613T180000
DTSTAMP:20260420T103958
CREATED:20240401T171205Z
LAST-MODIFIED:20240401T171205Z
UID:7465-1718092800-1718301600@theratingscenter.com
SUMMARY:USPA Coach Course
DESCRIPTION:The USPA Coach is the first instructional rating a skydiver can earn in our sport. During the course we will cover effective communication of skydiving skills for others. The coach rating is required to attend any other instructor rating course. For more information\, including rates\, check out the Coach Page on our website. To register for this course\, please go to our contact page
URL:https://theratingscenter.com/calendar/uspa-coach-course-86/
LOCATION:Skydive Spaceland Dallas\, 1039 Private Rd. 438\, Whitewright\, TX\, 75491\, United States
CATEGORIES:Coach Course
END:VEVENT
BEGIN:VEVENT
DTSTART;TZID=America/Chicago:20240609T080000
DTEND;TZID=America/Chicago:20240609T180000
DTSTAMP:20260420T103958
CREATED:20240609T181239Z
LAST-MODIFIED:20240609T181239Z
UID:7529-1717920000-1717956000@theratingscenter.com
SUMMARY:Gravity Lab Tracking/Angle Coaching
DESCRIPTION:For more information\, including rates\, visit the freefall coaching section of our website. To register for this course\, or to schedule your own day of coaching\, please go to our contact page
URL:https://theratingscenter.com/calendar/gravity-lab-tracking-angle-coaching-76/
LOCATION:Skydive Spaceland Houston\, 16111 FM 521\, Rosharon\, TX\, 77583\, United States
CATEGORIES:Gravity Lab Tracking/Angle Coaching
END:VEVENT
BEGIN:VEVENT
DTSTART;TZID=America/Chicago:20240608T080000
DTEND;TZID=America/Chicago:20240608T180000
DTSTAMP:20260420T103958
CREATED:20240609T181214Z
LAST-MODIFIED:20240609T181214Z
UID:7527-1717833600-1717869600@theratingscenter.com
SUMMARY:Gravity Lab Tracking/Angle Coaching
DESCRIPTION:For more information\, including rates\, visit the freefall coaching section of our website. To register for this course\, or to schedule your own day of coaching\, please go to our contact page
URL:https://theratingscenter.com/calendar/gravity-lab-tracking-angle-coaching-75/
LOCATION:Skydive Spaceland Houston\, 16111 FM 521\, Rosharon\, TX\, 77583\, United States
CATEGORIES:Gravity Lab Tracking/Angle Coaching
END:VEVENT
BEGIN:VEVENT
DTSTART;TZID=America/Chicago:20240608T080000
DTEND;TZID=America/Chicago:20240608T180000
DTSTAMP:20260420T103958
CREATED:20240606T170300Z
LAST-MODIFIED:20240606T170300Z
UID:7515-1717833600-1717869600@theratingscenter.com
SUMMARY:Fundamental Canopy Course
DESCRIPTION:The course cost is $180 + 5 hop and pops and runs from 8AM to 6PM (ish) \nWhether you are a recent graduate or a seasoned jumper\, the Fundamental Canopy Course can help sharpen your flight skills and knowledge. \nYou do not need to wait till you are B qualified. We are often asked when is the best time to take this course\, our answer\, NOW! We will help you better understand how your wing flies and how to maximize your canopy skills. The skills you learn from this course apply to any canopy. We will teach you how to learn the canopy you are jumping and how to use this knowledge and skills to learn any other wing. \nTo register for this course\, please go to our contact page
URL:https://theratingscenter.com/calendar/fundamental-canopy-course/
LOCATION:Skydive Spaceland Houston\, 16111 FM 521\, Rosharon\, TX\, 77583\, United States
CATEGORIES:Canopy Course
END:VEVENT
BEGIN:VEVENT
DTSTART;TZID=America/Chicago:20240607T080000
DTEND;TZID=America/Chicago:20240607T180000
DTSTAMP:20260420T103958
CREATED:20240609T181146Z
LAST-MODIFIED:20240609T181146Z
UID:7525-1717747200-1717783200@theratingscenter.com
SUMMARY:Gravity Lab Tracking/Angle Coaching
DESCRIPTION:For more information\, including rates\, visit the freefall coaching section of our website. To register for this course\, or to schedule your own day of coaching\, please go to our contact page
URL:https://theratingscenter.com/calendar/gravity-lab-tracking-angle-coaching-74/
LOCATION:Skydive Spaceland Houston\, 16111 FM 521\, Rosharon\, TX\, 77583\, United States
CATEGORIES:Gravity Lab Tracking/Angle Coaching
END:VEVENT
BEGIN:VEVENT
DTSTART;TZID=America/Chicago:20240603T080000
DTEND;TZID=America/Chicago:20240609T180000
DTSTAMP:20260420T103958
CREATED:20240401T171300Z
LAST-MODIFIED:20240401T171300Z
UID:7467-1717401600-1717956000@theratingscenter.com
SUMMARY:USPA AFF Instructor Rating Course
DESCRIPTION:The USPA AFF Instructor Rating Course typically completes in up to 7 days. During the course we will discuss USPA’s AFF Student Program\, including how to conduct ground training and skydives with AFF students. You will be evaluated in ground training sessions and conducting AFF jumps\, including the preload process and debrief. For more information\, including rates\, check out the AFF Instructor Rating Page on our website. To register for this course\, please go to our contact page
URL:https://theratingscenter.com/calendar/uspa-aff-instructor-rating-course-7/
LOCATION:Skydive Spaceland Dallas\, 1039 Private Rd. 438\, Whitewright\, TX\, 75491\, United States
CATEGORIES:AFF Course
END:VEVENT
BEGIN:VEVENT
DTSTART;TZID=America/Chicago:20240602T080000
DTEND;TZID=America/Chicago:20240602T180000
DTSTAMP:20260420T103958
CREATED:20240603T201239Z
LAST-MODIFIED:20240603T201239Z
UID:7507-1717315200-1717351200@theratingscenter.com
SUMMARY:Gravity Lab Tracking/Angle Coaching
DESCRIPTION:For more information\, including rates\, visit the freefall coaching section of our website. To register for this course\, or to schedule your own day of coaching\, please go to our contact page
URL:https://theratingscenter.com/calendar/gravity-lab-tracking-angle-coaching-73/
LOCATION:Skydive Spaceland Houston\, 16111 FM 521\, Rosharon\, TX\, 77583\, United States
CATEGORIES:Gravity Lab Tracking/Angle Coaching
END:VEVENT
BEGIN:VEVENT
DTSTART;TZID=America/Chicago:20240601T080000
DTEND;TZID=America/Chicago:20240601T180000
DTSTAMP:20260420T103958
CREATED:20240603T201103Z
LAST-MODIFIED:20240603T201103Z
UID:7505-1717228800-1717264800@theratingscenter.com
SUMMARY:Gravity Lab Tracking/Angle Coaching
DESCRIPTION:For more information\, including rates\, visit the freefall coaching section of our website. To register for this course\, or to schedule your own day of coaching\, please go to our contact page
URL:https://theratingscenter.com/calendar/gravity-lab-tracking-angle-coaching-72/
LOCATION:Skydive Spaceland Houston\, 16111 FM 521\, Rosharon\, TX\, 77583\, United States
CATEGORIES:Gravity Lab Tracking/Angle Coaching
END:VEVENT
BEGIN:VEVENT
DTSTART;TZID=America/Chicago:20240530T080000
DTEND;TZID=America/Chicago:20240530T180000
DTSTAMP:20260420T103958
CREATED:20240603T195416Z
LAST-MODIFIED:20240603T195416Z
UID:7503-1717056000-1717092000@theratingscenter.com
SUMMARY:Gravity Lab Canopy Coaching
DESCRIPTION:For more information\, including rates\, visit the Canopy Coaching Section of our website. To register for this course\, or to schedule your own day of coaching\, please go to our contact page
URL:https://theratingscenter.com/calendar/gravity-lab-canopy-coaching-41/
LOCATION:Skydive Spaceland Houston\, 16111 FM 521\, Rosharon\, TX\, 77583\, United States
CATEGORIES:Gravity Lab Canopy Coaching
END:VEVENT
BEGIN:VEVENT
DTSTART;TZID=America/Chicago:20240524T080000
DTEND;TZID=America/Chicago:20240524T180000
DTSTAMP:20260420T103958
CREATED:20240524T195732Z
LAST-MODIFIED:20240524T195732Z
UID:7499-1716537600-1716573600@theratingscenter.com
SUMMARY:Gravity Lab Tracking/Angle Coaching
DESCRIPTION:For more information\, including rates\, visit the freefall coaching section of our website. To register for this course\, or to schedule your own day of coaching\, please go to our contact page
URL:https://theratingscenter.com/calendar/gravity-lab-tracking-angle-coaching-71/
LOCATION:Skydive Spaceland Houston\, 16111 FM 521\, Rosharon\, TX\, 77583\, United States
CATEGORIES:Gravity Lab Tracking/Angle Coaching
END:VEVENT
BEGIN:VEVENT
DTSTART;TZID=America/Chicago:20240521T080000
DTEND;TZID=America/Chicago:20240523T180000
DTSTAMP:20260420T103958
CREATED:20240401T171111Z
LAST-MODIFIED:20240401T171111Z
UID:7463-1716278400-1716487200@theratingscenter.com
SUMMARY:USPA Coach Course
DESCRIPTION:The USPA Coach is the first instructional rating a skydiver can earn in our sport. During the course we will cover effective communication of skydiving skills for others. The coach rating is required to attend any other instructor rating course. For more information\, including rates\, check out the Coach Page on our website. To register for this course\, please go to our contact page
URL:https://theratingscenter.com/calendar/uspa-coach-course-85/
LOCATION:Skydive Spaceland San Marcos\, 517 Airfield Rd.\, Fentress\, TX\, 78622\, United States
CATEGORIES:Coach Course
END:VEVENT
BEGIN:VEVENT
DTSTART;TZID=America/Chicago:20240521T080000
DTEND;TZID=America/Chicago:20240521T180000
DTSTAMP:20260420T103958
CREATED:20240524T195207Z
LAST-MODIFIED:20240524T195207Z
UID:7497-1716278400-1716314400@theratingscenter.com
SUMMARY:Basic Canopy Course (Private)
DESCRIPTION:The course cost is $180 + 5 hop and pops and runs from 8AM to 6PM (ish) \nYou do not need to wait till you are B qualified. We are often asked when is the best time to take this course\, our answer\, NOW! We will help you better understand how your wing flies and how to maximize your canopy skills. The skills you learn from this course apply to any canopy. We will teach you how to learn the canopy you are jumping and how to use this knowledge and skills to learn any other wing. \nTo register for this course\, please go to our contact page
URL:https://theratingscenter.com/calendar/basic-canopy-course-private-11/
LOCATION:Skydive Spaceland Houston\, 16111 FM 521\, Rosharon\, TX\, 77583\, United States
CATEGORIES:Canopy Course
END:VEVENT
BEGIN:VEVENT
DTSTART;TZID=America/Chicago:20240518T080000
DTEND;TZID=America/Chicago:20240519T180000
DTSTAMP:20260420T103958
CREATED:20240429T141718Z
LAST-MODIFIED:20240429T141718Z
UID:7487-1716019200-1716141600@theratingscenter.com
SUMMARY:Tandem Instructor Canopy Coaching
DESCRIPTION:
URL:https://theratingscenter.com/calendar/tandem-instructor-canopy-coaching/
LOCATION:Skydive Spaceland San Marcos\, 517 Airfield Rd.\, Fentress\, TX\, 78622\, United States
CATEGORIES:Tandem Instructor Canopy Coaching
END:VEVENT
BEGIN:VEVENT
DTSTART;TZID=America/Chicago:20240518T080000
DTEND;TZID=America/Chicago:20240518T180000
DTSTAMP:20260420T103958
CREATED:20240401T180712Z
LAST-MODIFIED:20240401T180712Z
UID:7471-1716019200-1716055200@theratingscenter.com
SUMMARY:Basic Canopy Course
DESCRIPTION:The course cost is $180 + 5 hop and pops and runs from 8AM to 6PM (ish) \nYou do not need to wait till you are B qualified. We are often asked when is the best time to take this course\, our answer\, NOW! We will help you better understand how your wing flies and how to maximize your canopy skills. The skills you learn from this course apply to any canopy. We will teach you how to learn the canopy you are jumping and how to use this knowledge and skills to learn any other wing.
URL:https://theratingscenter.com/calendar/basic-canopy-course-155/
LOCATION:Skydive Spaceland San Marcos\, 517 Airfield Rd.\, Fentress\, TX\, 78622\, United States
CATEGORIES:Canopy Course
END:VEVENT
BEGIN:VEVENT
DTSTART;TZID=America/Chicago:20240517T080000
DTEND;TZID=America/Chicago:20240517T180000
DTSTAMP:20260420T103958
CREATED:20240418T215312Z
LAST-MODIFIED:20240418T215312Z
UID:7483-1715932800-1715968800@theratingscenter.com
SUMMARY:Houston Live Water Training
DESCRIPTION:For more information or to sign up for water training please visit; https://fb.me/e/3Eq1dfbsp
URL:https://theratingscenter.com/calendar/houston-live-water-training-6/
LOCATION:TX
CATEGORIES:Live Water Training
END:VEVENT
BEGIN:VEVENT
DTSTART;TZID=America/Chicago:20240515T080000
DTEND;TZID=America/Chicago:20240515T180000
DTSTAMP:20260420T103958
CREATED:20240703T175759Z
LAST-MODIFIED:20240703T175759Z
UID:7577-1715760000-1715796000@theratingscenter.com
SUMMARY:Gravity Lab Tracking/Angle Coaching
DESCRIPTION:For more information\, including rates\, visit the freefall coaching section of our website. To register for this course\, or to schedule your own day of coaching\, please go to our contact page
URL:https://theratingscenter.com/calendar/gravity-lab-tracking-angle-coaching-87/
LOCATION:Skydive Spaceland Houston\, 16111 FM 521\, Rosharon\, TX\, 77583\, United States
CATEGORIES:Gravity Lab Tracking/Angle Coaching
END:VEVENT
BEGIN:VEVENT
DTSTART;TZID=America/Chicago:20240514T080000
DTEND;TZID=America/Chicago:20240514T180000
DTSTAMP:20260420T103958
CREATED:20240703T175621Z
LAST-MODIFIED:20240703T175621Z
UID:7575-1715673600-1715709600@theratingscenter.com
SUMMARY:Gravity Lab Tracking/Angle Coaching
DESCRIPTION:For more information\, including rates\, visit the freefall coaching section of our website. To register for this course\, or to schedule your own day of coaching\, please go to our contact page
URL:https://theratingscenter.com/calendar/gravity-lab-tracking-angle-coaching-86/
LOCATION:Skydive Spaceland Houston\, 16111 FM 521\, Rosharon\, TX\, 77583\, United States
CATEGORIES:Gravity Lab Tracking/Angle Coaching
END:VEVENT
BEGIN:VEVENT
DTSTART;TZID=America/Chicago:20240511T080000
DTEND;TZID=America/Chicago:20240511T180000
DTSTAMP:20260420T103958
CREATED:20240401T171008Z
LAST-MODIFIED:20240401T171008Z
UID:7461-1715414400-1715450400@theratingscenter.com
SUMMARY:Basic Canopy Course
DESCRIPTION:The course cost is $180 + 5 hop and pops and runs from 8AM to 6PM (ish) \nYou do not need to wait till you are B qualified. We are often asked when is the best time to take this course\, our answer\, NOW! We will help you better understand how your wing flies and how to maximize your canopy skills. The skills you learn from this course apply to any canopy. We will teach you how to learn the canopy you are jumping and how to use this knowledge and skills to learn any other wing. \nTo register for this course\, please go to our contact page
URL:https://theratingscenter.com/calendar/basic-canopy-course-153/
LOCATION:Skydive Spaceland Houston\, 16111 FM 521\, Rosharon\, TX\, 77583\, United States
CATEGORIES:Canopy Course
END:VEVENT
BEGIN:VEVENT
DTSTART;TZID=America/Chicago:20240507T080000
DTEND;TZID=America/Chicago:20240508T180000
DTSTAMP:20260420T103958
CREATED:20240417T142142Z
LAST-MODIFIED:20240417T142142Z
UID:7481-1715068800-1715191200@theratingscenter.com
SUMMARY:Tandem Instructor EP Review
DESCRIPTION:
URL:https://theratingscenter.com/calendar/tandem-instructor-ep-review-10/
LOCATION:Skydive Spaceland Houston\, 16111 FM 521\, Rosharon\, TX\, 77583\, United States
CATEGORIES:Tandem Instructor EP Review
END:VEVENT
BEGIN:VEVENT
DTSTART;TZID=America/Chicago:20240504T080000
DTEND;TZID=America/Chicago:20240504T180000
DTSTAMP:20260420T103958
CREATED:20240703T175437Z
LAST-MODIFIED:20240703T175437Z
UID:7573-1714809600-1714845600@theratingscenter.com
SUMMARY:Gravity Lab Tracking/Angle Coaching
DESCRIPTION:For more information\, including rates\, visit the freefall coaching section of our website. To register for this course\, or to schedule your own day of coaching\, please go to our contact page
URL:https://theratingscenter.com/calendar/gravity-lab-tracking-angle-coaching-85/
LOCATION:Skydive Spaceland Houston\, 16111 FM 521\, Rosharon\, TX\, 77583\, United States
CATEGORIES:Gravity Lab Tracking/Angle Coaching
END:VEVENT
BEGIN:VEVENT
DTSTART;TZID=America/Chicago:20240504T080000
DTEND;TZID=America/Chicago:20240504T180000
DTSTAMP:20260420T103958
CREATED:20240401T170915Z
LAST-MODIFIED:20240401T170915Z
UID:7458-1714809600-1714845600@theratingscenter.com
SUMMARY:Basic Canopy Course
DESCRIPTION:The course cost is $180 + 5 hop and pops and runs from 8AM to 6PM (ish) \nYou do not need to wait till you are B qualified. We are often asked when is the best time to take this course\, our answer\, NOW! We will help you better understand how your wing flies and how to maximize your canopy skills. The skills you learn from this course apply to any canopy. We will teach you how to learn the canopy you are jumping and how to use this knowledge and skills to learn any other wing. \nTo register for this course\, please go to our contact page
URL:https://theratingscenter.com/calendar/basic-canopy-course-152/
LOCATION:Skydive Spaceland Dallas\, 1039 Private Rd. 438\, Whitewright\, TX\, 75491\, United States
CATEGORIES:Canopy Course
END:VEVENT
BEGIN:VEVENT
DTSTART;TZID=America/Chicago:20240430T080000
DTEND;TZID=America/Chicago:20240502T180000
DTSTAMP:20260420T103958
CREATED:20240401T170328Z
LAST-MODIFIED:20240401T170328Z
UID:7455-1714464000-1714672800@theratingscenter.com
SUMMARY:USPA Coach Course
DESCRIPTION:The USPA Coach is the first instructional rating a skydiver can earn in our sport. During the course we will cover effective communication of skydiving skills for others. The coach rating is required to attend any other instructor rating course. For more information\, including rates\, check out the Coach Page on our website. To register for this course\, please go to our contact page
URL:https://theratingscenter.com/calendar/uspa-coach-course-84/
LOCATION:Skydive Spaceland Houston\, 16111 FM 521\, Rosharon\, TX\, 77583\, United States
CATEGORIES:Coach Course
END:VEVENT
BEGIN:VEVENT
DTSTART;TZID=America/Chicago:20240424T080000
DTEND;TZID=America/Chicago:20240426T180000
DTSTAMP:20260420T103958
CREATED:20240306T203249Z
LAST-MODIFIED:20240306T203249Z
UID:7436-1713945600-1714154400@theratingscenter.com
SUMMARY:USPA/UPT Sigma Tandem Instructor Course
DESCRIPTION:For more information\, including rates\, check out the Tandem Instructor Rating Page on our website. To register for this course\, please go to our contact page
URL:https://theratingscenter.com/calendar/uspa-upt-sigma-tandem-instructor-course-32/
LOCATION:Skydive Spaceland Houston\, 16111 FM 521\, Rosharon\, TX\, 77583\, United States
CATEGORIES:UPT Vector/Sigma Tandem Course,USPA Tandem Course
END:VEVENT
BEGIN:VEVENT
DTSTART;TZID=America/Chicago:20240424T080000
DTEND;TZID=America/Chicago:20240424T180000
DTSTAMP:20260420T103958
CREATED:20240513T180545Z
LAST-MODIFIED:20240513T180545Z
UID:7495-1713945600-1713981600@theratingscenter.com
SUMMARY:USPA/UPT Tandem Instructor Recurrency
DESCRIPTION:
URL:https://theratingscenter.com/calendar/uspa-upt-tandem-instructor-recurrency-6/
LOCATION:Skydive Spaceland Houston\, 16111 FM 521\, Rosharon\, TX\, 77583\, United States
CATEGORIES:USPA/UPT Tandem Instructor Recurrency
END:VEVENT
BEGIN:VEVENT
DTSTART;TZID=America/Chicago:20240423T080000
DTEND;TZID=America/Chicago:20240425T180000
DTSTAMP:20260420T103958
CREATED:20240119T205647Z
LAST-MODIFIED:20240125T201325Z
UID:7375-1713859200-1714068000@theratingscenter.com
SUMMARY:USPA Coach Course
DESCRIPTION:The USPA Coach is the first instructional rating a skydiver can earn in our sport. During the course we will cover effective communication of skydiving skills for others. The coach rating is required to attend any other instructor rating course. For more information\, including rates\, check out the Coach Page on our website. To register for this course\, please go to our contact page
URL:https://theratingscenter.com/calendar/uspa-coach-course-83/
LOCATION:Skydive Spaceland San Marcos\, 517 Airfield Rd.\, Fentress\, TX\, 78622\, United States
CATEGORIES:Coach Course
END:VEVENT
BEGIN:VEVENT
DTSTART;TZID=America/Chicago:20240420T080000
DTEND;TZID=America/Chicago:20240420T180000
DTSTAMP:20260420T103958
CREATED:20240422T145700Z
LAST-MODIFIED:20240422T145700Z
UID:7485-1713600000-1713636000@theratingscenter.com
SUMMARY:USPA/UPT Tandem Instructor Recurrency
DESCRIPTION:
URL:https://theratingscenter.com/calendar/uspa-upt-tandem-instructor-recurrency-5/
LOCATION:Skydive Spaceland Houston\, 16111 FM 521\, Rosharon\, TX\, 77583\, United States
CATEGORIES:USPA/UPT Tandem Instructor Recurrency
END:VEVENT
BEGIN:VEVENT
DTSTART;TZID=America/Chicago:20240420T080000
DTEND;TZID=America/Chicago:20240420T180000
DTSTAMP:20260420T103958
CREATED:20240119T205513Z
LAST-MODIFIED:20240125T200946Z
UID:7371-1713600000-1713636000@theratingscenter.com
SUMMARY:Basic Canopy Course
DESCRIPTION:The course cost is $180 + 5 hop and pops and runs from 8AM to 6PM (ish) \nYou do not need to wait till you are B qualified. We are often asked when is the best time to take this course\, our answer\, NOW! We will help you better understand how your wing flies and how to maximize your canopy skills. The skills you learn from this course apply to any canopy. We will teach you how to learn the canopy you are jumping and how to use this knowledge and skills to learn any other wing. \nTo register for this course\, please go to our contact page
URL:https://theratingscenter.com/calendar/basic-canopy-course-151/
LOCATION:Skydive Spaceland San Marcos\, 517 Airfield Rd.\, Fentress\, TX\, 78622\, United States
CATEGORIES:Canopy Course
END:VEVENT
BEGIN:VEVENT
DTSTART;TZID=America/Chicago:20240414T080000
DTEND;TZID=America/Chicago:20240414T180000
DTSTAMP:20260420T103958
CREATED:20240414T170845Z
LAST-MODIFIED:20240414T170845Z
UID:7478-1713081600-1713117600@theratingscenter.com
SUMMARY:Gravity Lab Tracking/Angle Coaching
DESCRIPTION:For more information\, including rates\, visit the freefall coaching section of our website. To register for this course\, or to schedule your own day of coaching\, please go to our contact page
URL:https://theratingscenter.com/calendar/gravity-lab-tracking-angle-coaching-70/
LOCATION:Skydive Spaceland Houston\, 16111 FM 521\, Rosharon\, TX\, 77583\, United States
CATEGORIES:Gravity Lab Tracking/Angle Coaching
END:VEVENT
BEGIN:VEVENT
DTSTART;TZID=America/Chicago:20240413T080000
DTEND;TZID=America/Chicago:20240413T180000
DTSTAMP:20260420T103958
CREATED:20240414T170818Z
LAST-MODIFIED:20240414T170818Z
UID:7476-1712995200-1713031200@theratingscenter.com
SUMMARY:Gravity Lab Tracking/Angle Coaching
DESCRIPTION:For more information\, including rates\, visit the freefall coaching section of our website. To register for this course\, or to schedule your own day of coaching\, please go to our contact page
URL:https://theratingscenter.com/calendar/gravity-lab-tracking-angle-coaching-69/
LOCATION:Skydive Spaceland Houston\, 16111 FM 521\, Rosharon\, TX\, 77583\, United States
CATEGORIES:Gravity Lab Tracking/Angle Coaching
END:VEVENT
END:VCALENDAR