BEGIN:VCALENDAR
VERSION:2.0
PRODID:-//The Ratings Center - ECPv6.15.18//NONSGML v1.0//EN
CALSCALE:GREGORIAN
METHOD:PUBLISH
X-WR-CALNAME:The Ratings Center
X-ORIGINAL-URL:https://theratingscenter.com
X-WR-CALDESC:Events for The Ratings Center
REFRESH-INTERVAL;VALUE=DURATION:PT1H
X-Robots-Tag:noindex
X-PUBLISHED-TTL:PT1H
BEGIN:VTIMEZONE
TZID:America/Chicago
BEGIN:DAYLIGHT
TZOFFSETFROM:-0600
TZOFFSETTO:-0500
TZNAME:CDT
DTSTART:20230312T080000
END:DAYLIGHT
BEGIN:STANDARD
TZOFFSETFROM:-0500
TZOFFSETTO:-0600
TZNAME:CST
DTSTART:20231105T070000
END:STANDARD
BEGIN:DAYLIGHT
TZOFFSETFROM:-0600
TZOFFSETTO:-0500
TZNAME:CDT
DTSTART:20240310T080000
END:DAYLIGHT
BEGIN:STANDARD
TZOFFSETFROM:-0500
TZOFFSETTO:-0600
TZNAME:CST
DTSTART:20241103T070000
END:STANDARD
BEGIN:DAYLIGHT
TZOFFSETFROM:-0600
TZOFFSETTO:-0500
TZNAME:CDT
DTSTART:20250309T080000
END:DAYLIGHT
BEGIN:STANDARD
TZOFFSETFROM:-0500
TZOFFSETTO:-0600
TZNAME:CST
DTSTART:20251102T070000
END:STANDARD
END:VTIMEZONE
BEGIN:VEVENT
DTSTART;TZID=America/Chicago:20240413T080000
DTEND;TZID=America/Chicago:20240413T180000
DTSTAMP:20260420T141357
CREATED:20240414T170818Z
LAST-MODIFIED:20240414T170818Z
UID:7476-1712995200-1713031200@theratingscenter.com
SUMMARY:Gravity Lab Tracking/Angle Coaching
DESCRIPTION:For more information\, including rates\, visit the freefall coaching section of our website. To register for this course\, or to schedule your own day of coaching\, please go to our contact page
URL:https://theratingscenter.com/calendar/gravity-lab-tracking-angle-coaching-69/
LOCATION:Skydive Spaceland Houston\, 16111 FM 521\, Rosharon\, TX\, 77583\, United States
CATEGORIES:Gravity Lab Tracking/Angle Coaching
END:VEVENT
BEGIN:VEVENT
DTSTART;TZID=America/Chicago:20240413T080000
DTEND;TZID=America/Chicago:20240413T180000
DTSTAMP:20260420T141357
CREATED:20240119T205447Z
LAST-MODIFIED:20240125T200804Z
UID:7369-1712995200-1713031200@theratingscenter.com
SUMMARY:Basic Canopy Course
DESCRIPTION:The course cost is $180 + 5 hop and pops and runs from 8AM to 6PM (ish) \nYou do not need to wait till you are B qualified. We are often asked when is the best time to take this course\, our answer\, NOW! We will help you better understand how your wing flies and how to maximize your canopy skills. The skills you learn from this course apply to any canopy. We will teach you how to learn the canopy you are jumping and how to use this knowledge and skills to learn any other wing. \nTo register for this course\, please go to our contact page
URL:https://theratingscenter.com/calendar/basic-canopy-course-150/
LOCATION:Skydive Spaceland Houston\, 16111 FM 521\, Rosharon\, TX\, 77583\, United States
CATEGORIES:Canopy Course
END:VEVENT
BEGIN:VEVENT
DTSTART;TZID=America/Chicago:20240412T080000
DTEND;TZID=America/Chicago:20240412T180000
DTSTAMP:20260420T141357
CREATED:20240414T170749Z
LAST-MODIFIED:20240414T170749Z
UID:7474-1712908800-1712944800@theratingscenter.com
SUMMARY:Gravity Lab Tracking/Angle Coaching
DESCRIPTION:For more information\, including rates\, visit the freefall coaching section of our website. To register for this course\, or to schedule your own day of coaching\, please go to our contact page
URL:https://theratingscenter.com/calendar/gravity-lab-tracking-angle-coaching-68/
LOCATION:Skydive Spaceland Houston\, 16111 FM 521\, Rosharon\, TX\, 77583\, United States
CATEGORIES:Gravity Lab Tracking/Angle Coaching
END:VEVENT
BEGIN:VEVENT
DTSTART;TZID=America/Chicago:20240412T080000
DTEND;TZID=America/Chicago:20240412T180000
DTSTAMP:20260420T141357
CREATED:20240305T181433Z
LAST-MODIFIED:20240305T181433Z
UID:7432-1712908800-1712944800@theratingscenter.com
SUMMARY:Tandem Instructor Recurrency
DESCRIPTION:
URL:https://theratingscenter.com/calendar/tandem-instructor-recurrency/
LOCATION:Skydive Spaceland Houston\, 16111 FM 521\, Rosharon\, TX\, 77583\, United States
CATEGORIES:USPA/UPT Tandem Instructor Recurrency
END:VEVENT
BEGIN:VEVENT
DTSTART;TZID=America/Chicago:20240408T080000
DTEND;TZID=America/Chicago:20240414T180000
DTSTAMP:20260420T141357
CREATED:20240119T205350Z
LAST-MODIFIED:20240125T200406Z
UID:7367-1712563200-1713117600@theratingscenter.com
SUMMARY:USPA AFF Instructor Course
DESCRIPTION:The USPA AFF Instructor Rating Course typically completes in up to 7 days. During the course we will discuss USPA’s AFF Student Program\, including how to conduct ground training and skydives with AFF students. You will be evaluated in ground training sessions and conducting AFF jumps\, including the preload process and debrief. For more information\, including rates\, check out the AFF Instructor Rating Page on our website. To register for this course\, please go to our contact page
URL:https://theratingscenter.com/calendar/uspa-aff-instructor-course-31/
LOCATION:Skydive Spaceland San Marcos\, 517 Airfield Rd.\, Fentress\, TX\, 78622\, United States
CATEGORIES:AFF Course
END:VEVENT
BEGIN:VEVENT
DTSTART;TZID=America/Chicago:20240408T080000
DTEND;TZID=America/Chicago:20240410T180000
DTSTAMP:20260420T141357
CREATED:20240214T215739Z
LAST-MODIFIED:20240513T180349Z
UID:7411-1712563200-1712772000@theratingscenter.com
SUMMARY:USPA/UPT Sigma Tandem Instructor Course
DESCRIPTION:For more information\, including rates\, check out the Tandem Instructor Rating Page on our website. To register for this course\, please go to our contact page
URL:https://theratingscenter.com/calendar/uspa-upt-sigma-tandem-instructor-course-31/
LOCATION:Skydive Spaceland Houston\, 16111 FM 521\, Rosharon\, TX\, 77583\, United States
CATEGORIES:UPT Vector/Sigma Tandem Course,USPA Tandem Course
END:VEVENT
BEGIN:VEVENT
DTSTART;TZID=America/Chicago:20240404T080000
DTEND;TZID=America/Chicago:20240406T180000
DTSTAMP:20260420T141357
CREATED:20240119T205239Z
LAST-MODIFIED:20240125T200116Z
UID:7365-1712217600-1712426400@theratingscenter.com
SUMMARY:USPA/UPT Sigma Tandem Instructor Course
DESCRIPTION:For more information\, including rates\, check out the Tandem Instructor Rating Page on our website. To register for this course\, please go to our contact page
URL:https://theratingscenter.com/calendar/uspa-upt-sigma-tandem-instructor-course-30/
LOCATION:Skydive Spaceland San Marcos\, 517 Airfield Rd.\, Fentress\, TX\, 78622\, United States
CATEGORIES:UPT Vector/Sigma Tandem Course,USPA Tandem Course
END:VEVENT
BEGIN:VEVENT
DTSTART;TZID=America/Chicago:20240404T080000
DTEND;TZID=America/Chicago:20240404T180000
DTSTAMP:20260420T141357
CREATED:20240513T180248Z
LAST-MODIFIED:20240513T180248Z
UID:7493-1712217600-1712253600@theratingscenter.com
SUMMARY:Gravity Lab Canopy Coaching
DESCRIPTION:For more information\, including rates\, visit the Canopy Coaching Section of our website. To register for this course\, or to schedule your own day of coaching\, please go to our contact page
URL:https://theratingscenter.com/calendar/gravity-lab-canopy-coaching-40/
LOCATION:Skydive Spaceland San Marcos\, 517 Airfield Rd.\, Fentress\, TX\, 78622\, United States
CATEGORIES:Gravity Lab Canopy Coaching
END:VEVENT
BEGIN:VEVENT
DTSTART;TZID=America/Chicago:20240402T080000
DTEND;TZID=America/Chicago:20240403T180000
DTSTAMP:20260420T141357
CREATED:20240119T200140Z
LAST-MODIFIED:20240119T200140Z
UID:7351-1712044800-1712167200@theratingscenter.com
SUMMARY:Tandem Instructor EP Review
DESCRIPTION:
URL:https://theratingscenter.com/calendar/tandem-instructor-ep-review-9/
LOCATION:Skydive Spaceland San Marcos\, 517 Airfield Rd.\, Fentress\, TX\, 78622\, United States
CATEGORIES:Tandem Instructor EP Review
END:VEVENT
BEGIN:VEVENT
DTSTART;TZID=America/Chicago:20240330T080000
DTEND;TZID=America/Chicago:20240330T180000
DTSTAMP:20260420T141357
CREATED:20240401T155921Z
LAST-MODIFIED:20240401T155921Z
UID:7450-1711785600-1711821600@theratingscenter.com
SUMMARY:Gravity Lab Tracking/Angle Coaching
DESCRIPTION:For more information\, including rates\, visit the freefall coaching section of our website. To register for this course\, or to schedule your own day of coaching\, please go to our contact page
URL:https://theratingscenter.com/calendar/gravity-lab-tracking-angle-coaching-67/
LOCATION:Skydive Spaceland Houston\, 16111 FM 521\, Rosharon\, TX\, 77583\, United States
CATEGORIES:Gravity Lab Tracking/Angle Coaching
END:VEVENT
BEGIN:VEVENT
DTSTART;TZID=America/Chicago:20240329T080000
DTEND;TZID=America/Chicago:20240331T180000
DTSTAMP:20260420T141357
CREATED:20240117T194625Z
LAST-MODIFIED:20240213T205438Z
UID:7345-1711699200-1711908000@theratingscenter.com
SUMMARY:USPA Coach Course
DESCRIPTION:The USPA Coach is the first instructional rating a skydiver can earn in our sport. During the course we will cover effective communication of skydiving skills for others. The coach rating is required to attend any other instructor rating course. For more information\, including rates\, check out the Coach Page on our website. To register for this course\, please go to our contact page
URL:https://theratingscenter.com/calendar/uspa-coach-course-81/
LOCATION:Skydive Spaceland San Marcos\, 517 Airfield Rd.\, Fentress\, TX\, 78622\, United States
CATEGORIES:Coach Course
END:VEVENT
BEGIN:VEVENT
DTSTART;TZID=America/Chicago:20240328T080000
DTEND;TZID=America/Chicago:20240328T180000
DTSTAMP:20260420T141357
CREATED:20240401T160107Z
LAST-MODIFIED:20240401T160107Z
UID:7453-1711612800-1711648800@theratingscenter.com
SUMMARY:Gravity Lab Canopy Coaching
DESCRIPTION:For more information\, including rates\, visit the Canopy Coaching Section of our website. To register for this course\, or to schedule your own day of coaching\, please go to our contact page
URL:https://theratingscenter.com/calendar/gravity-lab-canopy-coaching-39/
LOCATION:Skydive Spaceland Houston\, 16111 FM 521\, Rosharon\, TX\, 77583\, United States
CATEGORIES:Gravity Lab Canopy Coaching
END:VEVENT
BEGIN:VEVENT
DTSTART;TZID=America/Chicago:20240323T080000
DTEND;TZID=America/Chicago:20240323T180000
DTSTAMP:20260420T141357
CREATED:20240325T143345Z
LAST-MODIFIED:20240401T155948Z
UID:7444-1711180800-1711216800@theratingscenter.com
SUMMARY:Gravity Lab Tracking/Angle Coaching
DESCRIPTION:For more information\, including rates\, visit the freefall coaching section of our website. To register for this course\, or to schedule your own day of coaching\, please go to our contact page
URL:https://theratingscenter.com/calendar/gravity-lab-tracking-angle-coaching-66/
LOCATION:Skydive Spaceland Houston\, 16111 FM 521\, Rosharon\, TX\, 77583\, United States
CATEGORIES:Gravity Lab Tracking/Angle Coaching
END:VEVENT
BEGIN:VEVENT
DTSTART;TZID=America/Chicago:20240321T080000
DTEND;TZID=America/Chicago:20240321T180000
DTSTAMP:20260420T141357
CREATED:20240221T175526Z
LAST-MODIFIED:20240221T175526Z
UID:7420-1711008000-1711044000@theratingscenter.com
SUMMARY:Dallas Live Water Training
DESCRIPTION:For more information or to sign up for water training please visit; https://fb.me/e/6qg64YfKP
URL:https://theratingscenter.com/calendar/dallas-live-water-training-5/
LOCATION:TX
CATEGORIES:Live Water Training
END:VEVENT
BEGIN:VEVENT
DTSTART;TZID=America/Chicago:20240318T080000
DTEND;TZID=America/Chicago:20240324T180000
DTSTAMP:20260420T141357
CREATED:20240229T211533Z
LAST-MODIFIED:20240229T211533Z
UID:7428-1710748800-1711303200@theratingscenter.com
SUMMARY:USPA AFF Instructor Rating Course
DESCRIPTION:The USPA AFF Instructor Rating Course typically completes in up to 7 days. During the course we will discuss USPA’s AFF Student Program\, including how to conduct ground training and skydives with AFF students. You will be evaluated in ground training sessions and conducting AFF jumps\, including the preload process and debrief. For more information\, including rates\, check out the AFF Instructor Rating Page on our website. To register for this course\, please go to our contact page
URL:https://theratingscenter.com/calendar/uspa-aff-instructor-rating-course-6/
LOCATION:Skydive Spaceland Houston\, 16111 FM 521\, Rosharon\, TX\, 77583\, United States
CATEGORIES:AFF Course
END:VEVENT
BEGIN:VEVENT
DTSTART;TZID=America/Chicago:20240316T080000
DTEND;TZID=America/Chicago:20240316T180000
DTSTAMP:20260420T141357
CREATED:20240119T203515Z
LAST-MODIFIED:20240125T195650Z
UID:7361-1710576000-1710612000@theratingscenter.com
SUMMARY:Basic Canopy Course
DESCRIPTION:The course cost is $180 + 5 hop and pops and runs from 8AM to 6PM (ish) \nYou do not need to wait till you are B qualified. We are often asked when is the best time to take this course\, our answer\, NOW! We will help you better understand how your wing flies and how to maximize your canopy skills. The skills you learn from this course apply to any canopy. We will teach you how to learn the canopy you are jumping and how to use this knowledge and skills to learn any other wing. \nTo register for this course\, please go to our contact page
URL:https://theratingscenter.com/calendar/basic-canopy-course-149/
LOCATION:Skydive Spaceland San Marcos\, 517 Airfield Rd.\, Fentress\, TX\, 78622\, United States
CATEGORIES:Canopy Course
END:VEVENT
BEGIN:VEVENT
DTSTART;TZID=America/Chicago:20240316T080000
DTEND;TZID=America/Chicago:20240316T180000
DTSTAMP:20260420T141357
CREATED:20240119T203447Z
LAST-MODIFIED:20240125T195349Z
UID:7359-1710576000-1710612000@theratingscenter.com
SUMMARY:Basic Canopy Course
DESCRIPTION:The course cost is $180 + 5 hop and pops and runs from 8AM to 6PM (ish) \nYou do not need to wait till you are B qualified. We are often asked when is the best time to take this course\, our answer\, NOW! We will help you better understand how your wing flies and how to maximize your canopy skills. The skills you learn from this course apply to any canopy. We will teach you how to learn the canopy you are jumping and how to use this knowledge and skills to learn any other wing. \nTo register for this course\, please go to our contact page
URL:https://theratingscenter.com/calendar/basic-canopy-course-148/
LOCATION:Skydive Spaceland Houston\, 16111 FM 521\, Rosharon\, TX\, 77583\, United States
CATEGORIES:Canopy Course
END:VEVENT
BEGIN:VEVENT
DTSTART;TZID=America/Chicago:20240315T080000
DTEND;TZID=America/Chicago:20240317T180000
DTSTAMP:20260420T141357
CREATED:20240105T221058Z
LAST-MODIFIED:20240221T190610Z
UID:7330-1710489600-1710698400@theratingscenter.com
SUMMARY:USPA Coach Course
DESCRIPTION:The USPA Coach is the first instructional rating a skydiver can earn in our sport. During the course we will cover effective communication of skydiving skills for others. The coach rating is required to attend any other instructor rating course. For more information\, including rates\, check out the Coach Page on our website. To register for this course\, please go to our contact page
URL:https://theratingscenter.com/calendar/uspa-coach-course-80/
LOCATION:Skydive Spaceland Dallas\, 1039 Private Rd. 438\, Whitewright\, TX\, 75491\, United States
CATEGORIES:Coach Course
END:VEVENT
BEGIN:VEVENT
DTSTART;TZID=America/Chicago:20240312T080000
DTEND;TZID=America/Chicago:20240314T180000
DTSTAMP:20260420T141357
CREATED:20240229T211149Z
LAST-MODIFIED:20240229T211149Z
UID:7426-1710230400-1710439200@theratingscenter.com
SUMMARY:USPA/ UPT Sigma Tandem Instructor Course (Private)
DESCRIPTION:For more information\, including rates\, check out the Tandem Instructor Rating Page on our website. To register for this course\, please go to our contact page
URL:https://theratingscenter.com/calendar/uspa-upt-sigma-tandem-instructor-course-private-6/
LOCATION:Skydive Spaceland Houston\, 16111 FM 521\, Rosharon\, TX\, 77583\, United States
CATEGORIES:UPT Vector/Sigma Tandem Course,USPA Tandem Course
END:VEVENT
BEGIN:VEVENT
DTSTART;TZID=America/Chicago:20240312T080000
DTEND;TZID=America/Chicago:20240313T180000
DTSTAMP:20260420T141357
CREATED:20240119T200040Z
LAST-MODIFIED:20240119T200052Z
UID:7349-1710230400-1710352800@theratingscenter.com
SUMMARY:Tandem Instructor EP Review
DESCRIPTION:
URL:https://theratingscenter.com/calendar/tandem-instructor-ep-review-8/
LOCATION:Skydive Spaceland Dallas\, 1039 Private Rd. 438\, Whitewright\, TX\, 75491\, United States
CATEGORIES:Tandem Instructor EP Review
END:VEVENT
BEGIN:VEVENT
DTSTART;TZID=America/Chicago:20240310T080000
DTEND;TZID=America/Chicago:20240310T180000
DTSTAMP:20260420T141357
CREATED:20240311T144554Z
LAST-MODIFIED:20240311T144554Z
UID:7440-1710057600-1710093600@theratingscenter.com
SUMMARY:Basic Canopy Course (Private)
DESCRIPTION:The course cost is $180 + 5 hop and pops and runs from 8AM to 6PM (ish) \nYou do not need to wait till you are B qualified. We are often asked when is the best time to take this course\, our answer\, NOW! We will help you better understand how your wing flies and how to maximize your canopy skills. The skills you learn from this course apply to any canopy. We will teach you how to learn the canopy you are jumping and how to use this knowledge and skills to learn any other wing. \nTo register for this course\, please go to our contact page
URL:https://theratingscenter.com/calendar/basic-canopy-course-private-10/
LOCATION:Skydive Spaceland Houston\, 16111 FM 521\, Rosharon\, TX\, 77583\, United States
CATEGORIES:Canopy Course
END:VEVENT
BEGIN:VEVENT
DTSTART;TZID=America/Chicago:20240309T080000
DTEND;TZID=America/Chicago:20240309T180000
DTSTAMP:20260420T141357
CREATED:20240119T205036Z
LAST-MODIFIED:20240119T205036Z
UID:7363-1709971200-1710007200@theratingscenter.com
SUMMARY:USPA Safety Day
DESCRIPTION:Safety Day will be hosted at each of our Spaceland locations\, if you are unable to travel to a DZ you can still participate by watching our live broadcast! To watch the live feed visit our FB Page 
URL:https://theratingscenter.com/calendar/uspa-safety-day-2/
LOCATION:TX
END:VEVENT
BEGIN:VEVENT
DTSTART;TZID=America/Chicago:20240226T080000
DTEND;TZID=America/Chicago:20240228T180000
DTSTAMP:20260420T141357
CREATED:20240101T171434Z
LAST-MODIFIED:20240101T171434Z
UID:7322-1708934400-1709143200@theratingscenter.com
SUMMARY:USPA/UPT Sigma Tandem Instructor Course (Private)
DESCRIPTION:For more information\, including rates\, check out the Tandem Instructor Rating Page on our website. To register for this course\, please go to our contact page
URL:https://theratingscenter.com/calendar/uspa-upt-sigma-tandem-instructor-course-private-5/
LOCATION:Skydive Spaceland Houston\, 16111 FM 521\, Rosharon\, TX\, 77583\, United States
CATEGORIES:UPT Vector/Sigma Tandem Course,USPA Tandem Course
END:VEVENT
BEGIN:VEVENT
DTSTART;TZID=America/Chicago:20240224T080000
DTEND;TZID=America/Chicago:20240224T180000
DTSTAMP:20260420T141357
CREATED:20240226T154449Z
LAST-MODIFIED:20240226T154449Z
UID:7424-1708761600-1708797600@theratingscenter.com
SUMMARY:Gravity Lab Canopy Coaching
DESCRIPTION:For more information\, including rates\, visit the Canopy Coaching Section of our website. To register for this course\, or to schedule your own day of coaching\, please go to our contact page
URL:https://theratingscenter.com/calendar/gravity-lab-canopy-coaching-38/
LOCATION:Skydive Spaceland Houston\, 16111 FM 521\, Rosharon\, TX\, 77583\, United States
CATEGORIES:Gravity Lab Canopy Coaching
END:VEVENT
BEGIN:VEVENT
DTSTART;TZID=America/Chicago:20240224T080000
DTEND;TZID=America/Chicago:20240224T180000
DTSTAMP:20260420T141357
CREATED:20240119T203340Z
LAST-MODIFIED:20240125T195157Z
UID:7357-1708761600-1708797600@theratingscenter.com
SUMMARY:Basic Canopy Course
DESCRIPTION:The course cost is $180 + 5 hop and pops and runs from 8AM to 6PM (ish) \nYou do not need to wait till you are B qualified. We are often asked when is the best time to take this course\, our answer\, NOW! We will help you better understand how your wing flies and how to maximize your canopy skills. The skills you learn from this course apply to any canopy. We will teach you how to learn the canopy you are jumping and how to use this knowledge and skills to learn any other wing. \nTo register for this course\, please go to our contact page
URL:https://theratingscenter.com/calendar/basic-canopy-course-147/
LOCATION:Skydive Spaceland Dallas\, 1039 Private Rd. 438\, Whitewright\, TX\, 75491\, United States
CATEGORIES:Canopy Course
END:VEVENT
BEGIN:VEVENT
DTSTART;TZID=America/Chicago:20240223T190000
DTEND;TZID=America/Chicago:20240223T190000
DTSTAMP:20260420T141357
CREATED:20240205T230546Z
LAST-MODIFIED:20240205T230546Z
UID:7403-1708714800-1708714800@theratingscenter.com
SUMMARY:Houston Live Water Training
DESCRIPTION:For more information or to sign up for water training please visit; https://fb.me/e/1BjTZAZTA
URL:https://theratingscenter.com/calendar/houston-live-water-training-5/
LOCATION:TX
CATEGORIES:Live Water Training
END:VEVENT
BEGIN:VEVENT
DTSTART;TZID=America/Chicago:20240223T080000
DTEND;TZID=America/Chicago:20240223T180000
DTSTAMP:20260420T141357
CREATED:20240226T153507Z
LAST-MODIFIED:20240226T153507Z
UID:7422-1708675200-1708711200@theratingscenter.com
SUMMARY:Gravity Lab Tracking/Angle Coaching
DESCRIPTION:For more information\, including rates\, visit the freefall coaching section of our website. To register for this course\, or to schedule your own day of coaching\, please go to our contact page
URL:https://theratingscenter.com/calendar/gravity-lab-tracking-angle-coaching-65/
LOCATION:Skydive Spaceland Houston\, 16111 FM 521\, Rosharon\, TX\, 77583\, United States
CATEGORIES:Gravity Lab Tracking/Angle Coaching
END:VEVENT
BEGIN:VEVENT
DTSTART;TZID=America/Chicago:20240220T080000
DTEND;TZID=America/Chicago:20240222T180000
DTSTAMP:20260420T141357
CREATED:20231201T165725Z
LAST-MODIFIED:20240109T175603Z
UID:7304-1708416000-1708624800@theratingscenter.com
SUMMARY:USPA Coach Course
DESCRIPTION:The USPA Coach is the first instructional rating a skydiver can earn in our sport. During the course we will cover effective communication of skydiving skills for others. The coach rating is required to attend any other instructor rating course. For more information\, including rates\, check out the Coach Page on our website. To register for this course\, please go to our contact
URL:https://theratingscenter.com/calendar/uspa-coach-course-77/
LOCATION:Skydive Spaceland Dallas\, 1039 Private Rd. 438\, Whitewright\, TX\, 75491\, United States
CATEGORIES:Coach Course
END:VEVENT
BEGIN:VEVENT
DTSTART;TZID=America/Chicago:20240220T080000
DTEND;TZID=America/Chicago:20240220T180000
DTSTAMP:20260420T141357
CREATED:20240221T173842Z
LAST-MODIFIED:20240221T173842Z
UID:7418-1708416000-1708452000@theratingscenter.com
SUMMARY:Gravity Lab Tracking/Angle Coaching
DESCRIPTION:For more information\, including rates\, visit the freefall coaching section of our website. To register for this course\, or to schedule your own day of coaching\, please go to our contact page
URL:https://theratingscenter.com/calendar/gravity-lab-tracking-angle-coaching-64/
LOCATION:Skydive Spaceland Houston\, 16111 FM 521\, Rosharon\, TX\, 77583\, United States
CATEGORIES:Gravity Lab Tracking/Angle Coaching
END:VEVENT
BEGIN:VEVENT
DTSTART;TZID=America/Chicago:20240218T080000
DTEND;TZID=America/Chicago:20240218T180000
DTSTAMP:20260420T141357
CREATED:20240305T192436Z
LAST-MODIFIED:20240305T192436Z
UID:7434-1708243200-1708279200@theratingscenter.com
SUMMARY:Basic Canopy Course (Private)
DESCRIPTION:The course cost is $180 + 5 hop and pops and runs from 8AM to 6PM (ish) \nYou do not need to wait till you are B qualified. We are often asked when is the best time to take this course\, our answer\, NOW! We will help you better understand how your wing flies and how to maximize your canopy skills. The skills you learn from this course apply to any canopy. We will teach you how to learn the canopy you are jumping and how to use this knowledge and skills to learn any other wing. \nTo register for this course\, please go to our contact page
URL:https://theratingscenter.com/calendar/basic-canopy-course-private-9/
LOCATION:Skydive Spaceland Houston\, 16111 FM 521\, Rosharon\, TX\, 77583\, United States
CATEGORIES:Canopy Course
END:VEVENT
END:VCALENDAR