BEGIN:VCALENDAR
VERSION:2.0
PRODID:-//The Ratings Center - ECPv6.15.18//NONSGML v1.0//EN
CALSCALE:GREGORIAN
METHOD:PUBLISH
X-WR-CALNAME:The Ratings Center
X-ORIGINAL-URL:https://theratingscenter.com
X-WR-CALDESC:Events for The Ratings Center
REFRESH-INTERVAL;VALUE=DURATION:PT1H
X-Robots-Tag:noindex
X-PUBLISHED-TTL:PT1H
BEGIN:VTIMEZONE
TZID:America/Chicago
BEGIN:DAYLIGHT
TZOFFSETFROM:-0600
TZOFFSETTO:-0500
TZNAME:CDT
DTSTART:20220313T080000
END:DAYLIGHT
BEGIN:STANDARD
TZOFFSETFROM:-0500
TZOFFSETTO:-0600
TZNAME:CST
DTSTART:20221106T070000
END:STANDARD
BEGIN:DAYLIGHT
TZOFFSETFROM:-0600
TZOFFSETTO:-0500
TZNAME:CDT
DTSTART:20230312T080000
END:DAYLIGHT
BEGIN:STANDARD
TZOFFSETFROM:-0500
TZOFFSETTO:-0600
TZNAME:CST
DTSTART:20231105T070000
END:STANDARD
BEGIN:DAYLIGHT
TZOFFSETFROM:-0600
TZOFFSETTO:-0500
TZNAME:CDT
DTSTART:20240310T080000
END:DAYLIGHT
BEGIN:STANDARD
TZOFFSETFROM:-0500
TZOFFSETTO:-0600
TZNAME:CST
DTSTART:20241103T070000
END:STANDARD
BEGIN:DAYLIGHT
TZOFFSETFROM:-0600
TZOFFSETTO:-0500
TZNAME:CDT
DTSTART:20250309T080000
END:DAYLIGHT
BEGIN:STANDARD
TZOFFSETFROM:-0500
TZOFFSETTO:-0600
TZNAME:CST
DTSTART:20251102T070000
END:STANDARD
END:VTIMEZONE
BEGIN:VEVENT
DTSTART;TZID=America/Chicago:20240213T080000
DTEND;TZID=America/Chicago:20240213T180000
DTSTAMP:20260420T204432
CREATED:20240215T150659Z
LAST-MODIFIED:20240215T150659Z
UID:7413-1707811200-1707847200@theratingscenter.com
SUMMARY:Gravity Lab Canopy Coaching
DESCRIPTION:For more information\, including rates\, visit the Canopy Coaching Section of our website. To register for this course\, or to schedule your own day of coaching\, please go to our contact page
URL:https://theratingscenter.com/calendar/gravity-lab-canopy-coaching-37/
LOCATION:Skydive Spaceland Houston\, 16111 FM 521\, Rosharon\, TX\, 77583\, United States
CATEGORIES:Gravity Lab Canopy Coaching
END:VEVENT
BEGIN:VEVENT
DTSTART;TZID=America/Chicago:20240213T080000
DTEND;TZID=America/Chicago:20240213T180000
DTSTAMP:20260420T204432
CREATED:20240213T220632Z
LAST-MODIFIED:20240213T220632Z
UID:7409-1707811200-1707847200@theratingscenter.com
SUMMARY:Gravity Lab Tracking/Angle Coaching
DESCRIPTION:For more information\, including rates\, visit the freefall coaching section of our website. To register for this course\, or to schedule your own day of coaching\, please go to our contact page
URL:https://theratingscenter.com/calendar/gravity-lab-tracking-angle-coaching-63/
LOCATION:Skydive Spaceland Houston\, 16111 FM 521\, Rosharon\, TX\, 77583\, United States
CATEGORIES:Gravity Lab Tracking/Angle Coaching
END:VEVENT
BEGIN:VEVENT
DTSTART;TZID=America/Chicago:20240210T080000
DTEND;TZID=America/Chicago:20240210T180000
DTSTAMP:20260420T204432
CREATED:20240119T203232Z
LAST-MODIFIED:20240125T194747Z
UID:7353-1707552000-1707588000@theratingscenter.com
SUMMARY:Basic Canopy Course
DESCRIPTION:The course cost is $180 + 5 hop and pops and runs from 8AM to 6PM (ish) \nYou do not need to wait till you are B qualified. We are often asked when is the best time to take this course\, our answer\, NOW! We will help you better understand how your wing flies and how to maximize your canopy skills. The skills you learn from this course apply to any canopy. We will teach you how to learn the canopy you are jumping and how to use this knowledge and skills to learn any other wing. \nTo register for this course\, please go to our contact page
URL:https://theratingscenter.com/calendar/basic-canopy-course-145/
LOCATION:Skydive Spaceland Houston\, 16111 FM 521\, Rosharon\, TX\, 77583\, United States
CATEGORIES:Canopy Course
END:VEVENT
BEGIN:VEVENT
DTSTART;TZID=America/Chicago:20240206T080000
DTEND;TZID=America/Chicago:20240206T180000
DTSTAMP:20260420T204432
CREATED:20240207T020625Z
LAST-MODIFIED:20240207T020625Z
UID:7407-1707206400-1707242400@theratingscenter.com
SUMMARY:Gravity Lab Tracking/Angle Coaching
DESCRIPTION:For more information\, including rates\, visit the Canopy Coaching Section of our website. To register for this course\, or to schedule your own day of coaching\, please go to our contact page
URL:https://theratingscenter.com/calendar/gravity-lab-tracking-angle-coaching-62/
LOCATION:Skydive Spaceland Houston\, 16111 FM 521\, Rosharon\, TX\, 77583\, United States
CATEGORIES:Gravity Lab Tracking/Angle Coaching
END:VEVENT
BEGIN:VEVENT
DTSTART;TZID=America/Chicago:20240206T080000
DTEND;TZID=America/Chicago:20240206T180000
DTSTAMP:20260420T204432
CREATED:20240206T231348Z
LAST-MODIFIED:20240206T231348Z
UID:7405-1707206400-1707242400@theratingscenter.com
SUMMARY:Gravity Lab Canopy Coaching
DESCRIPTION:For more information\, including rates\, visit the Canopy Coaching Section of our website. To register for this course\, or to schedule your own day of coaching\, please go to our contact page
URL:https://theratingscenter.com/calendar/gravity-lab-canopy-coaching-36/
LOCATION:Skydive Spaceland Houston\, 16111 FM 521\, Rosharon\, TX\, 77583\, United States
CATEGORIES:Gravity Lab Canopy Coaching
END:VEVENT
BEGIN:VEVENT
DTSTART;TZID=America/Chicago:20240205T080000
DTEND;TZID=America/Chicago:20240211T180000
DTSTAMP:20260420T204432
CREATED:20231201T165628Z
LAST-MODIFIED:20240118T172457Z
UID:7302-1707120000-1707674400@theratingscenter.com
SUMMARY:USPA AFF Instructor Rating Course
DESCRIPTION:The USPA AFF Instructor Rating Course typically completes in up to 7 days. During the course we will discuss USPA’s AFF Student Program\, including how to conduct ground training and skydives with AFF students. You will be evaluated in ground training sessions and conducting AFF jumps\, including the preload process and debrief. For more information\, including rates\, check out the AFF Instructor Rating Page on our website. To register for this course\, please go to our contact page
URL:https://theratingscenter.com/calendar/uspa-aff-instructor-rating-course-5/
LOCATION:Skydive Spaceland Houston\, 16111 FM 521\, Rosharon\, TX\, 77583\, United States
CATEGORIES:AFF Course
END:VEVENT
BEGIN:VEVENT
DTSTART;TZID=America/Chicago:20240129T080000
DTEND;TZID=America/Chicago:20240129T180000
DTSTAMP:20260420T204432
CREATED:20240131T190902Z
LAST-MODIFIED:20240131T190902Z
UID:7397-1706515200-1706551200@theratingscenter.com
SUMMARY:Gravity Lab Tracking/Angle Coaching
DESCRIPTION:For more information\, including rates\, visit the freefall coaching section of our website. To register for this course\, or to schedule your own day of coaching\, please go to our contact page
URL:https://theratingscenter.com/calendar/gravity-lab-tracking-angle-coaching-60/
LOCATION:Skydive Spaceland Houston\, 16111 FM 521\, Rosharon\, TX\, 77583\, United States
CATEGORIES:Gravity Lab Tracking/Angle Coaching
END:VEVENT
BEGIN:VEVENT
DTSTART;TZID=America/Chicago:20240128T080000
DTEND;TZID=America/Chicago:20240128T180000
DTSTAMP:20260420T204432
CREATED:20240131T190403Z
LAST-MODIFIED:20240131T190403Z
UID:7395-1706428800-1706464800@theratingscenter.com
SUMMARY:Gravity Lab Tracking/Angle Coaching
DESCRIPTION:For more information\, including rates\, visit the freefall coaching section of our website. To register for this course\, or to schedule your own day of coaching\, please go to our contact page
URL:https://theratingscenter.com/calendar/gravity-lab-tracking-angle-coaching-59/
LOCATION:Skydive Spaceland Houston\, 16111 FM 521\, Rosharon\, TX\, 77583\, United States
CATEGORIES:Gravity Lab Tracking/Angle Coaching
END:VEVENT
BEGIN:VEVENT
DTSTART;TZID=America/Chicago:20240126T080000
DTEND;TZID=America/Chicago:20240128T180000
DTSTAMP:20260420T204432
CREATED:20231130T181247Z
LAST-MODIFIED:20240105T222954Z
UID:7299-1706256000-1706464800@theratingscenter.com
SUMMARY:UPSA Coach Course
DESCRIPTION:The USPA Coach is the first instructional rating a skydiver can earn in our sport. During the course we will cover effective communication of skydiving skills for others. The coach rating is required to attend any other instructor rating course. For more information\, including rates\, check out the Coach Page on our website. To register for this course\, please go to our contact page
URL:https://theratingscenter.com/calendar/upsa-coach-course/
LOCATION:Skydive Spaceland San Marcos\, 517 Airfield Rd.\, Fentress\, TX\, 78622\, United States
CATEGORIES:Coach Course
END:VEVENT
BEGIN:VEVENT
DTSTART;TZID=America/Chicago:20240123T080000
DTEND;TZID=America/Chicago:20240125T180000
DTSTAMP:20260420T204432
CREATED:20240105T215112Z
LAST-MODIFIED:20240105T222848Z
UID:7328-1705996800-1706205600@theratingscenter.com
SUMMARY:USPA Coach Course
DESCRIPTION:The USPA Coach is the first instructional rating a skydiver can earn in our sport. During the course we will cover effective communication of skydiving skills for others. The coach rating is required to attend any other instructor rating course. For more information\, including rates\, check out the Coach Page on our website. To register for this course\, please go to our contact page
URL:https://theratingscenter.com/calendar/uspa-coach-course-79/
LOCATION:Skydive Spaceland Houston\, 16111 FM 521\, Rosharon\, TX\, 77583\, United States
CATEGORIES:Coach Course
END:VEVENT
BEGIN:VEVENT
DTSTART;TZID=America/Chicago:20240120T080000
DTEND;TZID=America/Chicago:20240120T180000
DTSTAMP:20260420T204432
CREATED:20231130T180903Z
LAST-MODIFIED:20240105T223300Z
UID:7295-1705737600-1705773600@theratingscenter.com
SUMMARY:Basic Canopy Course
DESCRIPTION:The course cost is $180 + 5 hop and pops and runs from 8AM to 6PM (ish) \nYou do not need to wait till you are B qualified. We are often asked when is the best time to take this course\, our answer\, NOW! We will help you better understand how your wing flies and how to maximize your canopy skills. The skills you learn from this course apply to any canopy. We will teach you how to learn the canopy you are jumping and how to use this knowledge and skills to learn any other wing. \nTo register for this course\, please go to our contact page
URL:https://theratingscenter.com/calendar/basic-canopy-course-143/
LOCATION:Skydive Spaceland San Marcos\, 517 Airfield Rd.\, Fentress\, TX\, 78622\, United States
CATEGORIES:Canopy Course
END:VEVENT
BEGIN:VEVENT
DTSTART;TZID=America/Chicago:20240116T080000
DTEND;TZID=America/Chicago:20240118T180000
DTSTAMP:20260420T204432
CREATED:20231221T195631Z
LAST-MODIFIED:20240105T223418Z
UID:7318-1705392000-1705600800@theratingscenter.com
SUMMARY:USPA/UPT Sigma Tandem Instructor Course
DESCRIPTION:For more information\, including rates\, check out the Tandem Instructor Rating Page on our website. To register for this course\, please go to our contact page
URL:https://theratingscenter.com/calendar/uspa-upt-sigma-tandem-instructor-course-29/
LOCATION:Skydive Spaceland Houston\, 16111 FM 521\, Rosharon\, TX\, 77583\, United States
CATEGORIES:UPT Vector/Sigma Tandem Course,USPA Tandem Course
END:VEVENT
BEGIN:VEVENT
DTSTART;TZID=America/Chicago:20240113T080000
DTEND;TZID=America/Chicago:20240113T180000
DTSTAMP:20260420T204432
CREATED:20240131T190947Z
LAST-MODIFIED:20240131T190947Z
UID:7399-1705132800-1705168800@theratingscenter.com
SUMMARY:Gravity Lab Tracking/Angle Coaching
DESCRIPTION:For more information\, including rates\, visit the freefall coaching section of our website. To register for this course\, or to schedule your own day of coaching\, please go to our contact page
URL:https://theratingscenter.com/calendar/gravity-lab-tracking-angle-coaching-61/
LOCATION:Skydive Spaceland Houston\, 16111 FM 521\, Rosharon\, TX\, 77583\, United States
CATEGORIES:Gravity Lab Tracking/Angle Coaching
END:VEVENT
BEGIN:VEVENT
DTSTART;TZID=America/Chicago:20240113T080000
DTEND;TZID=America/Chicago:20240113T180000
DTSTAMP:20260420T204432
CREATED:20231130T180833Z
LAST-MODIFIED:20231130T180833Z
UID:7293-1705132800-1705168800@theratingscenter.com
SUMMARY:Basic Canopy Course
DESCRIPTION:The course cost is $180 + 5 hop and pops and runs from 8AM to 6PM (ish) \nYou do not need to wait till you are B qualified. We are often asked when is the best time to take this course\, our answer\, NOW! We will help you better understand how your wing flies and how to maximize your canopy skills. The skills you learn from this course apply to any canopy. We will teach you how to learn the canopy you are jumping and how to use this knowledge and skills to learn any other wing. \nTo register for this course\, please go to our contact page
URL:https://theratingscenter.com/calendar/basic-canopy-course-142/
LOCATION:Skydive Spaceland Houston\, 16111 FM 521\, Rosharon\, TX\, 77583\, United States
CATEGORIES:Canopy Course
END:VEVENT
BEGIN:VEVENT
DTSTART;TZID=America/Chicago:20240109T080000
DTEND;TZID=America/Chicago:20240111T180000
DTSTAMP:20260420T204432
CREATED:20231130T180423Z
LAST-MODIFIED:20231130T180423Z
UID:7291-1704787200-1704996000@theratingscenter.com
SUMMARY:USPA Coach Course (Private)
DESCRIPTION:The USPA Coach is the first instructional rating a skydiver can earn in our sport. During the course we will cover effective communication of skydiving skills for others. The coach rating is required to attend any other instructor rating course. For more information\, including rates\, check out the Coach Page on our website. To register for this course\, please go to our contact
URL:https://theratingscenter.com/calendar/uspa-coach-course-private-2/
LOCATION:Skydive Spaceland Houston\, 16111 FM 521\, Rosharon\, TX\, 77583\, United States
CATEGORIES:Coach Course
END:VEVENT
BEGIN:VEVENT
DTSTART;TZID=America/Chicago:20240106T080000
DTEND;TZID=America/Chicago:20240106T180000
DTSTAMP:20260420T204432
CREATED:20240109T175519Z
LAST-MODIFIED:20240109T175519Z
UID:7341-1704528000-1704564000@theratingscenter.com
SUMMARY:Gravity Lab Canopy Coaching
DESCRIPTION:For more information\, including rates\, visit the Canopy Coaching Section of our website. To register for this course\, or to schedule your own day of coaching\, please go to our contact page
URL:https://theratingscenter.com/calendar/gravity-lab-canopy-coaching-35/
LOCATION:Skydive Spaceland Houston\, 16111 FM 521\, Rosharon\, TX\, 77583\, United States
CATEGORIES:Gravity Lab Canopy Coaching
END:VEVENT
BEGIN:VEVENT
DTSTART;TZID=America/Chicago:20240106T080000
DTEND;TZID=America/Chicago:20240106T180000
DTSTAMP:20260420T204432
CREATED:20240109T175419Z
LAST-MODIFIED:20240109T175419Z
UID:7339-1704528000-1704564000@theratingscenter.com
SUMMARY:Gravity Lab Tracking/Angle Coaching
DESCRIPTION:For more information\, including rates\, visit the freefall coaching section of our website. To register for this course\, or to schedule your own day of coaching\, please go to our contact page
URL:https://theratingscenter.com/calendar/gravity-lab-tracking-angle-coaching-58/
LOCATION:Skydive Spaceland Houston\, 16111 FM 521\, Rosharon\, TX\, 77583\, United States
CATEGORIES:Gravity Lab Tracking/Angle Coaching
END:VEVENT
BEGIN:VEVENT
DTSTART;TZID=America/Chicago:20240106T080000
DTEND;TZID=America/Chicago:20240106T180000
DTSTAMP:20260420T204432
CREATED:20231130T180936Z
LAST-MODIFIED:20231130T180936Z
UID:7297-1704528000-1704564000@theratingscenter.com
SUMMARY:Basic Canopy Course
DESCRIPTION:The course cost is $180 + 5 hop and pops and runs from 8AM to 6PM (ish) \nYou do not need to wait till you are B qualified. We are often asked when is the best time to take this course\, our answer\, NOW! We will help you better understand how your wing flies and how to maximize your canopy skills. The skills you learn from this course apply to any canopy. We will teach you how to learn the canopy you are jumping and how to use this knowledge and skills to learn any other wing. \nTo register for this course\, please go to our contact page
URL:https://theratingscenter.com/calendar/basic-canopy-course-144/
LOCATION:Skydive Spaceland Dallas\, 1039 Private Rd. 438\, Whitewright\, TX\, 75491\, United States
CATEGORIES:Canopy Course
END:VEVENT
BEGIN:VEVENT
DTSTART;TZID=America/Chicago:20231231T080000
DTEND;TZID=America/Chicago:20231231T180000
DTSTAMP:20260420T204432
CREATED:20231231T171150Z
LAST-MODIFIED:20231231T171150Z
UID:7320-1704009600-1704045600@theratingscenter.com
SUMMARY:Gravity Lab Tracking/Angle Coaching
DESCRIPTION:For more information\, including rates\, visit the freefall coaching section of our website. To register for this course\, or to schedule your own day of coaching\, please go to our contact page
URL:https://theratingscenter.com/calendar/gravity-lab-tracking-angle-coaching-57/
LOCATION:Skydive Spaceland Houston\, 16111 FM 521\, Rosharon\, TX\, 77583\, United States
CATEGORIES:Gravity Lab Tracking/Angle Coaching
END:VEVENT
BEGIN:VEVENT
DTSTART;TZID=America/Chicago:20231228T080000
DTEND;TZID=America/Chicago:20231228T180000
DTSTAMP:20260420T204432
CREATED:20231201T215303Z
LAST-MODIFIED:20240109T180645Z
UID:7306-1703750400-1703786400@theratingscenter.com
SUMMARY:USPA/UPT Tandem Instructor Recurrency
DESCRIPTION:
URL:https://theratingscenter.com/calendar/uspa-upt-tandem-instructor-recurrency-4/
LOCATION:Skydive Spaceland Houston\, 16111 FM 521\, Rosharon\, TX\, 77583\, United States
CATEGORIES:USPA/UPT Tandem Instructor Recurrency
END:VEVENT
BEGIN:VEVENT
DTSTART;TZID=America/Chicago:20231218T080000
DTEND;TZID=America/Chicago:20231218T180000
DTSTAMP:20260420T204432
CREATED:20231218T183805Z
LAST-MODIFIED:20231218T183805Z
UID:7316-1702886400-1702922400@theratingscenter.com
SUMMARY:Gravity Lab Tracking/Angle Coaching
DESCRIPTION:For more information\, including rates\, visit the freefall coaching section of our website. To register for this course\, or to schedule your own day of coaching\, please go to our contact page
URL:https://theratingscenter.com/calendar/gravity-lab-tracking-angle-coaching-56/
LOCATION:Skydive Spaceland Houston\, 16111 FM 521\, Rosharon\, TX\, 77583\, United States
CATEGORIES:Gravity Lab Tracking/Angle Coaching
END:VEVENT
BEGIN:VEVENT
DTSTART;TZID=America/Chicago:20231218T080000
DTEND;TZID=America/Chicago:20231218T180000
DTSTAMP:20260420T204432
CREATED:20231130T174029Z
LAST-MODIFIED:20231130T174029Z
UID:7289-1702886400-1702922400@theratingscenter.com
SUMMARY:Basic Canopy Course
DESCRIPTION:The course cost is $180 + 5 hop and pops and runs from 8AM to 6PM (ish) \nYou do not need to wait till you are B qualified. We are often asked when is the best time to take this course\, our answer\, NOW! We will help you better understand how your wing flies and how to maximize your canopy skills. The skills you learn from this course apply to any canopy. We will teach you how to learn the canopy you are jumping and how to use this knowledge and skills to learn any other wing. \nTo register for this course\, please go to our contact page
URL:https://theratingscenter.com/calendar/basic-canopy-course-141/
LOCATION:Skydive Spaceland Houston\, 16111 FM 521\, Rosharon\, TX\, 77583\, United States
CATEGORIES:Canopy Course
END:VEVENT
BEGIN:VEVENT
DTSTART;TZID=America/Chicago:20231217T080000
DTEND;TZID=America/Chicago:20231217T180000
DTSTAMP:20260420T204432
CREATED:20231218T183726Z
LAST-MODIFIED:20231218T183726Z
UID:7314-1702800000-1702836000@theratingscenter.com
SUMMARY:Gravity Lab Tracking/Angle Coaching
DESCRIPTION:For more information\, including rates\, visit the freefall coaching section of our website. To register for this course\, or to schedule your own day of coaching\, please go to our contact page
URL:https://theratingscenter.com/calendar/gravity-lab-tracking-angle-coaching-55/
LOCATION:Skydive Spaceland Houston\, 16111 FM 521\, Rosharon\, TX\, 77583\, United States
CATEGORIES:Gravity Lab Tracking/Angle Coaching
END:VEVENT
BEGIN:VEVENT
DTSTART;TZID=America/Chicago:20231216T080000
DTEND;TZID=America/Chicago:20231216T180000
DTSTAMP:20260420T204432
CREATED:20231017T182313Z
LAST-MODIFIED:20231024T170517Z
UID:7245-1702713600-1702749600@theratingscenter.com
SUMMARY:Basic Canopy Course
DESCRIPTION:The course cost is $180 + 5 hop and pops and runs from 8AM to 6PM (ish) \nYou do not need to wait till you are B qualified. We are often asked when is the best time to take this course\, our answer\, NOW! We will help you better understand how your wing flies and how to maximize your canopy skills. The skills you learn from this course apply to any canopy. We will teach you how to learn the canopy you are jumping and how to use this knowledge and skills to learn any other wing. \nTo register for this course\, please go to our contact page
URL:https://theratingscenter.com/calendar/basic-canopy-course-140/
LOCATION:Skydive Spaceland San Marcos\, 517 Airfield Rd.\, Fentress\, TX\, 78622\, United States
CATEGORIES:Canopy Course
END:VEVENT
BEGIN:VEVENT
DTSTART;TZID=America/Chicago:20231212T080000
DTEND;TZID=America/Chicago:20231214T180000
DTSTAMP:20260420T204432
CREATED:20231017T182122Z
LAST-MODIFIED:20231017T183328Z
UID:7241-1702368000-1702576800@theratingscenter.com
SUMMARY:USPA Coach Course
DESCRIPTION:The USPA Coach is the first instructional rating a skydiver can earn in our sport. During the course we will cover effective communication of skydiving skills for others. The coach rating is required to attend any other instructor rating course. For more information\, including rates\, check out the Coach Page on our website. To register for this course\, please go to our contact
URL:https://theratingscenter.com/calendar/uspa-coach-course-74/
LOCATION:Skydive Spaceland San Marcos\, 517 Airfield Rd.\, Fentress\, TX\, 78622\, United States
CATEGORIES:Coach Course
END:VEVENT
BEGIN:VEVENT
DTSTART;TZID=America/Chicago:20231209T080000
DTEND;TZID=America/Chicago:20231211T180000
DTSTAMP:20260420T204432
CREATED:20231204T233431Z
LAST-MODIFIED:20231204T233431Z
UID:7308-1702108800-1702317600@theratingscenter.com
SUMMARY:USPA Coach Course
DESCRIPTION:The USPA Coach is the first instructional rating a skydiver can earn in our sport. During the course we will cover effective communication of skydiving skills for others. The coach rating is required to attend any other instructor rating course. For more information\, including rates\, check out the Coach Page on our website. To register for this course\, please go to our contact page
URL:https://theratingscenter.com/calendar/uspa-coach-course-78/
LOCATION:Skydive Spaceland Houston\, 16111 FM 521\, Rosharon\, TX\, 77583\, United States
CATEGORIES:Coach Course
END:VEVENT
BEGIN:VEVENT
DTSTART;TZID=America/Chicago:20231209T080000
DTEND;TZID=America/Chicago:20231209T180000
DTSTAMP:20260420T204432
CREATED:20231210T004310Z
LAST-MODIFIED:20231210T004310Z
UID:7312-1702108800-1702144800@theratingscenter.com
SUMMARY:Gravity Lab Tracking/Angle Coaching
DESCRIPTION:For more information\, including rates\, visit the freefall coaching section of our website. To register for this course\, or to schedule your own day of coaching\, please go to our contact page
URL:https://theratingscenter.com/calendar/gravity-lab-tracking-angle-coaching-54/
LOCATION:Skydive Spaceland Houston\, 16111 FM 521\, Rosharon\, TX\, 77583\, United States
CATEGORIES:Gravity Lab Tracking/Angle Coaching
END:VEVENT
BEGIN:VEVENT
DTSTART;TZID=America/Chicago:20231209T080000
DTEND;TZID=America/Chicago:20231209T180000
DTSTAMP:20260420T204432
CREATED:20231017T182238Z
LAST-MODIFIED:20231017T182238Z
UID:7243-1702108800-1702144800@theratingscenter.com
SUMMARY:Basic Canopy Course
DESCRIPTION:The course cost is $180 + 5 hop and pops and runs from 8AM to 6PM (ish) \nYou do not need to wait till you are B qualified. We are often asked when is the best time to take this course\, our answer\, NOW! We will help you better understand how your wing flies and how to maximize your canopy skills. The skills you learn from this course apply to any canopy. We will teach you how to learn the canopy you are jumping and how to use this knowledge and skills to learn any other wing. \nTo register for this course\, please go to our contact page
URL:https://theratingscenter.com/calendar/basic-canopy-course-139/
LOCATION:Skydive Spaceland Houston\, 16111 FM 521\, Rosharon\, TX\, 77583\, United States
CATEGORIES:Canopy Course
END:VEVENT
BEGIN:VEVENT
DTSTART;TZID=America/Chicago:20231208T080000
DTEND;TZID=America/Chicago:20231210T180000
DTSTAMP:20260420T204432
CREATED:20231024T164434Z
LAST-MODIFIED:20231101T153517Z
UID:7257-1702022400-1702231200@theratingscenter.com
SUMMARY:USPA Coach Course
DESCRIPTION:The USPA Coach is the first instructional rating a skydiver can earn in our sport. During the course we will cover effective communication of skydiving skills for others. The coach rating is required to attend any other instructor rating course. For more information\, including rates\, check out the Coach Page on our website. To register for this course\, please go to our contact page
URL:https://theratingscenter.com/calendar/uspa-coach-course-76/
LOCATION:Skydive Spaceland San Marcos\, 517 Airfield Rd.\, Fentress\, TX\, 78622\, United States
CATEGORIES:Coach Course
END:VEVENT
BEGIN:VEVENT
DTSTART;TZID=America/Chicago:20231207T080000
DTEND;TZID=America/Chicago:20231207T180000
DTSTAMP:20260420T204432
CREATED:20240109T180559Z
LAST-MODIFIED:20240109T180559Z
UID:7343-1701936000-1701972000@theratingscenter.com
SUMMARY:Tandem Instructor Conversion
DESCRIPTION:
URL:https://theratingscenter.com/calendar/tandem-instructor-conversion/
LOCATION:Skydive Spaceland Houston\, 16111 FM 521\, Rosharon\, TX\, 77583\, United States
CATEGORIES:USPA Tandem Conversion
END:VEVENT
END:VCALENDAR