BEGIN:VCALENDAR
VERSION:2.0
PRODID:-//The Ratings Center - ECPv6.15.18//NONSGML v1.0//EN
CALSCALE:GREGORIAN
METHOD:PUBLISH
X-WR-CALNAME:The Ratings Center
X-ORIGINAL-URL:https://theratingscenter.com
X-WR-CALDESC:Events for The Ratings Center
REFRESH-INTERVAL;VALUE=DURATION:PT1H
X-Robots-Tag:noindex
X-PUBLISHED-TTL:PT1H
BEGIN:VTIMEZONE
TZID:America/Chicago
BEGIN:DAYLIGHT
TZOFFSETFROM:-0600
TZOFFSETTO:-0500
TZNAME:CDT
DTSTART:20220313T080000
END:DAYLIGHT
BEGIN:STANDARD
TZOFFSETFROM:-0500
TZOFFSETTO:-0600
TZNAME:CST
DTSTART:20221106T070000
END:STANDARD
BEGIN:DAYLIGHT
TZOFFSETFROM:-0600
TZOFFSETTO:-0500
TZNAME:CDT
DTSTART:20230312T080000
END:DAYLIGHT
BEGIN:STANDARD
TZOFFSETFROM:-0500
TZOFFSETTO:-0600
TZNAME:CST
DTSTART:20231105T070000
END:STANDARD
BEGIN:DAYLIGHT
TZOFFSETFROM:-0600
TZOFFSETTO:-0500
TZNAME:CDT
DTSTART:20240310T080000
END:DAYLIGHT
BEGIN:STANDARD
TZOFFSETFROM:-0500
TZOFFSETTO:-0600
TZNAME:CST
DTSTART:20241103T070000
END:STANDARD
END:VTIMEZONE
BEGIN:VEVENT
DTSTART;TZID=America/Chicago:20231111T080000
DTEND;TZID=America/Chicago:20231111T180000
DTSTAMP:20260421T000040
CREATED:20231006T210946Z
LAST-MODIFIED:20231024T165916Z
UID:7222-1699689600-1699725600@theratingscenter.com
SUMMARY:Basic Canopy Course
DESCRIPTION:The course cost is $180 + 5 hop and pops and runs from 8AM to 6PM (ish) \nYou do not need to wait till you are B qualified. We are often asked when is the best time to take this course\, our answer\, NOW! We will help you better understand how your wing flies and how to maximize your canopy skills. The skills you learn from this course apply to any canopy. We will teach you how to learn the canopy you are jumping and how to use this knowledge and skills to learn any other wing. \nTo register for this course\, please go to our contact page
URL:https://theratingscenter.com/calendar/basic-canopy-course-137/
LOCATION:Skydive Spaceland Houston\, 16111 FM 521\, Rosharon\, TX\, 77583\, United States
CATEGORIES:Canopy Course
END:VEVENT
BEGIN:VEVENT
DTSTART;TZID=America/Chicago:20231107T080000
DTEND;TZID=America/Chicago:20231108T180000
DTSTAMP:20260421T000040
CREATED:20231103T194440Z
LAST-MODIFIED:20231103T194440Z
UID:7271-1699344000-1699466400@theratingscenter.com
SUMMARY:Tandem Instructor EP Review
DESCRIPTION:
URL:https://theratingscenter.com/calendar/tandem-instructor-ep-review-7/
LOCATION:Skydive Spaceland Houston\, 16111 FM 521\, Rosharon\, TX\, 77583\, United States
CATEGORIES:Tandem Instructor EP Review
END:VEVENT
BEGIN:VEVENT
DTSTART;TZID=America/Chicago:20231029T080000
DTEND;TZID=America/Chicago:20231029T180000
DTSTAMP:20260421T000040
CREATED:20231030T163700Z
LAST-MODIFIED:20231030T163700Z
UID:7269-1698566400-1698602400@theratingscenter.com
SUMMARY:Gravity Lab Tracking/Angle Coaching
DESCRIPTION:For more information\, including rates\, visit the freefall coaching section of our website. To register for this course\, or to schedule your own day of coaching\, please go to our contact page
URL:https://theratingscenter.com/calendar/gravity-lab-tracking-angle-coaching-52/
LOCATION:Skydive Spaceland Houston\, 16111 FM 521\, Rosharon\, TX\, 77583\, United States
CATEGORIES:Gravity Lab Tracking/Angle Coaching
END:VEVENT
BEGIN:VEVENT
DTSTART;TZID=America/Chicago:20231027T080000
DTEND;TZID=America/Chicago:20231027T180000
DTSTAMP:20260421T000040
CREATED:20231030T163629Z
LAST-MODIFIED:20231030T163629Z
UID:7267-1698393600-1698429600@theratingscenter.com
SUMMARY:Gravity Lab Tracking/Angle Coaching
DESCRIPTION:For more information\, including rates\, visit the freefall coaching section of our website. To register for this course\, or to schedule your own day of coaching\, please go to our contact page
URL:https://theratingscenter.com/calendar/gravity-lab-tracking-angle-coaching-51/
LOCATION:Skydive Spaceland Houston\, 16111 FM 521\, Rosharon\, TX\, 77583\, United States
CATEGORIES:Gravity Lab Tracking/Angle Coaching
END:VEVENT
BEGIN:VEVENT
DTSTART;TZID=America/Chicago:20231026T080000
DTEND;TZID=America/Chicago:20231026T180000
DTSTAMP:20260421T000040
CREATED:20231013T162306Z
LAST-MODIFIED:20231013T162306Z
UID:7231-1698307200-1698343200@theratingscenter.com
SUMMARY:Dallas Live Water Training
DESCRIPTION:For more information or to sign up for water training please visit; https://fb.me/e/4zCFxdicR
URL:https://theratingscenter.com/calendar/dallas-live-water-training-4/
LOCATION:TX
CATEGORIES:Live Water Training
END:VEVENT
BEGIN:VEVENT
DTSTART;TZID=America/Chicago:20231023T080000
DTEND;TZID=America/Chicago:20231029T180000
DTSTAMP:20260421T000040
CREATED:20230912T182808Z
LAST-MODIFIED:20230912T183029Z
UID:7191-1698048000-1698602400@theratingscenter.com
SUMMARY:USPA AFF Instructor Rating Course
DESCRIPTION:The USPA AFF Instructor Rating Course typically completes in up to 7 days. During the course we will discuss USPA’s AFF Student Program\, including how to conduct ground training and skydives with AFF students. You will be evaluated in ground training sessions and conducting AFF jumps\, including the preload process and debrief. For more information\, including rates\, check out the AFF Instructor Rating Page on our website. To register for this course\, please go to our contact page
URL:https://theratingscenter.com/calendar/uspa-aff-instructor-rating-course-3/
LOCATION:Skydive Spaceland Dallas\, 1039 Private Rd. 438\, Whitewright\, TX\, 75491\, United States
CATEGORIES:AFF Course
END:VEVENT
BEGIN:VEVENT
DTSTART;TZID=America/Chicago:20231022T080000
DTEND;TZID=America/Chicago:20231022T180000
DTSTAMP:20260421T000040
CREATED:20231023T143536Z
LAST-MODIFIED:20231023T143536Z
UID:7248-1697961600-1697997600@theratingscenter.com
SUMMARY:Gravity Lab Tracking/Angle Coaching
DESCRIPTION:For more information\, including rates\, visit the freefall coaching section of our website. To register for this course\, or to schedule your own day of coaching\, please go to our contact page
URL:https://theratingscenter.com/calendar/gravity-lab-tracking-angle-coaching-50/
LOCATION:Skydive Spaceland Houston\, 16111 FM 521\, Rosharon\, TX\, 77583\, United States
CATEGORIES:Gravity Lab Tracking/Angle Coaching
END:VEVENT
BEGIN:VEVENT
DTSTART;TZID=America/Chicago:20231021T080000
DTEND;TZID=America/Chicago:20231021T180000
DTSTAMP:20260421T000040
CREATED:20230908T165712Z
LAST-MODIFIED:20230919T162441Z
UID:7178-1697875200-1697911200@theratingscenter.com
SUMMARY:Basic Canopy Course
DESCRIPTION:The course cost is $180 + 5 hop and pops and runs from 8AM to 6PM (ish) \nYou do not need to wait till you are B qualified. We are often asked when is the best time to take this course\, our answer\, NOW! We will help you better understand how your wing flies and how to maximize your canopy skills. The skills you learn from this course apply to any canopy. We will teach you how to learn the canopy you are jumping and how to use this knowledge and skills to learn any other wing. \nTo register for this course\, please go to our contact page
URL:https://theratingscenter.com/calendar/basic-canopy-course-134/
LOCATION:Skydive Spaceland San Marcos\, 517 Airfield Rd.\, Fentress\, TX\, 78622\, United States
CATEGORIES:Canopy Course
END:VEVENT
BEGIN:VEVENT
DTSTART;TZID=America/Chicago:20231019T080000
DTEND;TZID=America/Chicago:20231021T180000
DTSTAMP:20260421T000040
CREATED:20230913T210925Z
LAST-MODIFIED:20230913T210925Z
UID:7197-1697702400-1697911200@theratingscenter.com
SUMMARY:USPA/UPT Sigma Tandem Instructor Course
DESCRIPTION:For more information\, including rates\, check out the Tandem Instructor Rating Page on our website. To register for this course\, please go to our contact page
URL:https://theratingscenter.com/calendar/uspa-upt-sigma-tandem-instructor-course-27/
LOCATION:Skydive Spaceland Dallas\, 1039 Private Rd. 438\, Whitewright\, TX\, 75491\, United States
CATEGORIES:UPT Vector/Sigma Tandem Course,USPA Tandem Course
END:VEVENT
BEGIN:VEVENT
DTSTART;TZID=America/Chicago:20231017T080000
DTEND;TZID=America/Chicago:20231019T180000
DTSTAMP:20260421T000040
CREATED:20230908T162439Z
LAST-MODIFIED:20230919T162211Z
UID:7173-1697529600-1697738400@theratingscenter.com
SUMMARY:USPA Coach Course
DESCRIPTION:The USPA Coach is the first instructional rating a skydiver can earn in our sport. During the course we will cover effective communication of skydiving skills for others. The coach rating is required to attend any other instructor rating course. For more information\, including rates\, check out the Coach Page on our website. To register for this course\, please go to our contact page
URL:https://theratingscenter.com/calendar/uspa-coach-course-72/
LOCATION:Skydive Spaceland San Marcos\, 517 Airfield Rd.\, Fentress\, TX\, 78622\, United States
CATEGORIES:Coach Course
END:VEVENT
BEGIN:VEVENT
DTSTART;TZID=America/Chicago:20231017T080000
DTEND;TZID=America/Chicago:20231018T180000
DTSTAMP:20260421T000040
CREATED:20230914T202853Z
LAST-MODIFIED:20230914T202853Z
UID:7199-1697529600-1697652000@theratingscenter.com
SUMMARY:Tandem Instructor EP Review
DESCRIPTION:
URL:https://theratingscenter.com/calendar/tandem-instructor-ep-review-5/
LOCATION:Skydive Spaceland Dallas\, 1039 Private Rd. 438\, Whitewright\, TX\, 75491\, United States
CATEGORIES:Tandem Instructor EP Review
END:VEVENT
BEGIN:VEVENT
DTSTART;TZID=America/Chicago:20231016T080000
DTEND;TZID=America/Chicago:20231016T180000
DTSTAMP:20260421T000040
CREATED:20231017T180323Z
LAST-MODIFIED:20231017T180323Z
UID:7237-1697443200-1697479200@theratingscenter.com
SUMMARY:Gravity Lab Tracking/Angle Coaching
DESCRIPTION:For more information\, including rates\, visit the freefall coaching section of our website. To register for this course\, or to schedule your own day of coaching\, please go to our contact page
URL:https://theratingscenter.com/calendar/gravity-lab-tracking-angle-coaching-49/
LOCATION:Skydive Spaceland Houston\, 16111 FM 521\, Rosharon\, TX\, 77583\, United States
CATEGORIES:Gravity Lab Tracking/Angle Coaching
END:VEVENT
BEGIN:VEVENT
DTSTART;TZID=America/Chicago:20231014T080000
DTEND;TZID=America/Chicago:20231014T180000
DTSTAMP:20260421T000040
CREATED:20231015T150243Z
LAST-MODIFIED:20231015T150243Z
UID:7235-1697270400-1697306400@theratingscenter.com
SUMMARY:Gravity Lab Tracking/Angle Coaching
DESCRIPTION:For more information\, including rates\, visit the freefall coaching section of our website. To register for this course\, or to schedule your own day of coaching\, please go to our contact page
URL:https://theratingscenter.com/calendar/gravity-lab-tracking-angle-coaching-48/
LOCATION:Skydive Spaceland Houston\, 16111 FM 521\, Rosharon\, TX\, 77583\, United States
CATEGORIES:Gravity Lab Tracking/Angle Coaching
END:VEVENT
BEGIN:VEVENT
DTSTART;TZID=America/Chicago:20231014T080000
DTEND;TZID=America/Chicago:20231014T180000
DTSTAMP:20260421T000040
CREATED:20230908T165625Z
LAST-MODIFIED:20230908T171417Z
UID:7176-1697270400-1697306400@theratingscenter.com
SUMMARY:Basic Canopy Course
DESCRIPTION:The course cost is $180 + 5 hop and pops and runs from 8AM to 6PM (ish) \nYou do not need to wait till you are B qualified. We are often asked when is the best time to take this course\, our answer\, NOW! We will help you better understand how your wing flies and how to maximize your canopy skills. The skills you learn from this course apply to any canopy. We will teach you how to learn the canopy you are jumping and how to use this knowledge and skills to learn any other wing. \nTo register for this course\, please go to our contact page
URL:https://theratingscenter.com/calendar/basic-canopy-course-133/
LOCATION:Skydive Spaceland Houston\, 16111 FM 521\, Rosharon\, TX\, 77583\, United States
CATEGORIES:Canopy Course
END:VEVENT
BEGIN:VEVENT
DTSTART;TZID=America/Chicago:20231013T080000
DTEND;TZID=America/Chicago:20231013T180000
DTSTAMP:20260421T000040
CREATED:20231013T212632Z
LAST-MODIFIED:20231013T212632Z
UID:7233-1697184000-1697220000@theratingscenter.com
SUMMARY:Gravity Lab Tracking/Angle Coaching
DESCRIPTION:For more information\, including rates\, visit the freefall coaching section of our website. To register for this course\, or to schedule your own day of coaching\, please go to our contact page
URL:https://theratingscenter.com/calendar/gravity-lab-tracking-angle-coaching-47/
LOCATION:Skydive Spaceland Houston\, 16111 FM 521\, Rosharon\, TX\, 77583\, United States
CATEGORIES:Gravity Lab Tracking/Angle Coaching
END:VEVENT
BEGIN:VEVENT
DTSTART;TZID=America/Chicago:20231011T080000
DTEND;TZID=America/Chicago:20231011T180000
DTSTAMP:20260421T000040
CREATED:20230908T171009Z
LAST-MODIFIED:20230908T171220Z
UID:7180-1697011200-1697047200@theratingscenter.com
SUMMARY:Basic Canopy Course
DESCRIPTION:The course cost is $180 + 5 hop and pops and runs from 8AM to 6PM (ish) \nYou do not need to wait till you are B qualified. We are often asked when is the best time to take this course\, our answer\, NOW! We will help you better understand how your wing flies and how to maximize your canopy skills. The skills you learn from this course apply to any canopy. We will teach you how to learn the canopy you are jumping and how to use this knowledge and skills to learn any other wing. \nTo register for this course\, please go to our contact page
URL:https://theratingscenter.com/calendar/basic-canopy-course-135/
LOCATION:Skydive Spaceland San Marcos\, 517 Airfield Rd.\, Fentress\, TX\, 78622\, United States
CATEGORIES:Canopy Course
END:VEVENT
BEGIN:VEVENT
DTSTART;TZID=America/Chicago:20231007T080000
DTEND;TZID=America/Chicago:20231007T180000
DTSTAMP:20260421T000040
CREATED:20230919T163925Z
LAST-MODIFIED:20230919T163925Z
UID:7212-1696665600-1696701600@theratingscenter.com
SUMMARY:Basic Canopy Course
DESCRIPTION:The course cost is $180 + 5 hop and pops and runs from 8AM to 6PM (ish) \nYou do not need to wait till you are B qualified. We are often asked when is the best time to take this course\, our answer\, NOW! We will help you better understand how your wing flies and how to maximize your canopy skills. The skills you learn from this course apply to any canopy. We will teach you how to learn the canopy you are jumping and how to use this knowledge and skills to learn any other wing. \nTo register for this course\, please go to our contact page
URL:https://theratingscenter.com/calendar/basic-canopy-course-136/
LOCATION:Skydive Spaceland Dallas\, 1039 Private Rd. 438\, Whitewright\, TX\, 75491\, United States
CATEGORIES:Canopy Course
END:VEVENT
BEGIN:VEVENT
DTSTART;TZID=America/Chicago:20231003T080000
DTEND;TZID=America/Chicago:20231005T180000
DTSTAMP:20260421T000040
CREATED:20230912T182340Z
LAST-MODIFIED:20230912T183257Z
UID:7189-1696320000-1696528800@theratingscenter.com
SUMMARY:USPA Coach Course
DESCRIPTION:The USPA Coach is the first instructional rating a skydiver can earn in our sport. During the course we will cover effective communication of skydiving skills for others. The coach rating is required to attend any other instructor rating course. For more information\, including rates\, check out the Coach Page on our website. To register for this course\, please go to our contact page
URL:https://theratingscenter.com/calendar/uspa-coach-course-73/
LOCATION:Skydive Spaceland Dallas\, 1039 Private Rd. 438\, Whitewright\, TX\, 75491\, United States
CATEGORIES:Coach Course
END:VEVENT
BEGIN:VEVENT
DTSTART;TZID=America/Chicago:20230930T080000
DTEND;TZID=America/Chicago:20230930T180000
DTSTAMP:20260421T000040
CREATED:20231006T212739Z
LAST-MODIFIED:20231006T212739Z
UID:7228-1696060800-1696096800@theratingscenter.com
SUMMARY:Gravity Lab Tracking/Angle Coaching
DESCRIPTION:For more information\, including rates\, visit the freefall coaching section of our website. To register for this course\, or to schedule your own day of coaching\, please go to our contact page
URL:https://theratingscenter.com/calendar/gravity-lab-tracking-angle-coaching-46/
LOCATION:Skydive Spaceland Houston\, 16111 FM 521\, Rosharon\, TX\, 77583\, United States
CATEGORIES:Gravity Lab Tracking/Angle Coaching
END:VEVENT
BEGIN:VEVENT
DTSTART;TZID=America/Chicago:20230923T080000
DTEND;TZID=America/Chicago:20230923T180000
DTSTAMP:20260421T000040
CREATED:20230918T181223Z
LAST-MODIFIED:20230918T181223Z
UID:7205-1695456000-1695492000@theratingscenter.com
SUMMARY:Gravity Lab Canopy Coaching
DESCRIPTION:For more information\, including rates\, visit the Canopy Coaching Section of our website. To register for this course\, or to schedule your own day of coaching\, please go to our contact page
URL:https://theratingscenter.com/calendar/gravity-lab-canopy-coaching-34/
LOCATION:Skydive Spaceland Houston\, 16111 FM 521\, Rosharon\, TX\, 77583\, United States
CATEGORIES:Gravity Lab Canopy Coaching
END:VEVENT
BEGIN:VEVENT
DTSTART;TZID=America/Chicago:20230922T080000
DTEND;TZID=America/Chicago:20230924T180000
DTSTAMP:20260421T000040
CREATED:20230829T133157Z
LAST-MODIFIED:20230829T133157Z
UID:7166-1695369600-1695578400@theratingscenter.com
SUMMARY:USPA Coach Course
DESCRIPTION:The USPA Coach is the first instructional rating a skydiver can earn in our sport. During the course we will cover effective communication of skydiving skills for others. The coach rating is required to attend any other instructor rating course. For more information\, including rates\, check out the Coach Page on our website. To register for this course\, please go to our contact page
URL:https://theratingscenter.com/calendar/uspa-coach-course-71/
LOCATION:Texas Skydiving\, 1055 Pvt Rd 7022\, Lexington\, TX\, 78947\, United States
CATEGORIES:Coach Course
END:VEVENT
BEGIN:VEVENT
DTSTART;TZID=America/Chicago:20230922T080000
DTEND;TZID=America/Chicago:20230922T180000
DTSTAMP:20260421T000040
CREATED:20230925T140155Z
LAST-MODIFIED:20230925T140155Z
UID:7218-1695369600-1695405600@theratingscenter.com
SUMMARY:Gravity Lab Tracking/Angle Coaching
DESCRIPTION:For more information\, including rates\, visit the freefall coaching section of our website. To register for this course\, or to schedule your own day of coaching\, please go to our contact page
URL:https://theratingscenter.com/calendar/gravity-lab-tracking-angle-coaching-45/
LOCATION:Skydive Spaceland Houston\, 16111 FM 521\, Rosharon\, TX\, 77583\, United States
CATEGORIES:Gravity Lab Tracking/Angle Coaching
END:VEVENT
BEGIN:VEVENT
DTSTART;TZID=America/Chicago:20230916T080000
DTEND;TZID=America/Chicago:20230916T180000
DTSTAMP:20260421T000040
CREATED:20230913T194701Z
LAST-MODIFIED:20230913T194701Z
UID:7195-1694851200-1694887200@theratingscenter.com
SUMMARY:Basic Canopy Course (Private)
DESCRIPTION:The course cost is $180 + 5 hop and pops and runs from 8AM to 6PM (ish) \nYou do not need to wait till you are B qualified. We are often asked when is the best time to take this course\, our answer\, NOW! We will help you better understand how your wing flies and how to maximize your canopy skills. The skills you learn from this course apply to any canopy. We will teach you how to learn the canopy you are jumping and how to use this knowledge and skills to learn any other wing. \nTo register for this course\, please go to our contact page
URL:https://theratingscenter.com/calendar/basic-canopy-course-private-7/
LOCATION:Skydive Spaceland Houston\, 16111 FM 521\, Rosharon\, TX\, 77583\, United States
CATEGORIES:Canopy Course
END:VEVENT
BEGIN:VEVENT
DTSTART;TZID=America/Chicago:20230916T080000
DTEND;TZID=America/Chicago:20230916T180000
DTSTAMP:20260421T000040
CREATED:20230811T190840Z
LAST-MODIFIED:20230811T190840Z
UID:7140-1694851200-1694887200@theratingscenter.com
SUMMARY:Basic Canopy Course
DESCRIPTION:The course cost is $180 + 5 hop and pops and runs from 8AM to 6PM (ish) \nYou do not need to wait till you are B qualified. We are often asked when is the best time to take this course\, our answer\, NOW! We will help you better understand how your wing flies and how to maximize your canopy skills. The skills you learn from this course apply to any canopy. We will teach you how to learn the canopy you are jumping and how to use this knowledge and skills to learn any other wing. \nTo register for this course\, please go to our contact page
URL:https://theratingscenter.com/calendar/basic-canopy-course-132/
LOCATION:Skydive Spaceland Dallas\, 1039 Private Rd. 438\, Whitewright\, TX\, 75491\, United States
CATEGORIES:Canopy Course
END:VEVENT
BEGIN:VEVENT
DTSTART;TZID=America/Chicago:20230916T080000
DTEND;TZID=America/Chicago:20230916T180000
DTSTAMP:20260421T000040
CREATED:20230811T190805Z
LAST-MODIFIED:20230811T190805Z
UID:7138-1694851200-1694887200@theratingscenter.com
SUMMARY:Basic Canopy Course
DESCRIPTION:The course cost is $180 + 5 hop and pops and runs from 8AM to 6PM (ish) \nYou do not need to wait till you are B qualified. We are often asked when is the best time to take this course\, our answer\, NOW! We will help you better understand how your wing flies and how to maximize your canopy skills. The skills you learn from this course apply to any canopy. We will teach you how to learn the canopy you are jumping and how to use this knowledge and skills to learn any other wing. \nTo register for this course\, please go to our contact page
URL:https://theratingscenter.com/calendar/basic-canopy-course-131/
LOCATION:Skydive Spaceland San Marcos\, 517 Airfield Rd.\, Fentress\, TX\, 78622\, United States
CATEGORIES:Canopy Course
END:VEVENT
BEGIN:VEVENT
DTSTART;TZID=America/Chicago:20230915T080000
DTEND;TZID=America/Chicago:20230915T180000
DTSTAMP:20260421T000040
CREATED:20230915T195855Z
LAST-MODIFIED:20230915T195855Z
UID:7201-1694764800-1694800800@theratingscenter.com
SUMMARY:Gravity Lab Tracking/Angle Coaching
DESCRIPTION:For more information\, including rates\, visit the freefall coaching section of our website. To register for this course\, or to schedule your own day of coaching\, please go to our contact page
URL:https://theratingscenter.com/calendar/gravity-lab-tracking-angle-coaching-44/
LOCATION:Skydive Spaceland Houston\, 16111 FM 521\, Rosharon\, TX\, 77583\, United States
CATEGORIES:Gravity Lab Tracking/Angle Coaching
END:VEVENT
BEGIN:VEVENT
DTSTART;TZID=America/Chicago:20230911T080000
DTEND;TZID=America/Chicago:20230917T180000
DTSTAMP:20260421T000040
CREATED:20230725T022555Z
LAST-MODIFIED:20230725T022555Z
UID:7110-1694419200-1694973600@theratingscenter.com
SUMMARY:USPA AFF Instructor Rating Course
DESCRIPTION:The USPA AFF Instructor Rating Course typically completes in up to 7 days. During the course we will discuss USPA’s AFF Student Program\, including how to conduct ground training and skydives with AFF students. You will be evaluated in ground training sessions and conducting AFF jumps\, including the preload process and debrief. For more information\, including rates\, check out the AFF Instructor Rating Page on our website. To register for this course\, please go to our contact page
URL:https://theratingscenter.com/calendar/uspa-aff-instructor-rating-course-2/
LOCATION:Skydive Spaceland Houston\, 16111 FM 521\, Rosharon\, TX\, 77583\, United States
CATEGORIES:AFF Course
END:VEVENT
BEGIN:VEVENT
DTSTART;TZID=America/Chicago:20230909T080000
DTEND;TZID=America/Chicago:20230909T180000
DTSTAMP:20260421T000040
CREATED:20230912T171605Z
LAST-MODIFIED:20230912T171605Z
UID:7187-1694246400-1694282400@theratingscenter.com
SUMMARY:Gravity Lab Tracking/Angle Coaching
DESCRIPTION:For more information\, including rates\, visit the freefall coaching section of our website. To register for this course\, or to schedule your own day of coaching\, please go to our contact page
URL:https://theratingscenter.com/calendar/gravity-lab-tracking-angle-coaching-43/
LOCATION:Skydive Spaceland Houston\, 16111 FM 521\, Rosharon\, TX\, 77583\, United States
CATEGORIES:Gravity Lab Tracking/Angle Coaching
END:VEVENT
BEGIN:VEVENT
DTSTART;TZID=America/Chicago:20230909T080000
DTEND;TZID=America/Chicago:20230909T180000
DTSTAMP:20260421T000040
CREATED:20230811T190732Z
LAST-MODIFIED:20230829T192339Z
UID:7136-1694246400-1694282400@theratingscenter.com
SUMMARY:Basic Canopy Course
DESCRIPTION:The course cost is $180 + 5 hop and pops and runs from 8AM to 6PM (ish) \nYou do not need to wait till you are B qualified. We are often asked when is the best time to take this course\, our answer\, NOW! We will help you better understand how your wing flies and how to maximize your canopy skills. The skills you learn from this course apply to any canopy. We will teach you how to learn the canopy you are jumping and how to use this knowledge and skills to learn any other wing. \nTo register for this course\, please go to our contact page
URL:https://theratingscenter.com/calendar/basic-canopy-course-130/
LOCATION:Skydive Spaceland Houston\, 16111 FM 521\, Rosharon\, TX\, 77583\, United States
CATEGORIES:Canopy Course
END:VEVENT
BEGIN:VEVENT
DTSTART;TZID=America/Chicago:20230908T080000
DTEND;TZID=America/Chicago:20230908T180000
DTSTAMP:20260421T000040
CREATED:20231006T211706Z
LAST-MODIFIED:20231006T211706Z
UID:7226-1694160000-1694196000@theratingscenter.com
SUMMARY:Houston Live Water Training
DESCRIPTION:For more information or to sign up for water training please visit; https://www.facebook.com/events/1391647261398839
URL:https://theratingscenter.com/calendar/houston-live-water-training-3/
LOCATION:TX
CATEGORIES:Live Water Training
END:VEVENT
END:VCALENDAR