BEGIN:VCALENDAR
VERSION:2.0
PRODID:-//The Ratings Center - ECPv6.15.18//NONSGML v1.0//EN
CALSCALE:GREGORIAN
METHOD:PUBLISH
X-WR-CALNAME:The Ratings Center
X-ORIGINAL-URL:https://theratingscenter.com
X-WR-CALDESC:Events for The Ratings Center
REFRESH-INTERVAL;VALUE=DURATION:PT1H
X-Robots-Tag:noindex
X-PUBLISHED-TTL:PT1H
BEGIN:VTIMEZONE
TZID:America/Chicago
BEGIN:DAYLIGHT
TZOFFSETFROM:-0600
TZOFFSETTO:-0500
TZNAME:CDT
DTSTART:20220313T080000
END:DAYLIGHT
BEGIN:STANDARD
TZOFFSETFROM:-0500
TZOFFSETTO:-0600
TZNAME:CST
DTSTART:20221106T070000
END:STANDARD
BEGIN:DAYLIGHT
TZOFFSETFROM:-0600
TZOFFSETTO:-0500
TZNAME:CDT
DTSTART:20230312T080000
END:DAYLIGHT
BEGIN:STANDARD
TZOFFSETFROM:-0500
TZOFFSETTO:-0600
TZNAME:CST
DTSTART:20231105T070000
END:STANDARD
BEGIN:DAYLIGHT
TZOFFSETFROM:-0600
TZOFFSETTO:-0500
TZNAME:CDT
DTSTART:20240310T080000
END:DAYLIGHT
BEGIN:STANDARD
TZOFFSETFROM:-0500
TZOFFSETTO:-0600
TZNAME:CST
DTSTART:20241103T070000
END:STANDARD
END:VTIMEZONE
BEGIN:VEVENT
DTSTART;TZID=America/Chicago:20230722T080000
DTEND;TZID=America/Chicago:20230722T180000
DTSTAMP:20260421T093610
CREATED:20230723T130304Z
LAST-MODIFIED:20230723T130304Z
UID:7102-1690012800-1690048800@theratingscenter.com
SUMMARY:Gravity Lab Tracking/Angle Coaching
DESCRIPTION:For more information\, including rates\, visit the freefall coaching section of our website. To register for this course\, or to schedule your own day of coaching\, please go to our contact page
URL:https://theratingscenter.com/calendar/gravity-lab-tracking-angle-coaching-33/
LOCATION:Skydive Spaceland Houston\, 16111 FM 521\, Rosharon\, TX\, 77583\, United States
CATEGORIES:Gravity Lab Tracking/Angle Coaching
END:VEVENT
BEGIN:VEVENT
DTSTART;TZID=America/Chicago:20230722T080000
DTEND;TZID=America/Chicago:20230722T180000
DTSTAMP:20260421T093610
CREATED:20230615T172941Z
LAST-MODIFIED:20230615T172941Z
UID:7040-1690012800-1690048800@theratingscenter.com
SUMMARY:Basic Canopy Course
DESCRIPTION:The course cost is $180 + 5 hop and pops and runs from 8AM to 6PM (ish) \nYou do not need to wait till you are B qualified. We are often asked when is the best time to take this course\, our answer\, NOW! We will help you better understand how your wing flies and how to maximize your canopy skills. The skills you learn from this course apply to any canopy. We will teach you how to learn the canopy you are jumping and how to use this knowledge and skills to learn any other wing. \nTo register for this course\, please go to our contact page
URL:https://theratingscenter.com/calendar/basic-canopy-course-126/
LOCATION:Skydive Spaceland Dallas\, 1039 Private Rd. 438\, Whitewright\, TX\, 75491\, United States
CATEGORIES:Canopy Course
END:VEVENT
BEGIN:VEVENT
DTSTART;TZID=America/Chicago:20230721T080000
DTEND;TZID=America/Chicago:20230721T180000
DTSTAMP:20260421T093610
CREATED:20230723T130354Z
LAST-MODIFIED:20230723T130354Z
UID:7104-1689926400-1689962400@theratingscenter.com
SUMMARY:Gravity Lab Freefly Coaching
DESCRIPTION:For more information\, including rates\, visit the freefall coaching section of our website. To register for this course\, or to schedule your own day of coaching\, please go to our contact page
URL:https://theratingscenter.com/calendar/gravity-lab-freefly-coaching-12/
LOCATION:Skydive Spaceland Houston\, 16111 FM 521\, Rosharon\, TX\, 77583\, United States
CATEGORIES:Gravity Lab Freefly Coaching
END:VEVENT
BEGIN:VEVENT
DTSTART;TZID=America/Chicago:20230720T080000
DTEND;TZID=America/Chicago:20230720T180000
DTSTAMP:20260421T093610
CREATED:20230720T174325Z
LAST-MODIFIED:20230720T174325Z
UID:7100-1689840000-1689876000@theratingscenter.com
SUMMARY:Gravity Lab Canopy Coaching
DESCRIPTION:For more information\, including rates\, visit the Canopy Coaching Section of our website. To register for this course\, or to schedule your own day of coaching\, please go to our contact page
URL:https://theratingscenter.com/calendar/gravity-lab-canopy-coaching-28/
LOCATION:Skydive Spaceland Houston\, 16111 FM 521\, Rosharon\, TX\, 77583\, United States
CATEGORIES:Gravity Lab Canopy Coaching
END:VEVENT
BEGIN:VEVENT
DTSTART;TZID=America/Chicago:20230720T080000
DTEND;TZID=America/Chicago:20230720T180000
DTSTAMP:20260421T093610
CREATED:20230720T174239Z
LAST-MODIFIED:20230720T174239Z
UID:7098-1689840000-1689876000@theratingscenter.com
SUMMARY:Gravity Lab Tracking/Angle Coaching
DESCRIPTION:For more information\, including rates\, visit the freefall coaching section of our website. To register for this course\, or to schedule your own day of coaching\, please go to our contact page
URL:https://theratingscenter.com/calendar/gravity-lab-tracking-angle-coaching-32/
LOCATION:Skydive Spaceland Houston\, 16111 FM 521\, Rosharon\, TX\, 77583\, United States
CATEGORIES:Gravity Lab Tracking/Angle Coaching
END:VEVENT
BEGIN:VEVENT
DTSTART;TZID=America/Chicago:20230718T080000
DTEND;TZID=America/Chicago:20230718T180000
DTSTAMP:20260421T093610
CREATED:20230713T143818Z
LAST-MODIFIED:20230713T143818Z
UID:7082-1689667200-1689703200@theratingscenter.com
SUMMARY:Basic Canopy Course
DESCRIPTION:The course cost is $180 + 5 hop and pops and runs from 8AM to 6PM (ish) \nYou do not need to wait till you are B qualified. We are often asked when is the best time to take this course\, our answer\, NOW! We will help you better understand how your wing flies and how to maximize your canopy skills. The skills you learn from this course apply to any canopy. We will teach you how to learn the canopy you are jumping and how to use this knowledge and skills to learn any other wing. \nTo register for this course\, please go to our contact page
URL:https://theratingscenter.com/calendar/basic-canopy-course-127/
LOCATION:Skydive Spaceland San Marcos\, 517 Airfield Rd.\, Fentress\, TX\, 78622\, United States
CATEGORIES:Canopy Course
END:VEVENT
BEGIN:VEVENT
DTSTART;TZID=America/Chicago:20230717T080000
DTEND;TZID=America/Chicago:20230717T180000
DTSTAMP:20260421T093610
CREATED:20230719T162644Z
LAST-MODIFIED:20230719T162644Z
UID:7096-1689580800-1689616800@theratingscenter.com
SUMMARY:Gravity Lab Tracking/Angle Coaching
DESCRIPTION:For more information\, including rates\, visit the freefall coaching section of our website. To register for this course\, or to schedule your own day of coaching\, please go to our contact page
URL:https://theratingscenter.com/calendar/gravity-lab-tracking-angle-coaching-31/
LOCATION:Skydive Spaceland Houston\, 16111 FM 521\, Rosharon\, TX\, 77583\, United States
CATEGORIES:Gravity Lab Tracking/Angle Coaching
END:VEVENT
BEGIN:VEVENT
DTSTART;TZID=America/Chicago:20230716T080000
DTEND;TZID=America/Chicago:20230716T180000
DTSTAMP:20260421T093610
CREATED:20230717T154818Z
LAST-MODIFIED:20230717T154818Z
UID:7092-1689494400-1689530400@theratingscenter.com
SUMMARY:Gravity Lab Tracking/Angle Coaching
DESCRIPTION:For more information\, including rates\, visit the freefall coaching section of our website. To register for this course\, or to schedule your own day of coaching\, please go to our contact page
URL:https://theratingscenter.com/calendar/gravity-lab-tracking-angle-coaching-30/
LOCATION:Skydive Spaceland Houston\, 16111 FM 521\, Rosharon\, TX\, 77583\, United States
CATEGORIES:Gravity Lab Tracking/Angle Coaching
END:VEVENT
BEGIN:VEVENT
DTSTART;TZID=America/Chicago:20230715T080000
DTEND;TZID=America/Chicago:20230715T180000
DTSTAMP:20260421T093610
CREATED:20230717T154713Z
LAST-MODIFIED:20230717T154713Z
UID:7090-1689408000-1689444000@theratingscenter.com
SUMMARY:Gravity Lab Tracking/Angle Coaching
DESCRIPTION:For more information\, including rates\, visit the freefall coaching section of our website. To register for this course\, or to schedule your own day of coaching\, please go to our contact page
URL:https://theratingscenter.com/calendar/gravity-lab-tracking-angle-coaching-29/
LOCATION:Skydive Spaceland Houston\, 16111 FM 521\, Rosharon\, TX\, 77583\, United States
CATEGORIES:Gravity Lab Tracking/Angle Coaching
END:VEVENT
BEGIN:VEVENT
DTSTART;TZID=America/Chicago:20230715T080000
DTEND;TZID=America/Chicago:20230715T180000
DTSTAMP:20260421T093610
CREATED:20230606T140527Z
LAST-MODIFIED:20230606T140527Z
UID:7029-1689408000-1689444000@theratingscenter.com
SUMMARY:Basic Canopy Course
DESCRIPTION:The course cost is $180 + 5 hop and pops and runs from 8AM to 6PM (ish) \nYou do not need to wait till you are B qualified. We are often asked when is the best time to take this course\, our answer\, NOW! We will help you better understand how your wing flies and how to maximize your canopy skills. The skills you learn from this course apply to any canopy. We will teach you how to learn the canopy you are jumping and how to use this knowledge and skills to learn any other wing. \nTo register for this course\, please go to our contact page
URL:https://theratingscenter.com/calendar/basic-canopy-course-124/
LOCATION:Skydive Spaceland San Marcos\, 517 Airfield Rd.\, Fentress\, TX\, 78622\, United States
CATEGORIES:Canopy Course
END:VEVENT
BEGIN:VEVENT
DTSTART;TZID=America/Chicago:20230714T080000
DTEND;TZID=America/Chicago:20230714T180000
DTSTAMP:20260421T093610
CREATED:20230717T154937Z
LAST-MODIFIED:20230717T154937Z
UID:7094-1689321600-1689357600@theratingscenter.com
SUMMARY:Gravity Lab Canopy Coaching
DESCRIPTION:For more information\, including rates\, visit the Canopy Coaching Section of our website. To register for this course\, or to schedule your own day of coaching\, please go to our contact page
URL:https://theratingscenter.com/calendar/gravity-lab-canopy-coaching-27/
LOCATION:Skydive Spaceland Houston\, 16111 FM 521\, Rosharon\, TX\, 77583\, United States
CATEGORIES:Gravity Lab Canopy Coaching
END:VEVENT
BEGIN:VEVENT
DTSTART;TZID=America/Chicago:20230714T080000
DTEND;TZID=America/Chicago:20230714T180000
DTSTAMP:20260421T093610
CREATED:20230717T153414Z
LAST-MODIFIED:20230717T153414Z
UID:7088-1689321600-1689357600@theratingscenter.com
SUMMARY:Gravity Lab Tracking/Angle Coaching
DESCRIPTION:For more information\, including rates\, visit the freefall coaching section of our website. To register for this course\, or to schedule your own day of coaching\, please go to our contact page
URL:https://theratingscenter.com/calendar/gravity-lab-tracking-angle-coaching-28/
LOCATION:Skydive Spaceland Houston\, 16111 FM 521\, Rosharon\, TX\, 77583\, United States
CATEGORIES:Gravity Lab Tracking/Angle Coaching
END:VEVENT
BEGIN:VEVENT
DTSTART;TZID=America/Chicago:20230711T080000
DTEND;TZID=America/Chicago:20230713T180000
DTSTAMP:20260421T093610
CREATED:20230525T185505Z
LAST-MODIFIED:20230525T185940Z
UID:7014-1689062400-1689271200@theratingscenter.com
SUMMARY:USPA Coach Course (En Español)
DESCRIPTION:El curso de Coach de Uspa es la primera certificación que un paracaidista puede obtener en nuestro deporte. Durante este cubriremos la forma efectiva de comunicarse con los otros. El curso de Coach es un requisito para cualquier otro curso de Instructor. Para más información \, y precios\, consulte los precios de Coach en nuestra página web. Para registrase en el curso \, por favor vaya a nuestra página de contacto.
URL:https://theratingscenter.com/calendar/uspa-coach-course-en-espanol/
LOCATION:Skydive Spaceland Houston\, 16111 FM 521\, Rosharon\, TX\, 77583\, United States
CATEGORIES:Coach Course
END:VEVENT
BEGIN:VEVENT
DTSTART;TZID=America/Chicago:20230708T080000
DTEND;TZID=America/Chicago:20230708T180000
DTSTAMP:20260421T093610
CREATED:20230710T015946Z
LAST-MODIFIED:20230710T015946Z
UID:7069-1688803200-1688839200@theratingscenter.com
SUMMARY:Gravity Lab Tracking/Angle Coaching
DESCRIPTION:For more information\, including rates\, visit the freefall coaching section of our website. To register for this course\, or to schedule your own day of coaching\, please go to our contact page
URL:https://theratingscenter.com/calendar/gravity-lab-tracking-angle-coaching-27/
LOCATION:Skydive Spaceland Houston\, 16111 FM 521\, Rosharon\, TX\, 77583\, United States
CATEGORIES:Gravity Lab Tracking/Angle Coaching
END:VEVENT
BEGIN:VEVENT
DTSTART;TZID=America/Chicago:20230708T080000
DTEND;TZID=America/Chicago:20230708T180000
DTSTAMP:20260421T093610
CREATED:20230530T183837Z
LAST-MODIFIED:20230530T183908Z
UID:7026-1688803200-1688839200@theratingscenter.com
SUMMARY:Basic Canopy Course
DESCRIPTION:The course cost is $180 + 5 hop and pops and runs from 8AM to 6PM (ish) \nYou do not need to wait till you are B qualified. We are often asked when is the best time to take this course\, our answer\, NOW! We will help you better understand how your wing flies and how to maximize your canopy skills. The skills you learn from this course apply to any canopy. We will teach you how to learn the canopy you are jumping and how to use this knowledge and skills to learn any other wing. \nTo register for this course\, please go to our contact page
URL:https://theratingscenter.com/calendar/basic-canopy-course-123/
LOCATION:Skydive Spaceland Houston\, 16111 FM 521\, Rosharon\, TX\, 77583\, United States
CATEGORIES:Canopy Course
END:VEVENT
BEGIN:VEVENT
DTSTART;TZID=America/Chicago:20230707T080000
DTEND;TZID=America/Chicago:20230707T180000
DTSTAMP:20260421T093610
CREATED:20230710T015919Z
LAST-MODIFIED:20230710T015919Z
UID:7067-1688716800-1688752800@theratingscenter.com
SUMMARY:Gravity Lab Tracking/Angle Coaching
DESCRIPTION:For more information\, including rates\, visit the freefall coaching section of our website. To register for this course\, or to schedule your own day of coaching\, please go to our contact page
URL:https://theratingscenter.com/calendar/gravity-lab-tracking-angle-coaching-26/
LOCATION:Skydive Spaceland Houston\, 16111 FM 521\, Rosharon\, TX\, 77583\, United States
CATEGORIES:Gravity Lab Tracking/Angle Coaching
END:VEVENT
BEGIN:VEVENT
DTSTART;TZID=America/Chicago:20230706T080000
DTEND;TZID=America/Chicago:20230706T180000
DTSTAMP:20260421T093610
CREATED:20230710T015847Z
LAST-MODIFIED:20230710T015847Z
UID:7065-1688630400-1688666400@theratingscenter.com
SUMMARY:Gravity Lab Tracking/Angle Coaching
DESCRIPTION:For more information\, including rates\, visit the freefall coaching section of our website. To register for this course\, or to schedule your own day of coaching\, please go to our contact page
URL:https://theratingscenter.com/calendar/gravity-lab-tracking-angle-coaching-25/
LOCATION:Skydive Spaceland Houston\, 16111 FM 521\, Rosharon\, TX\, 77583\, United States
CATEGORIES:Gravity Lab Tracking/Angle Coaching
END:VEVENT
BEGIN:VEVENT
DTSTART;TZID=America/Chicago:20230702T080000
DTEND;TZID=America/Chicago:20230702T180000
DTSTAMP:20260421T093610
CREATED:20230703T171210Z
LAST-MODIFIED:20230703T171210Z
UID:7061-1688284800-1688320800@theratingscenter.com
SUMMARY:Gravity Lab Tracking/Angle Coaching
DESCRIPTION:For more information\, including rates\, visit the freefall coaching section of our website. To register for this course\, or to schedule your own day of coaching\, please go to our contact page
URL:https://theratingscenter.com/calendar/gravity-lab-tracking-angle-coaching-24/
LOCATION:Skydive Spaceland Houston\, 16111 FM 521\, Rosharon\, TX\, 77583\, United States
CATEGORIES:Gravity Lab Tracking/Angle Coaching
END:VEVENT
BEGIN:VEVENT
DTSTART;TZID=America/Chicago:20230702T080000
DTEND;TZID=America/Chicago:20230702T180000
DTSTAMP:20260421T093610
CREATED:20230703T164252Z
LAST-MODIFIED:20230703T164252Z
UID:7056-1688284800-1688320800@theratingscenter.com
SUMMARY:Basic Canopy Course (Private)
DESCRIPTION:The course cost is $180 + 5 hop and pops and runs from 8AM to 6PM (ish) \nYou do not need to wait till you are B qualified. We are often asked when is the best time to take this course\, our answer\, NOW! We will help you better understand how your wing flies and how to maximize your canopy skills. The skills you learn from this course apply to any canopy. We will teach you how to learn the canopy you are jumping and how to use this knowledge and skills to learn any other wing. \nTo register for this course\, please go to our contact page
URL:https://theratingscenter.com/calendar/basic-canopy-course-private-5/
LOCATION:Skydive Spaceland Houston\, 16111 FM 521\, Rosharon\, TX\, 77583\, United States
CATEGORIES:Canopy Course
END:VEVENT
BEGIN:VEVENT
DTSTART;TZID=America/Chicago:20230630T190000
DTEND;TZID=America/Chicago:20230630T200000
DTSTAMP:20260421T093610
CREATED:20230613T204119Z
LAST-MODIFIED:20230613T204119Z
UID:7038-1688151600-1688155200@theratingscenter.com
SUMMARY:Houston Live Water Training
DESCRIPTION:For more information or to sign up for water training please visit; https://fb.me/e/Pev1zNKj
URL:https://theratingscenter.com/calendar/houston-live-water-training-2/
LOCATION:TX
END:VEVENT
BEGIN:VEVENT
DTSTART;TZID=America/Chicago:20230630T080000
DTEND;TZID=America/Chicago:20230630T180000
DTSTAMP:20260421T093610
CREATED:20230703T171518Z
LAST-MODIFIED:20230703T171518Z
UID:7063-1688112000-1688148000@theratingscenter.com
SUMMARY:Gravity Lab Freefly Coaching
DESCRIPTION:For more information\, including rates\, visit the freefall coaching section of our website. To register for this course\, or to schedule your own day of coaching\, please go to our contact page
URL:https://theratingscenter.com/calendar/gravity-lab-freefly-coaching-11/
LOCATION:Skydive Spaceland Houston\, 16111 FM 521\, Rosharon\, TX\, 77583\, United States
CATEGORIES:Gravity Lab Freefly Coaching
END:VEVENT
BEGIN:VEVENT
DTSTART;TZID=America/Chicago:20230630T080000
DTEND;TZID=America/Chicago:20230630T180000
DTSTAMP:20260421T093610
CREATED:20230703T171140Z
LAST-MODIFIED:20230703T171140Z
UID:7059-1688112000-1688148000@theratingscenter.com
SUMMARY:Gravity Lab Tracking/Angle Coaching
DESCRIPTION:For more information\, including rates\, visit the freefall coaching section of our website. To register for this course\, or to schedule your own day of coaching\, please go to our contact page
URL:https://theratingscenter.com/calendar/gravity-lab-tracking-angle-coaching-23/
LOCATION:Skydive Spaceland Houston\, 16111 FM 521\, Rosharon\, TX\, 77583\, United States
CATEGORIES:Gravity Lab Tracking/Angle Coaching
END:VEVENT
BEGIN:VEVENT
DTSTART;TZID=America/Chicago:20230629T080000
DTEND;TZID=America/Chicago:20230629T180000
DTSTAMP:20260421T093610
CREATED:20230630T001302Z
LAST-MODIFIED:20230630T001302Z
UID:7054-1688025600-1688061600@theratingscenter.com
SUMMARY:Gravity Lab Tracking/Angle Coaching
DESCRIPTION:For more information\, including rates\, visit the freefall coaching section of our website. To register for this course\, or to schedule your own day of coaching\, please go to our contact page
URL:https://theratingscenter.com/calendar/gravity-lab-tracking-angle-coaching-22/
LOCATION:Skydive Spaceland Houston\, 16111 FM 521\, Rosharon\, TX\, 77583\, United States
CATEGORIES:Gravity Lab Tracking/Angle Coaching
END:VEVENT
BEGIN:VEVENT
DTSTART;TZID=America/Chicago:20230628T080000
DTEND;TZID=America/Chicago:20230628T180000
DTSTAMP:20260421T093610
CREATED:20230630T001224Z
LAST-MODIFIED:20230630T001224Z
UID:7052-1687939200-1687975200@theratingscenter.com
SUMMARY:Gravity Lab Tracking/Angle Coaching
DESCRIPTION:For more information\, including rates\, visit the freefall coaching section of our website. To register for this course\, or to schedule your own day of coaching\, please go to our contact page
URL:https://theratingscenter.com/calendar/gravity-lab-tracking-angle-coaching-21/
LOCATION:Skydive Spaceland Houston\, 16111 FM 521\, Rosharon\, TX\, 77583\, United States
CATEGORIES:Gravity Lab Tracking/Angle Coaching
END:VEVENT
BEGIN:VEVENT
DTSTART;TZID=America/Chicago:20230623T080000
DTEND;TZID=America/Chicago:20230625T180000
DTSTAMP:20260421T093610
CREATED:20230710T201139Z
LAST-MODIFIED:20230710T201139Z
UID:7080-1687507200-1687716000@theratingscenter.com
SUMMARY:USPA Coach Course
DESCRIPTION:The USPA Coach is the first instructional rating a skydiver can earn in our sport. During the course we will cover effective communication of skydiving skills for others. The coach rating is required to attend any other instructor rating course. For more information\, including rates\, check out the Coach Page on our website. To register for this course\, please go to our contact page
URL:https://theratingscenter.com/calendar/uspa-coach-course-67/
LOCATION:Skydive Spaceland San Marcos\, 517 Airfield Rd.\, Fentress\, TX\, 78622\, United States
CATEGORIES:Coach Course
END:VEVENT
BEGIN:VEVENT
DTSTART;TZID=America/Chicago:20230622T080000
DTEND;TZID=America/Chicago:20230622T180000
DTSTAMP:20260421T093610
CREATED:20230620T223825Z
LAST-MODIFIED:20230620T223825Z
UID:7050-1687420800-1687456800@theratingscenter.com
SUMMARY:Basic Canopy Course (Private)
DESCRIPTION:The course cost is $180 + 5 hop and pops and runs from 8AM to 6PM (ish) \nYou do not need to wait till you are B qualified. We are often asked when is the best time to take this course\, our answer\, NOW! We will help you better understand how your wing flies and how to maximize your canopy skills. The skills you learn from this course apply to any canopy. We will teach you how to learn the canopy you are jumping and how to use this knowledge and skills to learn any other wing. \nTo register for this course\, please go to our contact page
URL:https://theratingscenter.com/calendar/basic-canopy-course-private-4/
LOCATION:Skydive Spaceland Houston\, 16111 FM 521\, Rosharon\, TX\, 77583\, United States
CATEGORIES:Canopy Course
END:VEVENT
BEGIN:VEVENT
DTSTART;TZID=America/Chicago:20230620T080000
DTEND;TZID=America/Chicago:20230622T180000
DTSTAMP:20260421T093610
CREATED:20230518T202427Z
LAST-MODIFIED:20230518T202516Z
UID:7012-1687248000-1687456800@theratingscenter.com
SUMMARY:USPA/UPT Sigma Tandem Instructor
DESCRIPTION:For more information\, including rates\, check out the Tandem Instructor Rating Page on our website. To register for this course\, please go to our contact page
URL:https://theratingscenter.com/calendar/uspa-upt-sigma-tandem-instructor/
LOCATION:Skydive Spaceland Houston\, 16111 FM 521\, Rosharon\, TX\, 77583\, United States
CATEGORIES:UPT Vector/Sigma Tandem Course,USPA Tandem Course
END:VEVENT
BEGIN:VEVENT
DTSTART;TZID=America/Chicago:20230619T080000
DTEND;TZID=America/Chicago:20230619T180000
DTSTAMP:20260421T093610
CREATED:20230710T200912Z
LAST-MODIFIED:20230710T200912Z
UID:7077-1687161600-1687197600@theratingscenter.com
SUMMARY:Gravity Lab Canopy Coaching
DESCRIPTION:For more information\, including rates\, visit the Canopy Coaching Section of our website. To register for this course\, or to schedule your own day of coaching\, please go to our contact page
URL:https://theratingscenter.com/calendar/gravity-lab-canopy-coaching-26/
LOCATION:Texas Skydiving\, 1055 Pvt Rd 7022\, Lexington\, TX\, 78947\, United States
CATEGORIES:Gravity Lab Canopy Coaching
END:VEVENT
BEGIN:VEVENT
DTSTART;TZID=America/Chicago:20230617T080000
DTEND;TZID=America/Chicago:20230617T180000
DTSTAMP:20260421T093610
CREATED:20230507T201759Z
LAST-MODIFIED:20230507T201819Z
UID:6994-1686988800-1687024800@theratingscenter.com
SUMMARY:Basic Canopy Course
DESCRIPTION:The course cost is $180 + 5 hop and pops and runs from 8AM to 6PM (ish) \nYou do not need to wait till you are B qualified. We are often asked when is the best time to take this course\, our answer\, NOW! We will help you better understand how your wing flies and how to maximize your canopy skills. The skills you learn from this course apply to any canopy. We will teach you how to learn the canopy you are jumping and how to use this knowledge and skills to learn any other wing. \nTo register for this course\, please go to our contact page
URL:https://theratingscenter.com/calendar/basic-canopy-course-122/
LOCATION:Skydive Spaceland San Marcos\, 517 Airfield Rd.\, Fentress\, TX\, 78622\, United States
CATEGORIES:Canopy Course
END:VEVENT
BEGIN:VEVENT
DTSTART;TZID=America/Chicago:20230615T080000
DTEND;TZID=America/Chicago:20230615T180000
DTSTAMP:20260421T093610
CREATED:20230710T200551Z
LAST-MODIFIED:20230710T200551Z
UID:7075-1686816000-1686852000@theratingscenter.com
SUMMARY:Gravity Lab Canopy Coaching
DESCRIPTION:For more information\, including rates\, visit the Canopy Coaching Section of our website. To register for this course\, or to schedule your own day of coaching\, please go to our contact page
URL:https://theratingscenter.com/calendar/gravity-lab-canopy-coaching-25/
LOCATION:Skydive Spaceland Houston\, 16111 FM 521\, Rosharon\, TX\, 77583\, United States
CATEGORIES:Gravity Lab Canopy Coaching
END:VEVENT
END:VCALENDAR