BEGIN:VCALENDAR
VERSION:2.0
PRODID:-//The Ratings Center - ECPv6.15.18//NONSGML v1.0//EN
CALSCALE:GREGORIAN
METHOD:PUBLISH
X-WR-CALNAME:The Ratings Center
X-ORIGINAL-URL:https://theratingscenter.com
X-WR-CALDESC:Events for The Ratings Center
REFRESH-INTERVAL;VALUE=DURATION:PT1H
X-Robots-Tag:noindex
X-PUBLISHED-TTL:PT1H
BEGIN:VTIMEZONE
TZID:America/Chicago
BEGIN:DAYLIGHT
TZOFFSETFROM:-0600
TZOFFSETTO:-0500
TZNAME:CDT
DTSTART:20200308T080000
END:DAYLIGHT
BEGIN:STANDARD
TZOFFSETFROM:-0500
TZOFFSETTO:-0600
TZNAME:CST
DTSTART:20201101T070000
END:STANDARD
BEGIN:DAYLIGHT
TZOFFSETFROM:-0600
TZOFFSETTO:-0500
TZNAME:CDT
DTSTART:20210314T080000
END:DAYLIGHT
BEGIN:STANDARD
TZOFFSETFROM:-0500
TZOFFSETTO:-0600
TZNAME:CST
DTSTART:20211107T070000
END:STANDARD
BEGIN:DAYLIGHT
TZOFFSETFROM:-0600
TZOFFSETTO:-0500
TZNAME:CDT
DTSTART:20220313T080000
END:DAYLIGHT
BEGIN:STANDARD
TZOFFSETFROM:-0500
TZOFFSETTO:-0600
TZNAME:CST
DTSTART:20221106T070000
END:STANDARD
BEGIN:DAYLIGHT
TZOFFSETFROM:-0600
TZOFFSETTO:-0500
TZNAME:CDT
DTSTART:20230312T080000
END:DAYLIGHT
BEGIN:STANDARD
TZOFFSETFROM:-0500
TZOFFSETTO:-0600
TZNAME:CST
DTSTART:20231105T070000
END:STANDARD
END:VTIMEZONE
BEGIN:VEVENT
DTSTART;TZID=America/Chicago:20220410T080000
DTEND;TZID=America/Chicago:20220410T180000
DTSTAMP:20260424T195240
CREATED:20220330T173303Z
LAST-MODIFIED:20220330T173303Z
UID:6503-1649577600-1649613600@theratingscenter.com
SUMMARY:Gravity Lab Canopy Coaching
DESCRIPTION:For more information\, including rates\, visit the Canopy Coaching Section of our website. To register for this course\, or to schedule your own day of coaching\, please go to our contact page
URL:https://theratingscenter.com/calendar/gravity-lab-canopy-coaching-4/
LOCATION:Skydive Spaceland San Marcos\, 517 Airfield Rd.\, Fentress\, TX\, 78622\, United States
CATEGORIES:Gravity Lab Canopy Coaching
END:VEVENT
BEGIN:VEVENT
DTSTART;TZID=America/Chicago:20220408T080000
DTEND;TZID=America/Chicago:20220410T180000
DTSTAMP:20260424T195240
CREATED:20220202T203306Z
LAST-MODIFIED:20220202T203306Z
UID:6418-1649404800-1649613600@theratingscenter.com
SUMMARY:USPA Coach Course
DESCRIPTION:The USPA Coach is the first instructional rating a skydiver can earn in our sport. During the course we will cover effective communication of skydiving skills for others. The coach rating is required to attend any other instructor rating course. For more information\, including rates\, check out the Coach Page on our website. To register for this course\, please go to our contact page
URL:https://theratingscenter.com/calendar/uspa-coach-course-44/
LOCATION:Skydive Spaceland Houston\, 16111 FM 521\, Rosharon\, TX\, 77583\, United States
CATEGORIES:Coach Course
END:VEVENT
BEGIN:VEVENT
DTSTART;TZID=America/Chicago:20220402T080000
DTEND;TZID=America/Chicago:20220402T180000
DTSTAMP:20260424T195240
CREATED:20220308T025319Z
LAST-MODIFIED:20220309T200205Z
UID:6467-1648886400-1648922400@theratingscenter.com
SUMMARY:Gravity Lab Canopy Coaching
DESCRIPTION:For more information\, including rates\, visit the Canopy Coaching Section of our website. To register for this course\, or to schedule your own day of coaching\, please go to our contact page
URL:https://theratingscenter.com/calendar/gravity-lab-canopy-coaching/
LOCATION:Skydive Spaceland Houston\, 16111 FM 521\, Rosharon\, TX\, 77583\, United States
CATEGORIES:Gravity Lab Canopy Coaching
END:VEVENT
BEGIN:VEVENT
DTSTART;TZID=America/Chicago:20220328T080000
DTEND;TZID=America/Chicago:20220403T180000
DTSTAMP:20260424T195240
CREATED:20220125T170153Z
LAST-MODIFIED:20220125T170153Z
UID:6405-1648454400-1649008800@theratingscenter.com
SUMMARY:USPA AFF Instructor Course
DESCRIPTION:The USPA AFF Instructor Rating Course typically completes in up to 7 days. During the course we will discuss USPA’s AFF Student Program\, including how to conduct ground training and skydives with AFF students. You will be evaluated in ground training sessions and conducting AFF jumps\, including the preload process and debrief. For more information\, including rates\, check out the AFF Instructor Rating Page on our website. To register for this course\, please go to our contact page
URL:https://theratingscenter.com/calendar/uspa-aff-instructor-course-18/
LOCATION:Skydive Spaceland San Marcos\, 517 Airfield Rd.\, Fentress\, TX\, 78622\, United States
CATEGORIES:AFF Course
END:VEVENT
BEGIN:VEVENT
DTSTART;TZID=America/Chicago:20220328T080000
DTEND;TZID=America/Chicago:20220330T180000
DTSTAMP:20260424T195240
CREATED:20220310T205739Z
LAST-MODIFIED:20220310T205739Z
UID:6497-1648454400-1648663200@theratingscenter.com
SUMMARY:USPA/UPT Sigma Tandem Instructor Course
DESCRIPTION:For more information\, including rates\, check out the Tandem Instructor Rating Page on our website. To register for this course\, please go to our contact page
URL:https://theratingscenter.com/calendar/uspa-upt-sigma-tandem-instructor-course-20/
LOCATION:Skydive Spaceland Houston\, 16111 FM 521\, Rosharon\, TX\, 77583\, United States
CATEGORIES:UPT Vector/Sigma Tandem Course,USPA Tandem Course
END:VEVENT
BEGIN:VEVENT
DTSTART;TZID=America/Chicago:20220328T080000
DTEND;TZID=America/Chicago:20220328T180000
DTSTAMP:20260424T195240
CREATED:20220328T201717Z
LAST-MODIFIED:20220328T201717Z
UID:6501-1648454400-1648490400@theratingscenter.com
SUMMARY:Gravity Lab Freefly Coaching
DESCRIPTION:For more information\, including rates\, visit the freefall coaching section of our website. To register for this course\, or to schedule your own day of coaching\, please go to our contact page
URL:https://theratingscenter.com/calendar/gravity-lab-freefly-coaching-3/
LOCATION:Skydive Spaceland Houston\, 16111 FM 521\, Rosharon\, TX\, 77583\, United States
CATEGORIES:Gravity Lab Freefly Coaching
END:VEVENT
BEGIN:VEVENT
DTSTART;TZID=America/Chicago:20220325T190000
DTEND;TZID=America/Chicago:20220325T200000
DTSTAMP:20260424T195240
CREATED:20220308T021953Z
LAST-MODIFIED:20220308T021953Z
UID:6465-1648234800-1648238400@theratingscenter.com
SUMMARY:Houston - Water Training
DESCRIPTION:For more information or to sign up for water training please visit; https://fb.me/e/1j2nuahPF
URL:https://theratingscenter.com/calendar/houston-water-training-3/
LOCATION:TX
CATEGORIES:Live Water Training
END:VEVENT
BEGIN:VEVENT
DTSTART;TZID=America/Chicago:20220322T080000
DTEND;TZID=America/Chicago:20220324T180000
DTSTAMP:20260424T195240
CREATED:20220128T170206Z
LAST-MODIFIED:20220222T022530Z
UID:6407-1647936000-1648144800@theratingscenter.com
SUMMARY:USPA Coach Course
DESCRIPTION:The USPA Coach is the first instructional rating a skydiver can earn in our sport. During the course we will cover effective communication of skydiving skills for others. The coach rating is required to attend any other instructor rating course. For more information\, including rates\, check out the Coach Page on our website. To register for this course\, please go to our contact page
URL:https://theratingscenter.com/calendar/uspa-coach-course-43/
LOCATION:Skydive Spaceland Houston\, 16111 FM 521\, Rosharon\, TX\, 77583\, United States
CATEGORIES:Coach Course
END:VEVENT
BEGIN:VEVENT
DTSTART;TZID=America/Chicago:20220319T080000
DTEND;TZID=America/Chicago:20220319T180000
DTSTAMP:20260424T195240
CREATED:20220128T172820Z
LAST-MODIFIED:20220128T172820Z
UID:6409-1647676800-1647712800@theratingscenter.com
SUMMARY:Basic Canopy Course
DESCRIPTION:Got your A License? It’s time to take a canopy course! \nThe course cost is $180 + 5 hop and pops and runs from 8AM to 6PM (ish) \nYou do not need to wait till you are B qualified. We are often asked when is the best time to take this course\, our answer\, NOW! We will help you better understand how your wing flies and how to maximize your canopy skills. The skills you learn from this course apply to any canopy. We will teach you how to learn the canopy you are jumping and how to use this knowledge and skills to learn any other wing. \nTo register for this course\, please go to our contact page
URL:https://theratingscenter.com/calendar/basic-canopy-course-77/
LOCATION:Skydive Spaceland Dallas\, 1039 Private Rd. 438\, Whitewright\, TX\, 75491\, United States
CATEGORIES:Canopy Course
END:VEVENT
BEGIN:VEVENT
DTSTART;TZID=America/Chicago:20220319T080000
DTEND;TZID=America/Chicago:20220319T180000
DTSTAMP:20260424T195240
CREATED:20220124T194255Z
LAST-MODIFIED:20220124T194255Z
UID:6403-1647676800-1647712800@theratingscenter.com
SUMMARY:Basic Canopy Course
DESCRIPTION:Got your A License? It’s time to take a canopy course! \nThe course cost is $180 + 5 hop and pops and runs from 8AM to 6PM (ish) \nYou do not need to wait till you are B qualified. We are often asked when is the best time to take this course\, our answer\, NOW! We will help you better understand how your wing flies and how to maximize your canopy skills. The skills you learn from this course apply to any canopy. We will teach you how to learn the canopy you are jumping and how to use this knowledge and skills to learn any other wing. \nTo register for this course\, please go to our contact page
URL:https://theratingscenter.com/calendar/basic-canopy-course-76/
LOCATION:Skydive Spaceland Houston\, 16111 FM 521\, Rosharon\, TX\, 77583\, United States
CATEGORIES:Canopy Course
END:VEVENT
BEGIN:VEVENT
DTSTART;TZID=America/Chicago:20220319T080000
DTEND;TZID=America/Chicago:20220319T180000
DTSTAMP:20260424T195240
CREATED:20220118T172634Z
LAST-MODIFIED:20220118T172634Z
UID:6401-1647676800-1647712800@theratingscenter.com
SUMMARY:Basic Canopy Course
DESCRIPTION:Got your A License? It’s time to take a canopy course! \nThe course cost is $180 + 5 hop and pops and runs from 8AM to 6PM (ish) \nYou do not need to wait till you are B qualified. We are often asked when is the best time to take this course\, our answer\, NOW! We will help you better understand how your wing flies and how to maximize your canopy skills. The skills you learn from this course apply to any canopy. We will teach you how to learn the canopy you are jumping and how to use this knowledge and skills to learn any other wing. \nTo register for this course\, please go to our contact page
URL:https://theratingscenter.com/calendar/basic-canopy-course-75/
LOCATION:Skydive Spaceland San Marcos\, 517 Airfield Rd.\, Fentress\, TX\, 78622\, United States
CATEGORIES:Canopy Course
END:VEVENT
BEGIN:VEVENT
DTSTART;TZID=America/Chicago:20220314T080000
DTEND;TZID=America/Chicago:20220316T180000
DTSTAMP:20260424T195240
CREATED:20220114T150517Z
LAST-MODIFIED:20220311T225259Z
UID:6394-1647244800-1647453600@theratingscenter.com
SUMMARY:USPA/UPT Sigma Tandem Instructor Course
DESCRIPTION:For more information\, including rates\, check out the Tandem Instructor Rating Page on our website. To register for this course\, please go to our contact page
URL:https://theratingscenter.com/calendar/uspa-upt-sigma-tandem-instructor-course-18/
LOCATION:Skydive Spaceland Houston\, 16111 FM 521\, Rosharon\, TX\, 77583\, United States
CATEGORIES:UPT Vector/Sigma Tandem Course,USPA Tandem Course
END:VEVENT
BEGIN:VEVENT
DTSTART;TZID=America/Chicago:20220314T080000
DTEND;TZID=America/Chicago:20220316T180000
DTSTAMP:20260424T195240
CREATED:20220110T193348Z
LAST-MODIFIED:20220110T200052Z
UID:6391-1647244800-1647453600@theratingscenter.com
SUMMARY:USPA Coach Course
DESCRIPTION:The USPA Coach is the first instructional rating a skydiver can earn in our sport. During the course we will cover effective communication of skydiving skills for others. The coach rating is required to attend any other instructor rating course. For more information\, including rates\, check out the Coach Page on our website. To register for this course\, please go to our contact page
URL:https://theratingscenter.com/calendar/uspa-coach-course-41/
LOCATION:Skydive Spaceland Dallas\, 1039 Private Rd. 438\, Whitewright\, TX\, 75491\, United States
CATEGORIES:Coach Course
END:VEVENT
BEGIN:VEVENT
DTSTART;TZID=America/Chicago:20220313T080000
DTEND;TZID=America/Chicago:20220313T180000
DTSTAMP:20260424T195240
CREATED:20220310T203322Z
LAST-MODIFIED:20220310T203322Z
UID:6489-1647158400-1647194400@theratingscenter.com
SUMMARY:Gravity Lab Canopy Coaching
DESCRIPTION:For more information\, including rates\, visit the Canopy Coaching Section of our website. To register for this course\, or to schedule your own day of coaching\, please go to our contact page
URL:https://theratingscenter.com/calendar/gravity-lab-canopy-coaching-3/
LOCATION:Skydive Spaceland Houston\, 16111 FM 521\, Rosharon\, TX\, 77583\, United States
CATEGORIES:Gravity Lab Canopy Coaching
END:VEVENT
BEGIN:VEVENT
DTSTART;TZID=America/Chicago:20220310T080000
DTEND;TZID=America/Chicago:20220310T180000
DTSTAMP:20260424T195240
CREATED:20220309T200518Z
LAST-MODIFIED:20220309T200518Z
UID:6485-1646899200-1646935200@theratingscenter.com
SUMMARY:Gravity Lab Freefly Coaching
DESCRIPTION:For more information\, including rates\, visit the freefall coaching section of our website. To register for this course\, or to schedule your own day of coaching\, please go to our contact page
URL:https://theratingscenter.com/calendar/gravity-lab-freefly-coaching-2/
LOCATION:Skydive Spaceland Houston\, 16111 FM 521\, Rosharon\, TX\, 77583\, United States
CATEGORIES:Gravity Lab Freefly Coaching
END:VEVENT
BEGIN:VEVENT
DTSTART;TZID=America/Chicago:20220309T080000
DTEND;TZID=America/Chicago:20220309T180000
DTSTAMP:20260424T195240
CREATED:20220211T170438Z
LAST-MODIFIED:20220211T170438Z
UID:6427-1646812800-1646848800@theratingscenter.com
SUMMARY:Basic Canopy Course
DESCRIPTION:Got your A License? It’s time to take a canopy course! \nThe course cost is $180 + 5 hop and pops and runs from 8AM to 6PM (ish) \nYou do not need to wait till you are B qualified. We are often asked when is the best time to take this course\, our answer\, NOW! We will help you better understand how your wing flies and how to maximize your canopy skills. The skills you learn from this course apply to any canopy. We will teach you how to learn the canopy you are jumping and how to use this knowledge and skills to learn any other wing. \nTo register for this course\, please go to our contact page
URL:https://theratingscenter.com/calendar/basic-canopy-course-80/
LOCATION:Skydive Spaceland Houston\, 16111 FM 521\, Rosharon\, TX\, 77583\, United States
CATEGORIES:Canopy Course
END:VEVENT
BEGIN:VEVENT
DTSTART;TZID=America/Chicago:20220304T173000
DTEND;TZID=America/Chicago:20220304T180000
DTSTAMP:20260424T195240
CREATED:20220131T184544Z
LAST-MODIFIED:20220131T184629Z
UID:6411-1646415000-1646416800@theratingscenter.com
SUMMARY:Dallas - Water Training
DESCRIPTION:For more information or to sign up for water training\, please visit; \nhttps://fb.me/e/2bhGtPfbA \n 
URL:https://theratingscenter.com/calendar/dallas-water-training-2/
LOCATION:TX
CATEGORIES:Live Water Training
END:VEVENT
BEGIN:VEVENT
DTSTART;TZID=America/Chicago:20220228T080000
DTEND;TZID=America/Chicago:20220306T180000
DTSTAMP:20260424T195240
CREATED:20220110T192600Z
LAST-MODIFIED:20220110T192600Z
UID:6389-1646035200-1646589600@theratingscenter.com
SUMMARY:USPA AFF Instructor Course
DESCRIPTION:The USPA AFF Instructor Rating Course typically completes in up to 7 days. During the course we will discuss USPA’s AFF Student Program\, including how to conduct ground training and skydives with AFF students. You will be evaluated in ground training sessions and conducting AFF jumps\, including the preload process and debrief. For more information\, including rates\, check out the AFF Instructor Rating Page on our website. To register for this course\, please go to our contact page
URL:https://theratingscenter.com/calendar/uspa-aff-instructor-course-17/
LOCATION:Skydive Spaceland Houston\, 16111 FM 521\, Rosharon\, TX\, 77583\, United States
CATEGORIES:AFF Course
END:VEVENT
BEGIN:VEVENT
DTSTART;TZID=America/Chicago:20220219T080000
DTEND;TZID=America/Chicago:20220219T180000
DTSTAMP:20260424T195240
CREATED:20220106T184422Z
LAST-MODIFIED:20220106T184422Z
UID:6387-1645257600-1645293600@theratingscenter.com
SUMMARY:Basic Canopy Course
DESCRIPTION:Got your A License? It’s time to take a canopy course! \nThe course cost is $180 + 5 hop and pops and runs from 8AM to 6PM (ish) \nYou do not need to wait till you are B qualified. We are often asked when is the best time to take this course\, our answer\, NOW! We will help you better understand how your wing flies and how to maximize your canopy skills. The skills you learn from this course apply to any canopy. We will teach you how to learn the canopy you are jumping and how to use this knowledge and skills to learn any other wing. \nTo register for this course\, please go to our contact page
URL:https://theratingscenter.com/calendar/basic-canopy-course-73/
LOCATION:Skydive Spaceland San Marcos\, 517 Airfield Rd.\, Fentress\, TX\, 78622\, United States
CATEGORIES:Canopy Course
END:VEVENT
BEGIN:VEVENT
DTSTART;TZID=America/Chicago:20220218T173000
DTEND;TZID=America/Chicago:20220218T183000
DTSTAMP:20260424T195240
CREATED:20220202T201417Z
LAST-MODIFIED:20220202T201417Z
UID:6416-1645205400-1645209000@theratingscenter.com
SUMMARY:San Marcos - Water Training
DESCRIPTION:For more information or to sign up for water training please visit; \nhttps://fb.me/e/19EFRDdXk
URL:https://theratingscenter.com/calendar/san-marcos-water-training/
LOCATION:TX
CATEGORIES:Live Water Training
END:VEVENT
BEGIN:VEVENT
DTSTART;TZID=America/Chicago:20220218T080000
DTEND;TZID=America/Chicago:20220218T180000
DTSTAMP:20260424T195240
CREATED:20220304T171756Z
LAST-MODIFIED:20220304T172541Z
UID:6438-1645171200-1645207200@theratingscenter.com
SUMMARY:Gravity Lab Canopy Coaching
DESCRIPTION:For more information\, including rates\, visit the freefall coaching section of our website. To register for this course\, please go to our contact page
URL:https://theratingscenter.com/calendar/6438/
LOCATION:Skydive Spaceland Houston\, 16111 FM 521\, Rosharon\, TX\, 77583\, United States
CATEGORIES:Gravity Lab Canopy Coaching
END:VEVENT
BEGIN:VEVENT
DTSTART;TZID=America/Chicago:20220215T080000
DTEND;TZID=America/Chicago:20220217T180000
DTSTAMP:20260424T195240
CREATED:20220203T214638Z
LAST-MODIFIED:20220203T214638Z
UID:6424-1644912000-1645120800@theratingscenter.com
SUMMARY:USPA / UPT Sigma Tandem Instructor Course
DESCRIPTION:For more information\, including rates\, check out the Tandem Instructor Rating Page on our website. To register for this course\, please go to our contact page
URL:https://theratingscenter.com/calendar/uspa-upt-sigma-tandem-instructor-course-19/
LOCATION:Skydive Spaceland Houston\, 16111 FM 521\, Rosharon\, TX\, 77583\, United States
CATEGORIES:UPT Vector/Sigma Tandem Course,USPA Tandem Course
END:VEVENT
BEGIN:VEVENT
DTSTART;TZID=America/Chicago:20220215T080000
DTEND;TZID=America/Chicago:20220217T180000
DTSTAMP:20260424T195240
CREATED:20220118T170832Z
LAST-MODIFIED:20220118T170832Z
UID:6399-1644912000-1645120800@theratingscenter.com
SUMMARY:USPA Coach Course
DESCRIPTION:The USPA Coach is the first instructional rating a skydiver can earn in our sport. During the course we will cover effective communication of skydiving skills for others. The coach rating is required to attend any other instructor rating course. For more information\, including rates\, check out the Coach Page on our website. To register for this course\, please go to our contact page
URL:https://theratingscenter.com/calendar/uspa-coach-course-42/
LOCATION:Skydive Spaceland San Marcos\, 517 Airfield Rd.\, Fentress\, TX\, 78622\, United States
CATEGORIES:Coach Course
END:VEVENT
BEGIN:VEVENT
DTSTART;TZID=America/Chicago:20220212T080000
DTEND;TZID=America/Chicago:20220212T180000
DTSTAMP:20260424T195240
CREATED:20220106T184328Z
LAST-MODIFIED:20220106T184328Z
UID:6385-1644652800-1644688800@theratingscenter.com
SUMMARY:Basic Canopy Course
DESCRIPTION:Got your A License? It’s time to take a canopy course! \nThe course cost is $180 + 5 hop and pops and runs from 8AM to 6PM (ish) \nYou do not need to wait till you are B qualified. We are often asked when is the best time to take this course\, our answer\, NOW! We will help you better understand how your wing flies and how to maximize your canopy skills. The skills you learn from this course apply to any canopy. We will teach you how to learn the canopy you are jumping and how to use this knowledge and skills to learn any other wing. \nTo register for this course\, please go to our contact page
URL:https://theratingscenter.com/calendar/basic-canopy-course-72/
LOCATION:Skydive Spaceland Houston\, 16111 FM 521\, Rosharon\, TX\, 77583\, United States
CATEGORIES:Canopy Course
END:VEVENT
BEGIN:VEVENT
DTSTART;TZID=America/Chicago:20220209T080000
DTEND;TZID=America/Chicago:20220209T180000
DTSTAMP:20260424T195240
CREATED:20220304T164140Z
LAST-MODIFIED:20220304T164140Z
UID:6433-1644393600-1644429600@theratingscenter.com
SUMMARY:Gravity Lab Freefly Coaching
DESCRIPTION:For more information\, including rates\, visit the freefall coaching section of our website. To register for this course\, please go to our contact page
URL:https://theratingscenter.com/calendar/gravity-lab-freefly-coaching/
LOCATION:Skydive Spaceland Houston\, 16111 FM 521\, Rosharon\, TX\, 77583\, United States
CATEGORIES:Gravity Lab Freefly Coaching
END:VEVENT
BEGIN:VEVENT
DTSTART;TZID=America/Chicago:20220122T080000
DTEND;TZID=America/Chicago:20220122T180000
DTSTAMP:20260424T195240
CREATED:20211228T165505Z
LAST-MODIFIED:20220112T222118Z
UID:6381-1642838400-1642874400@theratingscenter.com
SUMMARY:Basic Canopy Course
DESCRIPTION:Got your A License? It’s time to take a canopy course! \nThe course cost is $180 + 5 hop and pops and runs from 8AM to 6PM (ish) \nYou do not need to wait till you are B qualified. We are often asked when is the best time to take this course\, our answer\, NOW! We will help you better understand how your wing flies and how to maximize your canopy skills. The skills you learn from this course apply to any canopy. We will teach you how to learn the canopy you are jumping and how to use this knowledge and skills to learn any other wing. \nTo register for this course\, please go to our contact page
URL:https://theratingscenter.com/calendar/basic-canopy-course-71/
LOCATION:Skydive Spaceland San Marcos\, 517 Airfield Rd.\, Fentress\, TX\, 78622\, United States
CATEGORIES:Canopy Course
END:VEVENT
BEGIN:VEVENT
DTSTART;TZID=America/Chicago:20220120T080000
DTEND;TZID=America/Chicago:20220120T180000
DTSTAMP:20260424T195240
CREATED:20220114T151046Z
LAST-MODIFIED:20220114T151046Z
UID:6396-1642665600-1642701600@theratingscenter.com
SUMMARY:Basic Canopy Course
DESCRIPTION:Got your A License? It’s time to take a canopy course! \nThe course cost is $180 + 5 hop and pops and runs from 8AM to 6PM (ish) \nYou do not need to wait till you are B qualified. We are often asked when is the best time to take this course\, our answer\, NOW! We will help you better understand how your wing flies and how to maximize your canopy skills. The skills you learn from this course apply to any canopy. We will teach you how to learn the canopy you are jumping and how to use this knowledge and skills to learn any other wing. \nTo register for this course\, please go to our contact page
URL:https://theratingscenter.com/calendar/basic-canopy-course-74/
LOCATION:Skydive Spaceland Houston\, 16111 FM 521\, Rosharon\, TX\, 77583\, United States
CATEGORIES:Canopy Course
END:VEVENT
BEGIN:VEVENT
DTSTART;TZID=America/Chicago:20220117T080000
DTEND;TZID=America/Chicago:20220123T180000
DTSTAMP:20260424T195240
CREATED:20211129T161008Z
LAST-MODIFIED:20211207T205433Z
UID:6366-1642406400-1642960800@theratingscenter.com
SUMMARY:USPA AFF Instructor Course
DESCRIPTION:The USPA AFF Instructor Rating Course typically completes in up to 7 days. During the course we will discuss USPA’s AFF Student Program\, including how to conduct ground training and skydives with AFF students. You will be evaluated in ground training sessions and conducting AFF jumps\, including the preload process and debrief. For more information\, including rates\, check out the AFF Instructor Rating Page on our website. To register for this course\, please go to our contact page
URL:https://theratingscenter.com/calendar/uspa-aff-instructor-course-16/
LOCATION:Skydive Spaceland Houston\, 16111 FM 521\, Rosharon\, TX\, 77583\, United States
CATEGORIES:AFF Course
END:VEVENT
BEGIN:VEVENT
DTSTART;TZID=America/Chicago:20220108T080000
DTEND;TZID=America/Chicago:20220108T180000
DTSTAMP:20260424T195240
CREATED:20211228T165410Z
LAST-MODIFIED:20211228T165410Z
UID:6379-1641628800-1641664800@theratingscenter.com
SUMMARY:Basic Canopy Course
DESCRIPTION:Got your A License? It’s time to take a canopy course! \nThe course cost is $180 + 5 hop and pops and runs from 8AM to 6PM (ish) \nYou do not need to wait till you are B qualified. We are often asked when is the best time to take this course\, our answer\, NOW! We will help you better understand how your wing flies and how to maximize your canopy skills. The skills you learn from this course apply to any canopy. We will teach you how to learn the canopy you are jumping and how to use this knowledge and skills to learn any other wing. \nTo register for this course\, please go to our contact page
URL:https://theratingscenter.com/calendar/basic-canopy-course-70/
LOCATION:Skydive Spaceland Houston\, 16111 FM 521\, Rosharon\, TX\, 77583\, United States
CATEGORIES:Canopy Course
END:VEVENT
BEGIN:VEVENT
DTSTART;TZID=America/Chicago:20211218T080000
DTEND;TZID=America/Chicago:20211218T180000
DTSTAMP:20260424T195240
CREATED:20211111T184144Z
LAST-MODIFIED:20211111T184144Z
UID:6364-1639814400-1639850400@theratingscenter.com
SUMMARY:Basic Canopy Course
DESCRIPTION:Got your A License? It’s time to take a canopy course! \nThe course cost is $180 + 5 hop and pops and runs from 8AM to 6PM (ish) \nYou do not need to wait till you are B qualified. We are often asked when is the best time to take this course\, our answer\, NOW! We will help you better understand how your wing flies and how to maximize your canopy skills. The skills you learn from this course apply to any canopy. We will teach you how to learn the canopy you are jumping and how to use this knowledge and skills to learn any other wing. \nTo register for this course\, please go to our contact page
URL:https://theratingscenter.com/calendar/basic-canopy-course-69/
LOCATION:Skydive Spaceland Dallas\, 1039 Private Rd. 438\, Whitewright\, TX\, 75491\, United States
CATEGORIES:Canopy Course
END:VEVENT
END:VCALENDAR