BEGIN:VCALENDAR
VERSION:2.0
PRODID:-//The Ratings Center - ECPv6.15.18//NONSGML v1.0//EN
CALSCALE:GREGORIAN
METHOD:PUBLISH
X-WR-CALNAME:The Ratings Center
X-ORIGINAL-URL:https://theratingscenter.com
X-WR-CALDESC:Events for The Ratings Center
REFRESH-INTERVAL;VALUE=DURATION:PT1H
X-Robots-Tag:noindex
X-PUBLISHED-TTL:PT1H
BEGIN:VTIMEZONE
TZID:America/Chicago
BEGIN:DAYLIGHT
TZOFFSETFROM:-0600
TZOFFSETTO:-0500
TZNAME:CDT
DTSTART:20200308T080000
END:DAYLIGHT
BEGIN:STANDARD
TZOFFSETFROM:-0500
TZOFFSETTO:-0600
TZNAME:CST
DTSTART:20201101T070000
END:STANDARD
BEGIN:DAYLIGHT
TZOFFSETFROM:-0600
TZOFFSETTO:-0500
TZNAME:CDT
DTSTART:20210314T080000
END:DAYLIGHT
BEGIN:STANDARD
TZOFFSETFROM:-0500
TZOFFSETTO:-0600
TZNAME:CST
DTSTART:20211107T070000
END:STANDARD
BEGIN:DAYLIGHT
TZOFFSETFROM:-0600
TZOFFSETTO:-0500
TZNAME:CDT
DTSTART:20220313T080000
END:DAYLIGHT
BEGIN:STANDARD
TZOFFSETFROM:-0500
TZOFFSETTO:-0600
TZNAME:CST
DTSTART:20221106T070000
END:STANDARD
END:VTIMEZONE
BEGIN:VEVENT
DTSTART;TZID=America/Chicago:20211113T080000
DTEND;TZID=America/Chicago:20211113T180000
DTSTAMP:20260425T070903
CREATED:20211013T154908Z
LAST-MODIFIED:20211013T154908Z
UID:6339-1636790400-1636826400@theratingscenter.com
SUMMARY:Basic Canopy Course
DESCRIPTION:Got your A License? It’s time to take a canopy course! \nThe course cost is $180 + 5 hop and pops and runs from 8AM to 6PM (ish) \nYou do not need to wait till you are B qualified. We are often asked when is the best time to take this course\, our answer\, NOW! We will help you better understand how your wing flies and how to maximize your canopy skills. The skills you learn from this course apply to any canopy. We will teach you how to learn the canopy you are jumping and how to use this knowledge and skills to learn any other wing. \nTo register for this course\, please go to our contact page
URL:https://theratingscenter.com/calendar/basic-canopy-course-63/
LOCATION:Skydive Spaceland Houston\, 16111 FM 521\, Rosharon\, TX\, 77583\, United States
CATEGORIES:Canopy Course
END:VEVENT
BEGIN:VEVENT
DTSTART;TZID=America/Chicago:20211109T080000
DTEND;TZID=America/Chicago:20211111T180000
DTSTAMP:20260425T070903
CREATED:20211013T154617Z
LAST-MODIFIED:20211013T154617Z
UID:6337-1636444800-1636653600@theratingscenter.com
SUMMARY:USPA/UPT Sigma Tandem Instructor Course
DESCRIPTION:For more information\, including rates\, check out the Tandem Instructor Rating Page on our website. To register for this course\, please go to our contact page
URL:https://theratingscenter.com/calendar/uspa-upt-sigma-tandem-instructor-course-17/
LOCATION:Skydive Spaceland San Marcos\, 517 Airfield Rd.\, Fentress\, TX\, 78622\, United States
CATEGORIES:UPT Vector/Sigma Tandem Course,USPA Tandem Course
END:VEVENT
BEGIN:VEVENT
DTSTART;TZID=America/Chicago:20211104T080000
DTEND;TZID=America/Chicago:20211104T180000
DTSTAMP:20260425T070903
CREATED:20211023T010457Z
LAST-MODIFIED:20211023T010457Z
UID:6343-1636012800-1636048800@theratingscenter.com
SUMMARY:Basic Canopy Course
DESCRIPTION:Got your A License? It’s time to take a canopy course! \nThe course cost is $180 + 5 hop and pops and runs from 8AM to 6PM (ish) \nYou do not need to wait till you are B qualified. We are often asked when is the best time to take this course\, our answer\, NOW! We will help you better understand how your wing flies and how to maximize your canopy skills. The skills you learn from this course apply to any canopy. We will teach you how to learn the canopy you are jumping and how to use this knowledge and skills to learn any other wing. \nTo register for this course\, please go to our contact page
URL:https://theratingscenter.com/calendar/basic-canopy-course-65/
LOCATION:Skydive Spaceland Houston\, 16111 FM 521\, Rosharon\, TX\, 77583\, United States
CATEGORIES:Canopy Course
END:VEVENT
BEGIN:VEVENT
DTSTART;TZID=America/Chicago:20211022T190000
DTEND;TZID=America/Chicago:20211022T200000
DTSTAMP:20260425T070903
CREATED:20211006T131811Z
LAST-MODIFIED:20211006T131908Z
UID:6331-1634929200-1634932800@theratingscenter.com
SUMMARY:Houston - Water Training
DESCRIPTION:For more information or to sign up for water training\, please visit www.facebook.com/events/615778995840597
URL:https://theratingscenter.com/calendar/houston-water-training/
LOCATION:TX
CATEGORIES:Live Water Training
END:VEVENT
BEGIN:VEVENT
DTSTART;TZID=America/Chicago:20211022T080000
DTEND;TZID=America/Chicago:20211024T180000
DTSTAMP:20260425T070903
CREATED:20210920T153019Z
LAST-MODIFIED:20210920T153019Z
UID:6326-1634889600-1635098400@theratingscenter.com
SUMMARY:USPA Coach Course
DESCRIPTION:The USPA Coach is the first instructional rating a skydiver can earn in our sport. During the course we will cover effective communication of skydiving skills for others. The coach rating is required to attend any other instructor rating course. For more information\, including rates\, check out the Coach Page on our website. To register for this course\, please go to our contact page
URL:https://theratingscenter.com/calendar/uspa-coach-course-36/
LOCATION:Skydive Spaceland Houston\, 16111 FM 521\, Rosharon\, TX\, 77583\, United States
CATEGORIES:Coach Course
END:VEVENT
BEGIN:VEVENT
DTSTART;TZID=America/Chicago:20211016T080000
DTEND;TZID=America/Chicago:20211016T180000
DTSTAMP:20260425T070903
CREATED:20210911T013851Z
LAST-MODIFIED:20210911T013851Z
UID:6322-1634371200-1634407200@theratingscenter.com
SUMMARY:Basic Canopy Course
DESCRIPTION:Got your A License? It’s time to take a canopy course! \nThe course cost is $180 + 5 hop and pops and runs from 8AM to 6PM (ish) \nYou do not need to wait till you are B qualified. We are often asked when is the best time to take this course\, our answer\, NOW! We will help you better understand how your wing flies and how to maximize your canopy skills. The skills you learn from this course apply to any canopy. We will teach you how to learn the canopy you are jumping and how to use this knowledge and skills to learn any other wing. \nTo register for this course\, please go to our contact page
URL:https://theratingscenter.com/calendar/basic-canopy-course-60/
LOCATION:Skydive Spaceland San Marcos\, 517 Airfield Rd.\, Fentress\, TX\, 78622\, United States
CATEGORIES:Canopy Course
END:VEVENT
BEGIN:VEVENT
DTSTART;TZID=America/Chicago:20211009T080000
DTEND;TZID=America/Chicago:20211009T180000
DTSTAMP:20260425T070903
CREATED:20210918T010314Z
LAST-MODIFIED:20210918T010314Z
UID:6324-1633766400-1633802400@theratingscenter.com
SUMMARY:Basic Canopy Course
DESCRIPTION:Got your A License? It’s time to take a canopy course! \nThe course cost is $180 + 5 hop and pops and runs from 8AM to 6PM (ish) \nYou do not need to wait till you are B qualified. We are often asked when is the best time to take this course\, our answer\, NOW! We will help you better understand how your wing flies and how to maximize your canopy skills. The skills you learn from this course apply to any canopy. We will teach you how to learn the canopy you are jumping and how to use this knowledge and skills to learn any other wing. \nTo register for this course\, please go to our contact page
URL:https://theratingscenter.com/calendar/basic-canopy-course-61/
LOCATION:Skydive Spaceland Dallas\, 1039 Private Rd. 438\, Whitewright\, TX\, 75491\, United States
CATEGORIES:Canopy Course
END:VEVENT
BEGIN:VEVENT
DTSTART;TZID=America/Chicago:20211009T080000
DTEND;TZID=America/Chicago:20211009T180000
DTSTAMP:20260425T070903
CREATED:20210911T013814Z
LAST-MODIFIED:20210911T013814Z
UID:6320-1633766400-1633802400@theratingscenter.com
SUMMARY:Basic Canopy Course
DESCRIPTION:Got your A License? It’s time to take a canopy course! \nThe course cost is $180 + 5 hop and pops and runs from 8AM to 6PM (ish) \nYou do not need to wait till you are B qualified. We are often asked when is the best time to take this course\, our answer\, NOW! We will help you better understand how your wing flies and how to maximize your canopy skills. The skills you learn from this course apply to any canopy. We will teach you how to learn the canopy you are jumping and how to use this knowledge and skills to learn any other wing. \nTo register for this course\, please go to our contact page
URL:https://theratingscenter.com/calendar/basic-canopy-course-59/
LOCATION:Skydive Spaceland Houston\, 16111 FM 521\, Rosharon\, TX\, 77583\, United States
CATEGORIES:Canopy Course
END:VEVENT
BEGIN:VEVENT
DTSTART;TZID=America/Chicago:20211006T080000
DTEND;TZID=America/Chicago:20211006T180000
DTSTAMP:20260425T070903
CREATED:20210927T181952Z
LAST-MODIFIED:20210927T181952Z
UID:6328-1633507200-1633543200@theratingscenter.com
SUMMARY:Basic Canopy Course
DESCRIPTION:Got your A License? It’s time to take a canopy course! \nThe course cost is $180 + 5 hop and pops and runs from 8AM to 6PM (ish) \nYou do not need to wait till you are B qualified. We are often asked when is the best time to take this course\, our answer\, NOW! We will help you better understand how your wing flies and how to maximize your canopy skills. The skills you learn from this course apply to any canopy. We will teach you how to learn the canopy you are jumping and how to use this knowledge and skills to learn any other wing. \nTo register for this course\, please go to our contact page
URL:https://theratingscenter.com/calendar/basic-canopy-course-62/
LOCATION:Skydive Spaceland Dallas\, 1039 Private Rd. 438\, Whitewright\, TX\, 75491\, United States
CATEGORIES:Canopy Course
END:VEVENT
BEGIN:VEVENT
DTSTART;TZID=America/Chicago:20210927T080000
DTEND;TZID=America/Chicago:20211003T180000
DTSTAMP:20260425T070903
CREATED:20210819T170845Z
LAST-MODIFIED:20210902T203207Z
UID:6317-1632729600-1633284000@theratingscenter.com
SUMMARY:USPA AFF Instructor Course
DESCRIPTION:The USPA AFF Instructor Rating Course typically completes in up to 7 days. During the course we will discuss USPA’s AFF Student Program\, including how to conduct ground training and skydives with AFF students. You will be evaluated in ground training sessions and conducting AFF jumps\, including the preload process and debrief. For more information\, including rates\, check out the AFF Instructor Rating Page on our website. To register for this course\, please go to our contact page
URL:https://theratingscenter.com/calendar/uspa-aff-instructor-course-15/
LOCATION:Skydive Spaceland Dallas\, 1039 Private Rd. 438\, Whitewright\, TX\, 75491\, United States
CATEGORIES:AFF Course
END:VEVENT
BEGIN:VEVENT
DTSTART;TZID=America/Chicago:20210920T080000
DTEND;TZID=America/Chicago:20210922T180000
DTSTAMP:20260425T070903
CREATED:20210818T164842Z
LAST-MODIFIED:20210818T164842Z
UID:6315-1632124800-1632333600@theratingscenter.com
SUMMARY:USPA/UPT Sigma Tandem Instructor Course
DESCRIPTION:For more information\, including rates\, check out the Tandem Instructor Rating Page on our website. To register for this course\, please go to our contact page
URL:https://theratingscenter.com/calendar/uspa-upt-sigma-tandem-instructor-course-16/
LOCATION:Skydive Spaceland Houston\, 16111 FM 521\, Rosharon\, TX\, 77583\, United States
CATEGORIES:UPT Vector/Sigma Tandem Course,USPA Tandem Course
END:VEVENT
BEGIN:VEVENT
DTSTART;TZID=America/Chicago:20210918T080000
DTEND;TZID=America/Chicago:20210918T180000
DTSTAMP:20260425T070903
CREATED:20210720T233817Z
LAST-MODIFIED:20210720T233817Z
UID:6305-1631952000-1631988000@theratingscenter.com
SUMMARY:Basic Canopy Course
DESCRIPTION:Got your A License? It’s time to take a canopy course! \nThe course cost is $180 + 5 hop and pops and runs from 8AM to 6PM (ish) \nYou do not need to wait till you are B qualified. We are often asked when is the best time to take this course\, our answer\, NOW! We will help you better understand how your wing flies and how to maximize your canopy skills. The skills you learn from this course apply to any canopy. We will teach you how to learn the canopy you are jumping and how to use this knowledge and skills to learn any other wing. \nTo register for this course\, please go to our contact page
URL:https://theratingscenter.com/calendar/basic-canopy-course-55/
LOCATION:Skydive Spaceland Dallas\, 1039 Private Rd. 438\, Whitewright\, TX\, 75491\, United States
CATEGORIES:Canopy Course
END:VEVENT
BEGIN:VEVENT
DTSTART;TZID=America/Chicago:20210918T080000
DTEND;TZID=America/Chicago:20210918T180000
DTSTAMP:20260425T070903
CREATED:20210720T233741Z
LAST-MODIFIED:20210720T233741Z
UID:6303-1631952000-1631988000@theratingscenter.com
SUMMARY:Basic Canopy Course
DESCRIPTION:Got your A License? It’s time to take a canopy course! \nThe course cost is $180 + 5 hop and pops and runs from 8AM to 6PM (ish) \nYou do not need to wait till you are B qualified. We are often asked when is the best time to take this course\, our answer\, NOW! We will help you better understand how your wing flies and how to maximize your canopy skills. The skills you learn from this course apply to any canopy. We will teach you how to learn the canopy you are jumping and how to use this knowledge and skills to learn any other wing. \nTo register for this course\, please go to our contact page
URL:https://theratingscenter.com/calendar/basic-canopy-course-54/
LOCATION:Skydive Spaceland Houston\, 16111 FM 521\, Rosharon\, TX\, 77583\, United States
CATEGORIES:Canopy Course
END:VEVENT
BEGIN:VEVENT
DTSTART;TZID=America/Chicago:20210913T080000
DTEND;TZID=America/Chicago:20210915T180000
DTSTAMP:20260425T070903
CREATED:20210817T171054Z
LAST-MODIFIED:20210817T171054Z
UID:6313-1631520000-1631728800@theratingscenter.com
SUMMARY:USPA Coach Course
DESCRIPTION:The USPA Coach is the first instructional rating a skydiver can earn in our sport. During the course we will cover effective communication of skydiving skills for others. The coach rating is required to attend any other instructor rating course. For more information\, including rates\, check out the Coach Page on our website. To register for this course\, please go to our contact page
URL:https://theratingscenter.com/calendar/uspa-coach-course-35/
LOCATION:Skydive Spaceland Houston\, 16111 FM 521\, Rosharon\, TX\, 77583\, United States
CATEGORIES:Coach Course
END:VEVENT
BEGIN:VEVENT
DTSTART;TZID=America/Chicago:20210831T080000
DTEND;TZID=America/Chicago:20210902T180000
DTSTAMP:20260425T070903
CREATED:20210610T141535Z
LAST-MODIFIED:20210610T141535Z
UID:6283-1630396800-1630605600@theratingscenter.com
SUMMARY:En Español - USPA/UPT Sigma Tandem Instructor Course
DESCRIPTION:For more information\, including rates\, check out the Tandem Instructor Rating Page on our website. To register for this course\, please go to our contact page
URL:https://theratingscenter.com/calendar/en-espanol-uspa-upt-sigma-tandem-instructor-course-3/
LOCATION:Skydive Spaceland Houston\, 16111 FM 521\, Rosharon\, TX\, 77583\, United States
CATEGORIES:UPT Vector/Sigma Tandem Course,USPA Tandem Course
END:VEVENT
BEGIN:VEVENT
DTSTART;TZID=America/Chicago:20210823T080000
DTEND;TZID=America/Chicago:20210829T180000
DTSTAMP:20260425T070903
CREATED:20210629T145713Z
LAST-MODIFIED:20210629T145713Z
UID:6301-1629705600-1630260000@theratingscenter.com
SUMMARY:USPA AFF Instructor Course
DESCRIPTION:The USPA AFF Instructor Rating Course typically completes in up to 7 days. During the course we will discuss USPA’s AFF Student Program\, including how to conduct ground training and skydives with AFF students. You will be evaluated in ground training sessions and conducting AFF jumps\, including the preload process and debrief. For more information\, including rates\, check out the AFF Instructor Rating Page on our website. To register for this course\, please go to our contact page
URL:https://theratingscenter.com/calendar/uspa-aff-instructor-course-14/
LOCATION:Skydive Spaceland Houston\, 16111 FM 521\, Rosharon\, TX\, 77583\, United States
CATEGORIES:AFF Course
END:VEVENT
BEGIN:VEVENT
DTSTART;TZID=America/Chicago:20210821T080000
DTEND;TZID=America/Chicago:20210821T180000
DTSTAMP:20260425T070903
CREATED:20210812T153519Z
LAST-MODIFIED:20210812T153519Z
UID:6311-1629532800-1629568800@theratingscenter.com
SUMMARY:Basic Canopy Course
DESCRIPTION:Got your A License? It’s time to take a canopy course! \nThe course cost is $180 + 5 hop and pops and runs from 8AM to 6PM (ish) \nYou do not need to wait till you are B qualified. We are often asked when is the best time to take this course\, our answer\, NOW! We will help you better understand how your wing flies and how to maximize your canopy skills. The skills you learn from this course apply to any canopy. We will teach you how to learn the canopy you are jumping and how to use this knowledge and skills to learn any other wing. \nTo register for this course\, please go to our contact page
URL:https://theratingscenter.com/calendar/basic-canopy-course-58/
LOCATION:Skydive Spaceland San Marcos\, 517 Airfield Rd.\, Fentress\, TX\, 78622\, United States
CATEGORIES:Canopy Course
END:VEVENT
BEGIN:VEVENT
DTSTART;TZID=America/Chicago:20210814T080000
DTEND;TZID=America/Chicago:20210814T180000
DTSTAMP:20260425T070903
CREATED:20210812T153447Z
LAST-MODIFIED:20210812T153447Z
UID:6309-1628928000-1628964000@theratingscenter.com
SUMMARY:Basic Canopy Course
DESCRIPTION:Got your A License? It’s time to take a canopy course! \nThe course cost is $180 + 5 hop and pops and runs from 8AM to 6PM (ish) \nYou do not need to wait till you are B qualified. We are often asked when is the best time to take this course\, our answer\, NOW! We will help you better understand how your wing flies and how to maximize your canopy skills. The skills you learn from this course apply to any canopy. We will teach you how to learn the canopy you are jumping and how to use this knowledge and skills to learn any other wing. \nTo register for this course\, please go to our contact page
URL:https://theratingscenter.com/calendar/basic-canopy-course-57/
LOCATION:Skydive Spaceland Houston\, 16111 FM 521\, Rosharon\, TX\, 77583\, United States
CATEGORIES:Canopy Course
END:VEVENT
BEGIN:VEVENT
DTSTART;TZID=America/Chicago:20210813T080000
DTEND;TZID=America/Chicago:20210815T180000
DTSTAMP:20260425T070903
CREATED:20210629T145334Z
LAST-MODIFIED:20210629T145334Z
UID:6299-1628841600-1629050400@theratingscenter.com
SUMMARY:USPA Coach Course
DESCRIPTION:The USPA Coach is the first instructional rating a skydiver can earn in our sport. During the course we will cover effective communication of skydiving skills for others. The coach rating is required to attend any other instructor rating course. For more information\, including rates\, check out the Coach Page on our website. To register for this course\, please go to our contact page
URL:https://theratingscenter.com/calendar/uspa-coach-course-34/
LOCATION:Skydive Spaceland San Marcos\, 517 Airfield Rd.\, Fentress\, TX\, 78622\, United States
CATEGORIES:Coach Course
END:VEVENT
BEGIN:VEVENT
DTSTART;TZID=America/Chicago:20210809T080000
DTEND;TZID=America/Chicago:20210811T180000
DTSTAMP:20260425T070903
CREATED:20210629T145246Z
LAST-MODIFIED:20210629T145246Z
UID:6297-1628496000-1628704800@theratingscenter.com
SUMMARY:USPA Coach Course
DESCRIPTION:The USPA Coach is the first instructional rating a skydiver can earn in our sport. During the course we will cover effective communication of skydiving skills for others. The coach rating is required to attend any other instructor rating course. For more information\, including rates\, check out the Coach Page on our website. To register for this course\, please go to our contact page
URL:https://theratingscenter.com/calendar/uspa-coach-course-33/
LOCATION:Skydive Spaceland Houston\, 16111 FM 521\, Rosharon\, TX\, 77583\, United States
CATEGORIES:Coach Course
END:VEVENT
BEGIN:VEVENT
DTSTART;TZID=America/Chicago:20210802T080000
DTEND;TZID=America/Chicago:20210802T180000
DTSTAMP:20260425T070903
CREATED:20210730T135158Z
LAST-MODIFIED:20210730T135158Z
UID:6307-1627891200-1627927200@theratingscenter.com
SUMMARY:Basic Canopy Course
DESCRIPTION:Got your A License? It’s time to take a canopy course! \nThe course cost is $180 + 5 hop and pops and runs from 8AM to 6PM (ish) \nYou do not need to wait till you are B qualified. We are often asked when is the best time to take this course\, our answer\, NOW! We will help you better understand how your wing flies and how to maximize your canopy skills. The skills you learn from this course apply to any canopy. We will teach you how to learn the canopy you are jumping and how to use this knowledge and skills to learn any other wing. \nTo register for this course\, please go to our contact page
URL:https://theratingscenter.com/calendar/basic-canopy-course-56/
LOCATION:Skydive Spaceland Houston\, 16111 FM 521\, Rosharon\, TX\, 77583\, United States
CATEGORIES:Canopy Course
END:VEVENT
BEGIN:VEVENT
DTSTART;TZID=America/Chicago:20210730T080000
DTEND;TZID=America/Chicago:20210801T180000
DTSTAMP:20260425T070903
CREATED:20210615T134641Z
LAST-MODIFIED:20210615T134641Z
UID:6295-1627632000-1627840800@theratingscenter.com
SUMMARY:USPA Coach Course
DESCRIPTION:The USPA Coach is the first instructional rating a skydiver can earn in our sport. During the course we will cover effective communication of skydiving skills for others. The coach rating is required to attend any other instructor rating course. For more information\, including rates\, check out the Coach Page on our website. To register for this course\, please go to our contact page
URL:https://theratingscenter.com/calendar/uspa-coach-course-32/
LOCATION:Skydive Spaceland Houston\, 16111 FM 521\, Rosharon\, TX\, 77583\, United States
CATEGORIES:Coach Course
END:VEVENT
BEGIN:VEVENT
DTSTART;TZID=America/Chicago:20210717T080000
DTEND;TZID=America/Chicago:20210717T180000
DTSTAMP:20260425T070903
CREATED:20210524T154411Z
LAST-MODIFIED:20210524T154411Z
UID:6278-1626508800-1626544800@theratingscenter.com
SUMMARY:Basic Canopy Course
DESCRIPTION:Got your A License? It’s time to take a canopy course! \nThe course cost is $180 + 5 hop and pops and runs from 8AM to 6PM (ish) \nYou do not need to wait till you are B qualified. We are often asked when is the best time to take this course\, our answer\, NOW! We will help you better understand how your wing flies and how to maximize your canopy skills. The skills you learn from this course apply to any canopy. We will teach you how to learn the canopy you are jumping and how to use this knowledge and skills to learn any other wing. \nTo register for this course\, please go to our contact page
URL:https://theratingscenter.com/calendar/basic-canopy-course-53/
LOCATION:Skydive Spaceland San Marcos\, 517 Airfield Rd.\, Fentress\, TX\, 78622\, United States
CATEGORIES:Canopy Course
END:VEVENT
BEGIN:VEVENT
DTSTART;TZID=America/Chicago:20210712T080000
DTEND;TZID=America/Chicago:20210718T180000
DTSTAMP:20260425T070903
CREATED:20210615T134520Z
LAST-MODIFIED:20210615T134520Z
UID:6293-1626076800-1626631200@theratingscenter.com
SUMMARY:USPA AFF Instructor Course
DESCRIPTION:The USPA AFF Instructor Rating Course typically completes in up to 7 days. During the course we will discuss USPA’s AFF Student Program\, including how to conduct ground training and skydives with AFF students. You will be evaluated in ground training sessions and conducting AFF jumps\, including the preload process and debrief. For more information\, including rates\, check out the AFF Instructor Rating Page on our website. To register for this course\, please go to our contact page
URL:https://theratingscenter.com/calendar/uspa-aff-instructor-course-13/
LOCATION:Skydive Spaceland Houston\, 16111 FM 521\, Rosharon\, TX\, 77583\, United States
CATEGORIES:AFF Course
END:VEVENT
BEGIN:VEVENT
DTSTART;TZID=America/Chicago:20210710T080000
DTEND;TZID=America/Chicago:20210710T180000
DTSTAMP:20260425T070903
CREATED:20210524T154204Z
LAST-MODIFIED:20210524T154204Z
UID:6274-1625904000-1625940000@theratingscenter.com
SUMMARY:Basic Canopy Course
DESCRIPTION:Got your A License? It’s time to take a canopy course! \nThe course cost is $180 + 5 hop and pops and runs from 8AM to 6PM (ish) \nYou do not need to wait till you are B qualified. We are often asked when is the best time to take this course\, our answer\, NOW! We will help you better understand how your wing flies and how to maximize your canopy skills. The skills you learn from this course apply to any canopy. We will teach you how to learn the canopy you are jumping and how to use this knowledge and skills to learn any other wing. \nTo register for this course\, please go to our contact page
URL:https://theratingscenter.com/calendar/basic-canopy-course-51/
LOCATION:Skydive Spaceland Houston\, 16111 FM 521\, Rosharon\, TX\, 77583\, United States
CATEGORIES:Canopy Course
END:VEVENT
BEGIN:VEVENT
DTSTART;TZID=America/Chicago:20210710T080000
DTEND;TZID=America/Chicago:20210710T180000
DTSTAMP:20260425T070903
CREATED:20210429T220134Z
LAST-MODIFIED:20210429T220134Z
UID:6261-1625904000-1625940000@theratingscenter.com
SUMMARY:Basic Canopy Course
DESCRIPTION:Got your A License? It’s time to take a canopy course! \nThe course cost is $180 + 5 hop and pops and runs from 8AM to 6PM (ish) \nYou do not need to wait till you are B qualified. We are often asked when is the best time to take this course\, our answer\, NOW! We will help you better understand how your wing flies and how to maximize your canopy skills. The skills you learn from this course apply to any canopy. We will teach you how to learn the canopy you are jumping and how to use this knowledge and skills to learn any other wing. \nTo register for this course\, please go to our contact page
URL:https://theratingscenter.com/calendar/basic-canopy-course-49/
LOCATION:Skydive Spaceland Dallas\, 1039 Private Rd. 438\, Whitewright\, TX\, 75491\, United States
CATEGORIES:Canopy Course
END:VEVENT
BEGIN:VEVENT
DTSTART;TZID=America/Chicago:20210706T080000
DTEND;TZID=America/Chicago:20210708T180000
DTSTAMP:20260425T070903
CREATED:20210615T134203Z
LAST-MODIFIED:20210615T134203Z
UID:6291-1625558400-1625767200@theratingscenter.com
SUMMARY:USPA/UPT Sigma Tandem Instructor Course
DESCRIPTION:For more information\, including rates\, check out the Tandem Instructor Rating Page on our website. To register for this course\, please go to our contact page
URL:https://theratingscenter.com/calendar/uspa-upt-sigma-tandem-instructor-course-15/
LOCATION:Skydive Spaceland Houston\, 16111 FM 521\, Rosharon\, TX\, 77583\, United States
CATEGORIES:UPT Vector/Sigma Tandem Course,USPA Tandem Course
END:VEVENT
BEGIN:VEVENT
DTSTART;TZID=America/Chicago:20210629T080000
DTEND;TZID=America/Chicago:20210701T180000
DTSTAMP:20260425T070903
CREATED:20210610T135522Z
LAST-MODIFIED:20210610T135522Z
UID:6281-1624953600-1625162400@theratingscenter.com
SUMMARY:USPA Coach Course
DESCRIPTION:The USPA Coach is the first instructional rating a skydiver can earn in our sport. During the course we will cover effective communication of skydiving skills for others. The coach rating is required to attend any other instructor rating course. For more information\, including rates\, check out the Coach Page on our website. To register for this course\, please go to our contact page
URL:https://theratingscenter.com/calendar/uspa-coach-course-31/
LOCATION:Skydive Spaceland San Marcos\, 517 Airfield Rd.\, Fentress\, TX\, 78622\, United States
CATEGORIES:Coach Course
END:VEVENT
BEGIN:VEVENT
DTSTART;TZID=America/Chicago:20210626T080000
DTEND;TZID=America/Chicago:20210626T180000
DTSTAMP:20260425T070903
CREATED:20210524T154313Z
LAST-MODIFIED:20210524T154313Z
UID:6276-1624694400-1624730400@theratingscenter.com
SUMMARY:Basic Canopy Course
DESCRIPTION:Got your A License? It’s time to take a canopy course! \nThe course cost is $180 + 5 hop and pops and runs from 8AM to 6PM (ish) \nYou do not need to wait till you are B qualified. We are often asked when is the best time to take this course\, our answer\, NOW! We will help you better understand how your wing flies and how to maximize your canopy skills. The skills you learn from this course apply to any canopy. We will teach you how to learn the canopy you are jumping and how to use this knowledge and skills to learn any other wing. \nTo register for this course\, please go to our contact page
URL:https://theratingscenter.com/calendar/basic-canopy-course-52/
LOCATION:Skydive Spaceland San Marcos\, 517 Airfield Rd.\, Fentress\, TX\, 78622\, United States
CATEGORIES:Canopy Course
END:VEVENT
BEGIN:VEVENT
DTSTART;TZID=America/Chicago:20210621T080000
DTEND;TZID=America/Chicago:20210627T180000
DTSTAMP:20260425T070903
CREATED:20210510T200342Z
LAST-MODIFIED:20210510T200342Z
UID:6265-1624262400-1624816800@theratingscenter.com
SUMMARY:USPA AFF Instructor Course
DESCRIPTION:The USPA AFF Instructor Rating Course typically completes in up to 7 days. During the course we will discuss USPA’s AFF Student Program\, including how to conduct ground training and skydives with AFF students. You will be evaluated in ground training sessions and conducting AFF jumps\, including the preload process and debrief. For more information\, including rates\, check out the AFF Instructor Rating Page on our website. To register for this course\, please go to our contact page
URL:https://theratingscenter.com/calendar/uspa-aff-instructor-course-12/
LOCATION:Skydive Spaceland Dallas\, 1039 Private Rd. 438\, Whitewright\, TX\, 75491\, United States
CATEGORIES:AFF Course
END:VEVENT
END:VCALENDAR