BEGIN:VCALENDAR
VERSION:2.0
PRODID:-//The Ratings Center - ECPv6.15.18//NONSGML v1.0//EN
CALSCALE:GREGORIAN
METHOD:PUBLISH
X-WR-CALNAME:The Ratings Center
X-ORIGINAL-URL:https://theratingscenter.com
X-WR-CALDESC:Events for The Ratings Center
REFRESH-INTERVAL;VALUE=DURATION:PT1H
X-Robots-Tag:noindex
X-PUBLISHED-TTL:PT1H
BEGIN:VTIMEZONE
TZID:America/Chicago
BEGIN:DAYLIGHT
TZOFFSETFROM:-0600
TZOFFSETTO:-0500
TZNAME:CDT
DTSTART:20180311T080000
END:DAYLIGHT
BEGIN:STANDARD
TZOFFSETFROM:-0500
TZOFFSETTO:-0600
TZNAME:CST
DTSTART:20181104T070000
END:STANDARD
BEGIN:DAYLIGHT
TZOFFSETFROM:-0600
TZOFFSETTO:-0500
TZNAME:CDT
DTSTART:20190310T080000
END:DAYLIGHT
BEGIN:STANDARD
TZOFFSETFROM:-0500
TZOFFSETTO:-0600
TZNAME:CST
DTSTART:20191103T070000
END:STANDARD
BEGIN:DAYLIGHT
TZOFFSETFROM:-0600
TZOFFSETTO:-0500
TZNAME:CDT
DTSTART:20200308T080000
END:DAYLIGHT
BEGIN:STANDARD
TZOFFSETFROM:-0500
TZOFFSETTO:-0600
TZNAME:CST
DTSTART:20201101T070000
END:STANDARD
BEGIN:DAYLIGHT
TZOFFSETFROM:-0600
TZOFFSETTO:-0500
TZNAME:CDT
DTSTART:20210314T080000
END:DAYLIGHT
BEGIN:STANDARD
TZOFFSETFROM:-0500
TZOFFSETTO:-0600
TZNAME:CST
DTSTART:20211107T070000
END:STANDARD
END:VTIMEZONE
BEGIN:VEVENT
DTSTART;TZID=America/Chicago:20200208T080000
DTEND;TZID=America/Chicago:20200208T180000
DTSTAMP:20260425T232305
CREATED:20191208T160500Z
LAST-MODIFIED:20200224T193706Z
UID:1996-1581148800-1581184800@theratingscenter.com
SUMMARY:Basic Canopy Course
DESCRIPTION:Got your A License? It’s time to take a canopy course! \nThe course cost is $160 + 5 hop and pops and runs from 8AM to 6PM (ish) \nYou do not need to wait till you are B qualified. We are often asked when is the best time to take this course\, our answer\, NOW! We will help you better understand how your wing flies and how to maximize your canopy skills. The skills you learn from this course apply to any canopy. We will teach you how to learn the canopy you are jumping and how to use this knowledge and skills to learn any other wing. \nTo register for this course\, please go to our contact page
URL:https://theratingscenter.com/calendar/basic-canopy-course-6/
LOCATION:Skydive Spaceland Houston\, 16111 FM 521\, Rosharon\, TX\, 77583\, United States
CATEGORIES:Canopy Course
END:VEVENT
BEGIN:VEVENT
DTSTART;TZID=America/Chicago:20200203T080000
DTEND;TZID=America/Chicago:20200205T180000
DTSTAMP:20260425T232305
CREATED:20200109T171320Z
LAST-MODIFIED:20200109T172046Z
UID:3461-1580716800-1580925600@theratingscenter.com
SUMMARY:USPA/UPT Sigma Tandem Instructor Course
DESCRIPTION:For more information\, including rates\, check out the Tandem Instructor Rating Page on our website. To register for this course\, please go to our contact page
URL:https://theratingscenter.com/calendar/uspa-upt-sigma-tandem-instructor-course/
LOCATION:Skydive Spaceland Houston\, 16111 FM 521\, Rosharon\, TX\, 77583\, United States
CATEGORIES:UPT Vector/Sigma Tandem Course
END:VEVENT
BEGIN:VEVENT
DTSTART;TZID=America/Chicago:20200124T080000
DTEND;TZID=America/Chicago:20200126T180000
DTSTAMP:20260425T232305
CREATED:20191205T173914Z
LAST-MODIFIED:20191208T155818Z
UID:1854-1579852800-1580061600@theratingscenter.com
SUMMARY:USPA Coach Course
DESCRIPTION:The USPA Coach is the first instructional rating a skydiver can earn in our sport. During the course we will cover effective communication of skydiving skills for others. The coach rating is required to attend any other instructor rating course. For more information\, including rates\, check out the Coach Page on our website. To register for this course\, please go to our contact page
URL:https://theratingscenter.com/calendar/uspa-coach-course-3/
LOCATION:Skydive Spaceland Dallas\, 1039 Private Rd. 438\, Whitewright\, TX\, 75491\, United States
CATEGORIES:Coach Course
END:VEVENT
BEGIN:VEVENT
DTSTART;TZID=America/Chicago:20200113T080000
DTEND;TZID=America/Chicago:20200119T180000
DTSTAMP:20260425T232305
CREATED:20191208T155743Z
LAST-MODIFIED:20191208T155743Z
UID:1994-1578902400-1579456800@theratingscenter.com
SUMMARY:USPA AFF Instructor Course
DESCRIPTION:The USPA AFF Instructor Rating Course typically completes in up to 7 days. During the course we will discuss USPA’s AFF Student Program\, including how to conduct ground training and skydives with AFF students. You will be evaluated in ground training sessions and conducting AFF jumps\, including the preload process and debrief. For more information\, including rates\, check out the AFF Instructor Rating Page on our website. To register for this course\, please go to our contact page
URL:https://theratingscenter.com/calendar/uspa-aff-instructor-course/
LOCATION:Skydive Spaceland Houston\, 16111 FM 521\, Rosharon\, TX\, 77583\, United States
CATEGORIES:AFF Course
END:VEVENT
BEGIN:VEVENT
DTSTART;TZID=America/Chicago:20200111T080000
DTEND;TZID=America/Chicago:20200111T180000
DTSTAMP:20260425T232305
CREATED:20191105T185840Z
LAST-MODIFIED:20191208T161551Z
UID:927-1578729600-1578765600@theratingscenter.com
SUMMARY:Basic Canopy Course
DESCRIPTION:Got your A License? It’s time to take a canopy course! \nThe course cost is $160 + 5 hop and pops and runs from 8AM to 6PM (ish) \nYou do not need to wait till you are B qualified. We are often asked when is the best time to take this course\, our answer\, NOW! We will help you better understand how your wing flies and how to maximize your canopy skills. The skills you learn from this course apply to any canopy. We will teach you how to learn the canopy you are jumping and how to use this knowledge and skills to learn any other wing. \nTo register for this course\, please go to our contact page
URL:https://theratingscenter.com/calendar/basic-canopy-course-4/
LOCATION:Skydive Spaceland Houston\, 16111 FM 521\, Rosharon\, TX\, 77583\, United States
CATEGORIES:Canopy Course
END:VEVENT
BEGIN:VEVENT
DTSTART;TZID=America/Chicago:20191217T080000
DTEND;TZID=America/Chicago:20191219T180000
DTSTAMP:20260425T232305
CREATED:20191118T181302Z
LAST-MODIFIED:20191208T155847Z
UID:1388-1576569600-1576778400@theratingscenter.com
SUMMARY:USPA Coach Course
DESCRIPTION:The USPA Coach is the first instructional rating a skydiver can earn in our sport. During the course we will cover effective communication of skydiving skills for others. The coach rating is required to attend any other instructor rating course. For more information\, including rates\, check out the Coach Page on our website. To register for this course\, please go to our contact page
URL:https://theratingscenter.com/calendar/uspa-coach-course-2/
LOCATION:Skydive Spaceland Houston\, 16111 FM 521\, Rosharon\, TX\, 77583\, United States
CATEGORIES:Coach Course
END:VEVENT
BEGIN:VEVENT
DTSTART;TZID=America/Chicago:20191216T080000
DTEND;TZID=America/Chicago:20191216T180000
DTSTAMP:20260425T232305
CREATED:20191118T144418Z
LAST-MODIFIED:20191118T144518Z
UID:1381-1576483200-1576519200@theratingscenter.com
SUMMARY:AFF Instructor Recurrency Training (PRIVATE)
DESCRIPTION:
URL:https://theratingscenter.com/calendar/aff-instructor-recurrency-training/
LOCATION:Skydive Spaceland Houston\, 16111 FM 521\, Rosharon\, TX\, 77583\, United States
END:VEVENT
BEGIN:VEVENT
DTSTART;TZID=America/Chicago:20191214T080000
DTEND;TZID=America/Chicago:20191214T180000
DTSTAMP:20260425T232305
CREATED:20191105T183413Z
LAST-MODIFIED:20191105T183413Z
UID:925-1576310400-1576346400@theratingscenter.com
SUMMARY:Basic Canopy Course
DESCRIPTION:Got your A License? It’s time to take a canopy course! \nThe course cost is $160 + 5 hop and pops and runs from 8AM to 6PM (ish) \n\nYou do not need to wait till you are B qualified. We are often asked when is the best time to take this course\, our answer\, NOW! We will help you better understand how your wing flies and how to maximize your canopy skills. The skills you learn from this course apply to any canopy. We will teach you how to learn the canopy you are jumping and how to use this knowledge and skills to learn any other wing.
URL:https://theratingscenter.com/calendar/basic-canopy-course-3/
LOCATION:Skydive Spaceland Houston\, 16111 FM 521\, Rosharon\, TX\, 77583\, United States
CATEGORIES:Canopy Course
END:VEVENT
BEGIN:VEVENT
DTSTART;TZID=America/Chicago:20191206T080000
DTEND;TZID=America/Chicago:20191208T180000
DTSTAMP:20260425T232305
CREATED:20191113T200624Z
LAST-MODIFIED:20191208T155934Z
UID:1267-1575619200-1575828000@theratingscenter.com
SUMMARY:USPA Coach Course
DESCRIPTION:The USPA Coach is the first instructional rating a skydiver can earn in our sport. During the course we will cover effective communication of skydiving skills for others. The coach rating is required to attend any other instructor rating course. For more information\, including rates\, check out the Coach Page on our website. To register for this course\, please go to our contact page
URL:https://theratingscenter.com/calendar/uspa-coach-course/
LOCATION:Skydive Spaceland Houston\, 16111 FM 521\, Rosharon\, TX\, 77583\, United States
CATEGORIES:Coach Course
END:VEVENT
BEGIN:VEVENT
DTSTART;TZID=America/Chicago:20191123T080000
DTEND;TZID=America/Chicago:20191123T180000
DTSTAMP:20260425T232305
CREATED:20191107T154651Z
LAST-MODIFIED:20191107T154651Z
UID:1077-1574496000-1574532000@theratingscenter.com
SUMMARY:Basic Canopy Course
DESCRIPTION:Whether you are a recent graduate or a seasoned jumper\, the Basic Canopy Course can help sharpen your flight skills and knowledge. This course will also help you complete the Canopy Proficiency Card for your B License.
URL:https://theratingscenter.com/calendar/basic-canopy-course-5/
LOCATION:Skydive Spaceland San Marcos\, 517 Airfield Rd.\, Fentress\, TX\, 78622\, United States
CATEGORIES:Canopy Course
END:VEVENT
BEGIN:VEVENT
DTSTART;TZID=America/Chicago:20191119T080000
DTEND;TZID=America/Chicago:20191119T180000
DTSTAMP:20260425T232305
CREATED:20191118T143740Z
LAST-MODIFIED:20191118T143740Z
UID:1379-1574150400-1574186400@theratingscenter.com
SUMMARY:UPT Sigma Tandem Instructor Recurrency Training
DESCRIPTION:
URL:https://theratingscenter.com/calendar/upt-sigma-tandem-instructor-recurrency-training/
LOCATION:Skydive Spaceland Houston\, 16111 FM 521\, Rosharon\, TX\, 77583\, United States
END:VEVENT
BEGIN:VEVENT
DTSTART;TZID=America/Chicago:20191115T080000
DTEND;TZID=America/Chicago:20191117T180000
DTSTAMP:20260425T232305
CREATED:20191111T185146Z
LAST-MODIFIED:20191208T160016Z
UID:1203-1573804800-1574013600@theratingscenter.com
SUMMARY:En español - USPA Coach Course
DESCRIPTION:The USPA Coach is the first instructional rating a skydiver can earn in our sport. During the course we will cover effective communication of skydiving skills for others. The coach rating is required to attend any other instructor rating course. For more information\, including rates\, check out the Coach Page on our website.
URL:https://theratingscenter.com/calendar/en-espanol-uspa-coach-course/
LOCATION:Skydive Spaceland Houston\, 16111 FM 521\, Rosharon\, TX\, 77583\, United States
CATEGORIES:Coach Course
END:VEVENT
BEGIN:VEVENT
DTSTART;TZID=America/Chicago:20191109T080000
DTEND;TZID=America/Chicago:20191109T180000
DTSTAMP:20260425T232305
CREATED:20191105T183321Z
LAST-MODIFIED:20191105T183321Z
UID:923-1573286400-1573322400@theratingscenter.com
SUMMARY:Basic Canopy Course
DESCRIPTION:Got your A License? It’s time to take a canopy course! \nThe course cost is $160 + 5 hop and pops and runs from 8AM to 6PM (ish) \n\nYou do not need to wait till you are B qualified. We are often asked when is the best time to take this course\, our answer\, NOW! We will help you better understand how your wing flies and how to maximize your canopy skills. The skills you learn from this course apply to any canopy. We will teach you how to learn the canopy you are jumping and how to use this knowledge and skills to learn any other wing.
URL:https://theratingscenter.com/calendar/basic-canopy-course-2/
LOCATION:Skydive Spaceland Houston\, 16111 FM 521\, Rosharon\, TX\, 77583\, United States
CATEGORIES:Canopy Course
END:VEVENT
BEGIN:VEVENT
DTSTART;TZID=America/Chicago:20191108T080000
DTEND;TZID=America/Chicago:20191110T180000
DTSTAMP:20260425T232305
CREATED:20191105T172955Z
LAST-MODIFIED:20191106T002131Z
UID:915-1573200000-1573408800@theratingscenter.com
SUMMARY:USPA Coach Rating Course
DESCRIPTION:The USPA Coach is the first instructional rating a skydiver can earn in our sport. During the course we will cover effective communication of skydiving skills for others. The coach rating is required to attend any other instructor rating course.
URL:https://theratingscenter.com/calendar/uspa-coach-rating-course-2/
LOCATION:Skydive Spaceland San Marcos\, 517 Airfield Rd.\, Fentress\, TX\, 78622\, United States
CATEGORIES:Coach Course
END:VEVENT
BEGIN:VEVENT
DTSTART;TZID=America/Chicago:20191104T080000
DTEND;TZID=America/Chicago:20191106T180000
DTSTAMP:20260425T232305
CREATED:20191105T172609Z
LAST-MODIFIED:20191106T002202Z
UID:913-1572854400-1573063200@theratingscenter.com
SUMMARY:En Español - USPA/UPT Sigma Tandem Instructor Course
DESCRIPTION:
URL:https://theratingscenter.com/calendar/en-espanol-uspa-upt-sigma-tandem-instructor-course/
LOCATION:Skydive Spaceland Houston\, 16111 FM 521\, Rosharon\, TX\, 77583\, United States
END:VEVENT
BEGIN:VEVENT
DTSTART;VALUE=DATE:20190326
DTEND;VALUE=DATE:20190329
DTSTAMP:20260425T232305
CREATED:20190325T134241Z
LAST-MODIFIED:20190325T142703Z
UID:189-1553558400-1553817599@theratingscenter.com
SUMMARY:USPA Coach Rating Course
DESCRIPTION:
URL:https://theratingscenter.com/calendar/uspa-coach-rating-course/
LOCATION:Skydive Spaceland Houston\, 16111 FM 521\, Rosharon\, TX\, 77583\, United States
CATEGORIES:Coach Course
END:VEVENT
BEGIN:VEVENT
DTSTART;VALUE=DATE:20190316
DTEND;VALUE=DATE:20190317
DTSTAMP:20260425T232305
CREATED:20190326T012703Z
LAST-MODIFIED:20190326T012703Z
UID:346-1552694400-1552780799@theratingscenter.com
SUMMARY:Basic Canopy Course
DESCRIPTION:
URL:https://theratingscenter.com/calendar/basic-canopy-course/
LOCATION:Skydive Spaceland Dallas\, 1039 Private Rd. 438\, Whitewright\, TX\, 75491\, United States
CATEGORIES:Canopy Course
END:VEVENT
END:VCALENDAR